Workbook

Sheet Information
A1: LEA Profile Information
A3: The Office of Special Education Programs (OSEP) requires states to publicly report how the Local Education Agency (LEA) compares (profiles) to the state’s State Performance Plan (SPP)/Annual Performance Report. The data used are from the 2020-21 reporting year for all indicators except Indicators 1, 2, and 4 which use 2019-20 lag data. Data include the LEA’s results on Indicators 1-14 on the SPP. LEA indicator results are compared to the state target. There are no points or levels. There are simply results on the indicators. The profile provides stakeholders with information about the LEA on the requirements of IDEA.
A4: In this document, you will find your LEA Data Profile (Indicators 1-14) for the 2020-21 reporting year.
A5: LEA Determination Information
A7: The LEA determinations are required by OSEP and do not include all indicators. The determinations use of indicators are 1) required by OSEP to be included and 2) identified by the Office of Special Education Services (OSES) as the most influential to outcomes. Results are grouped into two factors - Compliance Factors (CF) and Performance Factors (PF).
A8: The State chooses if determinations are published. The OSEP requires the OSES to make a “determination” or rank the LEA on a specific level that determines assistance or Technical Assistance (TA) for the LEA. OSES uses the determinations to inform the LEA’s tier on the System of Tiered Assistance (SoTA).
A9: In this document, you will find your LEA Determination for the 2020-21 reporting year. The Determination uses 2019-20 data for the Compliance Factors and 2020-21 data for the Performance Factors.

Sheet Profile
E1: 2020-2021 Special Education Profile
A3: Greenwood 52
A4: =+VLOOKUP(A3,Data!A1:CM89,2,FALSE) -> 605 Johnston Road
A5: =+VLOOKUP(A3,Data!A1:CM89,3,FALSE) -> Ninet;y Six | G5: =+VLOOKUP(A3,Data!A1:CM89,4,FALSE) -> SC | I5: =+VLOOKUP(A3,Data!A1:CM89,5,FALSE) -> 29666
A7: Indicators
A8: Indicator 1
A9: Indicator 1: Graduation
A10: Percent of youth with IEPs graduating with a high school diploma
A11: Target | B11: >= | C11: 0.6013 | D11: State | E11: 0.6013 | F11: Score | G11: =VLOOKUP(A3,Data!A1:CM89,35,FALSE) -> 0.75 | H11: Status | I11: =IF(OR(G11="NA",G11="**"),"NA",IF(G11<C11,"Not Met","Met")) -> Met
A12: Indicator 2
A13: Indicator 2: Dropout
A14: Percent of youth with IEPs dropping out of high school
A15: Target | B15: <= | C15: 0.25 | D15: State | E15: 0.25 | F15: Score | G15: =VLOOKUP(A3,Data!A1:CM89,36,FALSE) -> 0.25 | H15: Status | I15: =IF(OR(G15="NA",G15="**"),"NA",IF(G15>C15,"Not Met","Met")) -> Met
A16: Indicator 3
A17: Indicator 3A, ELA 4th Grade
A18: Participation rate of children with IEPs in a 4th grade setting for ELA
A19: Target | B19: >= | C19: 0.95 | D19: State | E19: 0.8979 | F19: Score | G19: =VLOOKUP(A3,Data!A1:CM89,37,FALSE) -> 1 | H19: Status | I19: =IF(OR(G19="NA",G19="**"),"NA",IF(G19<C19,"Not Met","Met")) -> Met
A20: Indicator 3A, ELA 8th Grade
A21: Participation rate of children with IEPs in an 8th grade setting for ELA
A22: Target | B22: >= | C22: 0.95 | D22: State | E22: 0.7973 | F22: Score | G22: =VLOOKUP(A3,Data!A1:CM89,38,FALSE) -> 1 | H22: Status | I22: =IF(OR(G22="NA",G22="**"),"NA",IF(G22<C22,"Not Met","Met")) -> Met
A23: Indicator 3A, ELA HS
A24: Participation rate of children with IEPs in a High School setting for ELA
A25: Target | B25: >= | C25: 0.95 | D25: State | E25: 0.8209 | F25: Score | G25: =VLOOKUP(A3,Data!A1:CM89,39,FALSE) -> 1 | H25: Status | I25: =IF(OR(G25="NA",G25="**"),"NA",IF(G25<C25,"Not Met","Met")) -> Met
A26: Indicator 3A, Math 4th Grade
A27: Participation rate of children with IEPs in a 4th grade setting for Math
A28: Target | B28: >= | C28: 0.95 | D28: State | E28: 0.9012 | F28: Score | G28: =VLOOKUP(A3,Data!A1:CM89,40,FALSE) -> 1 | H28: Status | I28: =IF(OR(G28="NA",G28="**"),"NA",IF(G28<C28,"Not Met","Met")) -> Met
A29: Indicator 3A, Math 8th Grade
A30: Participation rate of children with IEPs in an 8th grade setting for Math
A31: Target | B31: >= | C31: 0.95 | D31: State | E31: 0.8036 | F31: Score | G31: =VLOOKUP(A3,Data!A1:CM89,41,FALSE) -> 1 | H31: Status | I31: =IF(OR(G31="NA",G31="**"),"NA",IF(G31<C31,"Not Met","Met")) -> Met
A32: Indicator 3A, HS Math
A33: Participation rate of children with IEPs in a High School setting for Math
A34: Target | B34: >= | C34: 0.95 | D34: State | E34: 0.7516 | F34: Score | G34: =VLOOKUP(A3,Data!A1:CM89,42,FALSE) -> 0.9412 | H34: Status | I34: =IF(OR(G34="NA",G34="**"),"NA",IF(G34<C34,"Not Met","Met")) -> Not Met
A35: Indicator 3B, ELA 4th Grade
A36: Profiency rate of children with IEPs in a 4th grade setting against grade level academic standards for ELA
A37: Target | B37: >= | C37: 0.1651 | D37: State | E37: 0.1651 | F37: Score | G37: =VLOOKUP(A3,Data!A1:CM89,43,FALSE) -> 0.2353 | H37: Status | I37: =IF(OR(G37="NA",G37="**"),"NA",IF(G37<C37,"Not Met","Met")) -> Met
A38: Indicator 3B, ELA 8th Grade
A39: Profiency rate of children with IEPs in an 8th grade setting against grade level academic standards for ELA
A40: Target | B40: >= | C40: 0.0714 | D40: State | E40: 0.0714 | F40: Score | G40: =VLOOKUP(A3,Data!A1:CM89,44,FALSE) -> 0 | H40: Status | I40: =IF(OR(G40="NA",G40="**"),"NA",IF(G40<C40,"Not Met","Met")) -> Not Met
A41: Indicator 3B, ELA HS
A42: Profiency rate of children with IEPs in a High School setting against grade level academic standards for ELA
A43: Target | B43: >= | C43: 0.4381 | D43: State | E43: 0.4381 | F43: Score | G43: =VLOOKUP(A3,Data!A1:CM89,45,FALSE) -> 0.625 | H43: Status | I43: =IF(OR(G43="NA",G43="**"),"NA",IF(G43<C43,"Not Met","Met")) -> Met
A44: Indicator 3B, Math 4th Grade
A45: Profiency rate of children with IEPs in a 4th grade setting against grade level academic standards for Math
A46: Target | B46: >= | C46: 0.1669 | D46: State | E46: 0.1669 | F46: Score | G46: =VLOOKUP(A3,Data!A1:CM89,46,FALSE) -> 0.4118 | H46: Status | I46: =IF(OR(G46="NA",G46="**"),"NA",IF(G46<C46,"Not Met","Met")) -> Met
A47: Indicator 3B, Math 8th Grade
A48: Profiency rate of children with IEPs in a 8th grade setting against grade level academic standards for Math
A49: Target | B49: >= | C49: 0.0498 | D49: State | E49: 0.0498 | F49: Score | G49: =VLOOKUP(A3,Data!A1:CM89,47,FALSE) -> 0 | H49: Status | I49: =IF(OR(G49="NA",G49="**"),"NA",IF(G49<C49,"Not Met","Met")) -> Not Met
A50: Indicator 3B, Math HS
A51: Profiency rate of children with IEPs in High School setting against grade level academic standards for Math
A52: Target | B52: >= | C52: 0.2257 | D52: State | E52: 0.2257 | F52: Score | G52: =VLOOKUP(A3,Data!A1:CM89,48,FALSE) -> 0.1875 | H52: Status | I52: =IF(OR(G52="NA",G52="**"),"NA",IF(G52<C52,"Not Met","Met")) -> Not Met
A53: Indicator 3C, ELA 4th Grade
A54: Profiency rate of children with IEPs in a 4th grade setting against alternate academic standards for ELA
A55: Target | B55: >= | C55: 0.5346 | D55: State | E55: 0.5346 | F55: Score | G55: =VLOOKUP(A3,Data!A1:CM89,49,FALSE) -> NA | H55: Status | I55: =IF(OR(G55="NA",G55="**"),"NA",IF(G55<C55,"Not Met","Met")) -> NA
A56: Indicator 3C, ELA 8th Grade
A57: Profiency rate of children with IEPs in an 8th grade setting against alternate academic standards for ELA
A58: Target | B58: >= | C58: 0.3626 | D58: State | E58: 0.3626 | F58: Score | G58: =VLOOKUP(A3,Data!A1:CM89,50,FALSE) -> 1 | H58: Status | I58: =IF(OR(G58="NA",G58="**"),"NA",IF(G58<C58,"Not Met","Met")) -> Met
A59: Indicator 3C, ELA HS
A60: Profiency rate of children with IEPs in a High School setting against alternate academic standards for ELA
A61: Target | B61: >= | C61: 0.4753 | D61: State | E61: 0.4753 | F61: Score | G61: =VLOOKUP(A3,Data!A1:CM89,51,FALSE) -> NA | H61: Status | I61: =IF(OR(G61="NA",G61="**"),"NA",IF(G61<C61,"Not Met","Met")) -> NA
A62: Indicator 3C, Math 4th Grade
A63: Profiency rate of children with IEPs in a 4th grade setting against alternate academic standards for Math
A64: Target | B64: >= | C64: 0.417 | D64: State | E64: 0.417 | F64: Score | G64: =VLOOKUP(A3,Data!A1:CM89,52,FALSE) -> NA | H64: Status | I64: =IF(OR(G64="NA",G64="**"),"NA",IF(G64<C64,"Not Met","Met")) -> NA
A65: Indicator 3C, Math 8th Grade
A66: Profiency rate of children with IEPs in a 8th grade setting against alternate academic standards for Math
A67: Target | B67: >= | C67: 0.3698 | D67: State | E67: 0.3698 | F67: Score | G67: =VLOOKUP(A3,Data!A1:CM89,53,FALSE) -> 1 | H67: Status | I67: =IF(OR(G67="NA",G67="**"),"NA",IF(G67<C67,"Not Met","Met")) -> Met
A68: Indicator 3C, Math HS
A69: Profiency rate of children with IEPs in a High School setting against alternate academic standards for Math
A70: Target | B70: >= | C70: 0.3816 | D70: State | E70: 0.3816 | F70: Score | G70: =VLOOKUP(A3,Data!A1:CM89,54,FALSE) -> NA | H70: Status | I70: =IF(OR(G70="NA",G70="**"),"NA",IF(G70<C70,"Not Met","Met")) -> NA
A71: Indicator 3D, ELA 4th Grade
A72: Profiency rate gap of children with IEPs in a 4th grade setting against 2020-2021 grade level academic standards for ELA
A73: Target | B73: <= | C73: 0.2953 | D73: State | E73: 0.2953 | F73: Score | G73: =VLOOKUP(A3,Data!A1:CM89,55,FALSE) -> 0.348 | H73: Status | I73: =IF(OR(G73="NA",G73="**"),"NA",IF(G73>C73,"Not Met","Met")) -> Not Met
A74: Indicator 3D, ELA 8th Grade
A75: Profiency rate gap of children with IEPs in an 8th grade setting against 2020-2021 grade level academic standards for ELA
A76: Target | B76: <= | C76: 0.3481 | D76: State | E76: 0.3481 | F76: Score | G76: =VLOOKUP(A3,Data!A1:CM89,56,FALSE) -> 0.4776 | H76: Status | I76: =IF(OR(G76="NA",G76="**"),"NA",IF(G76>C76,"Not Met","Met")) -> Not Met
A77: Indicator 3D, ELA HS
A78: Profiency rate gap of children with IEPs in a High School setting against 2020-2021 grade level academic standards for ELA
A79: Target | B79: <= | C79: 0.3968 | D79: State | E79: 0.3968 | F79: Score | G79: =VLOOKUP(A3,Data!A1:CM89,57,FALSE) -> 0.2205 | H79: Status | I79: =IF(OR(G79="NA",G79="**"),"NA",IF(G79>C79,"Not Met","Met")) -> Met
A80: Indicator 3D, Math 4th Grade
A81: Profiency rate gap of children with IEPs in a 4th grade setting against 2020-2021 grade level academic standards for Math
A82: Target | B82: <= | C82: 0.2526 | D82: State | E82: 0.2526 | F82: Score | G82: =VLOOKUP(A3,Data!A1:CM89,58,FALSE) -> 0.2466 | H82: Status | I82: =IF(OR(G82="NA",G82="**"),"NA",IF(G82>C82,"Not Met","Met")) -> Met
A83: Indicator 3D, Math 8th Grade
A84: Profiency rate gap of children with IEPs in an 8th grade setting against 2020-2021 grade level academic standards for Math
A85: Target | B85: <= | C85: 0.2577 | D85: State | E85: 0.2577 | F85: Score | G85: =VLOOKUP(A3,Data!A1:CM89,59,FALSE) -> 0.4179 | H85: Status | I85: =IF(OR(G85="NA",G85="**"),"NA",IF(G85>C85,"Not Met","Met")) -> Not Met
A86: Indicator 3D, Math HS
A87: Profiency rate gap of children with IEPs in High School setting against 2020-2021 grade level academic standards for Math
A88: Target | B88: <= | C88: 0.2668 | D88: State | E88: 0.2668 | F88: Score | G88: =VLOOKUP(A3,Data!A1:CM89,60,FALSE) -> 0.1493 | H88: Status | I88: =IF(OR(G88="NA",G88="**"),"NA",IF(G88>C88,"Not Met","Met")) -> Met
A89: Indicator 4
A90: Indicator 4A: Suspensions
A91: Significant discrepancy in long-term expulsions of students with IEPs (Yes or No)
A92: Target | B92: = | C92: No | D92: State | E92: No | F92: Score | G92: =VLOOKUP(A3,Data!A1:CM89,61,FALSE) -> No | H92: Status | I92: =IF(OR(G92="NA",G92="**"),"NA",IF(G92="No","Met",IF(G92="Yes","Not Met"))) -> Met
A93: Indicator 4B: Expulsions
A94: Significant discrepancy in long-term expulsions of students with IEPs by race/ethnicitiy (Yes or No)
A95: Target | B95: = | C95: No | D95: State | E95: No | F95: Score | G95: =VLOOKUP(A3,Data!A1:CM89,62,FALSE) -> No | H95: Status | I95: =IF(OR(G95="NA",G95="**"),"NA",IF(G95="No","Met",IF(G95="Yes","Not Met"))) -> Met
A96: Indicator 5
A97: Indicator 5A: Least Restrictive Environment (LRE)
A98: Percent of children with IEPs inside the general education class 80% or more of the day
A99: Target | B99: >= | C99: 0.6396 | D99: State | E99: 0.6396 | F99: Score | G99: =VLOOKUP(A3,Data!A1:CM89,63,FALSE) -> 0.4913 | H99: Status | I99: =IF(OR(G99="NA",G99="**"),"NA",IF(G99<C99,"Not Met","Met")) -> Not Met
A100: Indicator 5B: Least Restrictive Environment (LRE)
A101: Percent of children with IEPs inside the general education class less than 40% of the day
A102: Target | B102: <= | C102: 0.1534 | D102: State | E102: 0.1534 | F102: Score | G102: =VLOOKUP(A3,Data!A1:CM89,64,FALSE) -> 0.0925 | H102: Status | I102: =IF(OR(G102="NA",G102="**"),"NA",IF(G102>C102,"Not Met","Met")) -> Met
...

Sheet Determination
F1: 2020-2021 Special Education Determination
A3: =Profile!A3 -> Greenwood 52
A4: =VLOOKUP(A3,Data!A1:CM89,2,FALSE) -> 605 Johnston Road
A5: =VLOOKUP(A3,Data!A1:CM89,3,FALSE) -> Ninet;y Six | C5: =VLOOKUP(A3,Data!A1:CM89,4,FALSE) -> SC | D5: =VLOOKUP(A3,Data!A1:CM89,5,FALSE) -> 29666
A7: Compliance and Performance
A8: Compliance Scoring (Lag-year data)
A9: Compliance Factor 1 - Timely, Accurate and Complete Data Submissions
A10: Score | B10: =VLOOKUP(A3,Data!A1:CM89,6,FALSE) -> 3 | C10: =IF(B10=0,"The LEA submitted data late five or more times during the reporting year and five or more data", IF(B10=1,"The LEA submitted late data no more than four times during the reporting year and no more than", IF(B10=2,"The LEA submitted late data submissions no more than two times during the reporting year and", IF(B10=3,"All data submissions are submitted on time (within the prescribed data collection windows) and","")))) -> All data submissions are submitted on time (within the prescribed data collection windows) and
C11: =IF(B10=0,"submissions contained LEA errors", IF(B10=1,"four data submissions contained LEA errors", IF(B10=2,"no more than two data submissions contained LEA errors", IF(B10=3,"no more than one data submission contained LEA (not system) errors","")))) -> no more than one data submission contained LEA (not system) errors
A12: Compliance Factor 2 - Fiscal/Grantee Risk
A13: Score | B13: =VLOOKUP(A3,Data!A1:CM89,7,FALSE) -> 3 | C13: =IF(B13=0,"High risk with systemic fiscal findings", IF(B13=1,"High risk based on fiscal risk factors", IF(B13=2,"Moderate risk based on fiscal risk factors", IF(B13=3,"Low risk based on fiscal risk factors","")))) -> Low risk based on fiscal risk factors
A14: Compliance Factor 3 - Post-Secondary Planning and Services (Indicator 13)
A15: Score | B15: =VLOOKUP(A3,Data!A1:CM89,8,FALSE) -> 3 | C15: =IF(B15=0,"Indicator 13 corrections are pending for over a year", IF(B15=1,"All Indicator 13 corrections made and verified within a year of findings", IF(B15=2,"All Indicator 13 corrections made and verified within designated review timeframe", IF(B15=3,"100% compliant based on initial Indicator 13 submission","")))) -> 100% compliant based on initial Indicator 13 submission
A16: Compliance Factor 4 - Timely Corrections of Non-Compliance
A17: Score | B17: =VLOOKUP(A3,Data!A1:CM89,9,FALSE) -> 3 | C17: =IF(B17=0,"Three areas that were not corrected within a year or two or more areas that were not corrected", IF(B17=1,"Two areas that were not corrected within a year or one area not corrected within two years", IF(B17=2,"One area that was not corrected within a year", IF(B17=3,"No findings (finance, program, data, or compliance complaint) pending for over a year","")))) -> No findings (finance, program, data, or compliance complaint) pending for over a year
C18: =IF(B17=0,"within two years","")
A19: Compliance Factor 5 - IDEA Timelines (Indicators 11 and 12)
A20: Score | B20: =VLOOKUP(A3,Data!A1:CM89,10,FALSE) -> 3 | C20: =IF(B20=0,"Below 85% combined compliance rate for Indicators 11 and 12", IF(B20=1,"85% or above combined compliance rate for Indicators 11 and 12", IF(B20=2,"95% or above combined compliance rate for Indicators 11 and 12 ", IF(B20=3,"100% compliance for both Indicator 11 and Indicator 12","")))) -> 100% compliance for both Indicator 11 and Indicator 12
A21: Compliance Factor 6 - SWD Suspension Rate > 10 Days by Race / Ethnicity (Indicator 4b)
A22: Score | B22: =VLOOKUP(A3,Data!A1:CM89,11,FALSE) -> 3 | C22: =IF(B22=0,"Indicator 4b corrections pending for over a year", IF(B22=1,"All Indicator 4b corrections made and verified within a year of findings", IF(B22=2,"All Indicator 4b corrections made and verified within review timeframe", IF(B22=3,"100% compliance after self-review submissions","")))) -> 100% compliance after self-review submissions
A23: Compliance Factor 7 - Disproportionate Representation by Race/Ethnicity (Indicators 9 and 10)
A24: Score | B24: =VLOOKUP(A3,Data!A1:CM89,12,FALSE) -> 3 | C24: =IF(B24=0,"Indicator 9/10 corrections pending for over a year", IF(B24=1,"All Indicator 9/10 corrections made and verified within a year of findings", IF(B24=2,"All Indicator 9/10 corrections made and verified within review timeframe ", IF(B24=3,"100% compliance after self-review submissions","")))) -> 100% compliance after self-review submissions
A25: Total | B25: =SUM(B10,B13,B15,B17,B20,B22,B24) -> 21
A26: Performance Scoring
A27: Performance Factor 1 - Graduation Rate
A28: Score | B28: =VLOOKUP(A3,Data!A1:CM89,13,FALSE) -> 3 | C28: =IF(B28=0,"Does not meet prior year’s state performance and did not improve", IF(B28=1,"Does not meet prior year’s state performance but improved since last year", IF(B28=2,"Meets or exceeds prior year’s state performance", IF(B28=3,"Meets or exceeds current state target","")))) -> Meets or exceeds current state target
B30: >= Target | C30: 0.6013
B31: State 20-21 | C31: 0.6013
B32: LEA 19-20 | C32: =VLOOKUP(A3,Data!A1:CM89,14,FALSE) -> 0.75
B33: LEA 20-21 | C33: =VLOOKUP(A3,Data!A1:CM89,15,FALSE) -> 0.7778
A35: Performance Factor 2 - ELA
A36: Score | B36: =VLOOKUP(A3,Data!A1:CM89,16,FALSE) -> 3 | C36: =IF(B36=0,"Does not meet prior year’s state performance and did not improve", IF(B36=1,"Does not meet prior year’s state performance but improved since last year", IF(B36=2,"Meets or exceeds prior year’s state performance", IF(B36=3,"Meets or exceeds current state target","")))) -> Meets or exceeds current state target
B38: >= Target | C38: 0.1242
B39: State 20-21 | C39: 0.1242
B40: LEA 19-20 | C40: =VLOOKUP(A3,Data!A1:CM89,17,FALSE) -> NA
B41: LEA 20-21 | C41: =VLOOKUP(A3,Data!A1:CM89,18,FALSE) -> 0.125
A43: Performance Factor 3 - Math
A44: Score | B44: =VLOOKUP(A3,Data!A1:CM89,19,FALSE) -> 3 | C44: =IF(B44=0,"Does not meet prior year’s state performance and did not improve", IF(B44=1,"Does not meet prior year’s state performance but improved since last year", IF(B44=2,"Meets or exceeds prior year’s state performance", IF(B44=3,"Meets or exceeds current state target","")))) -> Meets or exceeds current state target
B46: >= Target | C46: 0.1157
B47: State 20-21 | C47: 0.1157
B48: LEA 19-20 | C48: =VLOOKUP(A3,Data!A1:CM89,20,FALSE) -> NA
B49: LEA 20-21 | C49: =VLOOKUP(A3,Data!A1:CM89,21,FALSE) -> 0.2188
A51: Performance Factor 4 - School Age LRE
A52: Score | B52: =VLOOKUP(A3,Data!A1:CM89,22,FALSE) -> 3 | C52: =IF(B52=0,"Does not meet prior year’s state performance and did not improve", IF(B52=1,"Does not meet prior year’s state performance but improved since last year", IF(B52=2,"Meets or exceeds prior year’s state performance", IF(B52=3,"Meets or exceeds current state target","")))) -> Meets or exceeds current state target
B54: <= Target | C54: 0.1534
B55: State 20-21 | C55: 0.1534
B56: LEA 19-20 | C56: =VLOOKUP(A3,Data!A1:CM89,23,FALSE) -> 0.0497
B57: LEA 20-21 | C57: =VLOOKUP(A3,Data!A1:CM89,24,FALSE) -> 0.0925
A59: Performance Factor 5 - Early Childhood
A60: Score | B60: =VLOOKUP(A3,Data!A1:CM89,25,FALSE) -> 0 | C60: =IF(B60=0,"Does not meet prior year’s state performance and did not improve", IF(B60=1,"Does not meet prior year’s state performance but improved since last year", IF(B60=2,"Meets or exceeds prior year’s state performance", IF(B60=3,"Meets or exceeds current state target","")))) -> Does not meet prior year’s state performance and did not improve
B62: <= Target | C62: 0.3125
B63: State 20-21 | C63: 0.3125
B64: LEA 19-20 | C64: =VLOOKUP(A3,Data!A1:CM89,26,FALSE) -> 0.2857
B65: LEA 20-21 | C65: =VLOOKUP(A3,Data!A1:CM89,27,FALSE) -> 0.5
A67: Performance Factor 6 - SWD Suspensions
A68: Score | B68: =VLOOKUP(A3,Data!A1:CM89,28,FALSE) -> 3 | C68: =IF(B68=0,"Does not meet prior year’s state performance and did not improve", IF(B68=1,"Does not meet prior year’s state performance but improved since last year", IF(B68=2,"Meets or exceeds prior year’s state performance", IF(B68=3,"Meets or exceeds current state target","")))) -> Meets or exceeds current state target
B70: <= Target | C70: 0.09
B71: State 20-21 | C71: 0.0717
B72: LEA 19-20 | C72: =VLOOKUP(A3,Data!A1:CM89,29,FALSE) -> 0.1429
B73: LEA 20-21 | C73: =VLOOKUP(A3,Data!A1:CM89,30,FALSE) -> 0.0734
A75: Performance Factor 7 - Career Readiness
A76: Score | B76: =VLOOKUP(A3,Data!A1:CM89,31,FALSE) -> 3 | C76: =IF(B76=0,"Does not meet prior year’s state performance and did not improve", IF(B76=1,"Does not meet prior year’s state performance but improved since last year", IF(B76=2,"Meets or exceeds prior year’s state performance", IF(B76=3,"Meets or exceeds current state target","")))) -> Meets or exceeds current state target
B78: >= Target | C78: 0.25
B79: State 20-21 | C79: 0.212
B80: LEA 19-20 | C80: =VLOOKUP(A3,Data!A1:CM89,32,FALSE) -> NA
B81: LEA 20-21 | C81: =VLOOKUP(A3,Data!A1:CM89,33,FALSE) -> 0.25
A83: Total | B83: =SUM(B28,B36,B44,B52,B60,B68,B76) -> 18
A85: Determination
A86: Compliance Score | B86: Performance Score | C86: Total Score | D86: Total Possible Score | E86: Opt-in Bonus | F86: Total % (Inc. opt-in bonus) | G86: Determination
A87: =B25 -> 21 | B87: =B83 -> 18 | C87: =SUM(A87:B87) -> 39 | D87: =VLOOKUP(A3,Data!A1:CM89,91,FALSE) -> 42 | E87: =VLOOKUP(A3,Data!A1:CM89,34,FALSE) -> 2 | F87: =SUM(A87,B87,E87)/D87 -> 0.97619048 | G87: =IF(F87>=0.8,"Meets Requirement",IF(F87>=0.6,"Needs Assistance",IF(F87>=0.3,"Needs Intervention",IF(F87<0.3,"Needs Substantial Intervention","NA")))) -> Meets Requirement
A89: Notes
A90: Lag-year data - Represents data for 2019-2020
A91: NA - No students reported although possible, blanks, LEA excluded, no testing data available, or not possible/population not served

Sheet Data
A1: Districts | B1: Primary Mailing Address | C1: Primary City | D1: Primary State | E1: Primary Zip | F1: CF1 | G1: CF2 | H1: CF3 | I1: CF4 | J1: CF5 | K1: CF6 | L1: CF7 | M1: PF1 | N1: PF1 19-20 | O1: PF1 20-21 | P1: PF2 | Q1: PF2 19-20 | R1: PF2 20-21 | S1: PF3 | T1: PF3 19-20 | U1: PF3 20-21 | V1: PF4 | W1: PF4 19-20 | X1: PF4 20-21 | Y1: PF5 | Z1: PF5 19-20 | AA1: PF5 20-21 | AB1: PF6 | AC1: PF6 19-20 | AD1: PF6 20-21 | AE1: PF7 | AF1: PF7 19-20 | AG1: PF7 20-21 | AH1: Opt-In Bonus | AI1: Indicator 1 | AJ1: Indicator 2 | AK1: Indicator 3A - ELA 4GR | AL1: Indicator 3A - ELA 8GR | AM1: Indicator 3A - ELA HS | AN1: Indicator 3A - Math 4GR | AO1: Indicator 3A - Math 8GR | AP1: Indicator 3A - Math HS | AQ1: Indicator 3B - ELA 4GR | AR1: Indicator 3B - ELA 8GR | AS1: Indicator 3B - ELA HS | AT1: Indicator 3B - Math 4GR | AU1: Indicator 3B - Math 8GR | AV1: Indicator 3B - Math HS | AW1: Indicator 3C - ELA 4GR | AX1: Indicator 3C - ELA 8GR | AY1: Indicator 3C - ELA HS | AZ1: Indicator 3C - Math 4GR | BA1: Indicator 3C - Math 8GR | BB1: Indicator 3C - Math HS | BC1: Indicator 3D - ELA 4GR | BD1: Indicator 3D - ELA 8GR | BE1: Indicator 3D - ELA HS | BF1: Indicator 3D - Math 4GR | BG1: Indicator 3D - Math 8GR | BH1: Indicator 3D - Math HS | BI1: Indicator 4A | BJ1: Indicator 4B | BK1: Indicator 5A | BL1: Indicator 5B | BM1: Indicator 5C | BN1: Indicator 6A 3 Yr Old | BO1: Indicator 6A 4 Yr Old | BP1: Indicator 6A 5 Yr Old | BQ1: Indicator 6B 3 Yr Old | BR1: Indicator 6B 4 Yr Old | BS1: Indicator 6B 5 Yr Old | BT1: Indicator 6C 3 Yr Old | BU1: Indicator 6C 4 Yr Old | BV1: Indicator 6C 5 Yr Old | BW1: Indicator 7 A1 | BX1: Indicator 7 A2 | BY1: Indicator 7 B1 | BZ1: Indicator 7 B2 | CA1: Indicator 7 C1 | CB1: Indicator 7 C2 | CC1: Indicator 8 | CD1: Indicator 9 | CE1: Indicator 10 | CF1: Indicator 11 | CG1: Indicator 12 | CH1: Indicator 13 | CI1: Indicator 14 A | CJ1: Indicator 14 B | CK1: Indicator 14 C | CL1: Overall Score | CM1: Total Possible Score
A2: District
A3: State | B3: 1919 Blanding Street | C3: Columbia | D3: SC | E3: 29201 | F3: 3 | G3: 3 | H3: 3 | I3: 3 | J3: 3 | K3: 3 | L3: 3 | M3: 0 | N3: 0.6013 | O3: 0.5162 | P3: 3 | Q3: NA | R3: 0.1242 | S3: 3 | T3: NA | U3: 0.1157 | V3: 3 | W3: 0.1505 | X3: 0.1534 | Y3: 3 | Z3: 0.2279 | AA3: 0.3125 | AB3: 3 | AC3: 0.1387 | AD3: 0.0717 | AE3: 2 | AF3: NA | AG3: 0.212 | AH3: 0 | AI3: 0.6013 | AJ3: 0.25 | AK3: 0.8979 | AL3: 0.7973 | AM3: 0.8209 | AN3: 0.9012 | AO3: 0.8036 | AP3: 0.7516 | AQ3: 0.1651 | AR3: 0.0714 | AS3: 0.4381 | AT3: 0.1669 | AU3: 0.0498 | AV3: 0.2257 | AW3: 0.5346 | AX3: 0.3626 | AY3: 0.4753 | AZ3: 0.417 | BA3: 0.3698 | BB3: 0.3816 | BC3: 0.2953 | BD3: 0.3481 | BE3: 0.3968 | BF3: 0.2526 | BG3: 0.2577 | BH3: 0.2668 | BI3: No | BJ3: No | BK3: 0.6396 | BL3: 0.1534 | BM3: 0.0119 | BN3: 0.1728 | BO3: 0.409 | BP3: 0.4715 | BQ3: 0.4168 | BR3: 0.2764 | BS3: 0.203 | BT3: 0.0454 | BU3: 0.0296 | BV3: 0.0302 | BW3: 0.8421 | BX3: 0.56 | BY3: 0.8221 | BZ3: 0.5408 | CA3: 0.839 | CB3: 0.6843 | CC3: 0.9128 | CD3: No | CE3: No | CF3: 0.8805 | CG3: 0.5269 | CH3: 0.8142 | CI3: 0.1116 | CJ3: 0.3939 | CK3: 0.8346 | CL3: 0.8576 | CM3: 42
A4: Abbeville | B4: 400 Greenville St | C4: Abbeville | D4: SC | E4: 29620 | F4: 3 | G4: 3 | H4: 3 | I4: 3 | J4: 3 | K4: 3 | L4: 3 | M4: 0 | N4: 0.5 | O4: 0.45 | P4: 3 | Q4: NA | R4: 0.1912 | S4: 3 | T4: NA | U4: 0.1765 | V4: 3 | W4: 0.0912 | X4: 0.082 | Y4: 3 | Z4: 0.2889 | AA4: 0.1786 | AB4: 1 | AC4: 0.1263 | AD4: 0.1256 | AE4: 3 | AF4: NA | AG4: 0.273 | AH4: 2 | AI4: 0.5 | AJ4: 0.25 | AK4: 0.9756 | AL4: 1 | AM4: 0.8846 | AN4: 0.9762 | AO4: 1 | AP4: 0.8889 | AQ4: 0.2308 | AR4: 0.1379 | AS4: 0.4091 | AT4: 0.25 | AU4: 0.0714 | AV4: 0.75 | AW4: 1 | AX4: 0.5 | AY4: 1 | AZ4: 0 | BA4: 0.5 | BB4: NA | BC4: 0.1978 | BD4: 0.3556 | BE4: 0.4299 | BF4: 0.1386 | BG4: 0.3898 | BH4: 0.0682 | BI4: No | BJ4: No | BK4: 0.7275 | BL4: 0.082 | BM4: 0.0053 | BN4: 0.1429 | BO4: 0.6471 | BP4: 0.5 | BQ4: 0.4286 | BR4: 0.0588 | BS4: 0.25 | BT4: 0.4286 | BU4: 0.2353 | BV4: NA | BW4: 1 | BX4: 0.7143 | BY4: 0.9231 | BZ4: 0.5 | CA4: 0.9286 | CB4: 0.6429 | CC4: 0.8974 | CD4: No | CE4: No | CF4: 0.9815 | CG4: 1 | CH4: 1 | CI4: 0.1818 | CJ4: 0.5455 | CK4: 0.7273 | CL4: 0.9167 | CM4: 42
A5: Aiken | B5: 1000 Brookhaven Drive | C5: Aiken | D5: SC | E5: 29803 | F5: 3 | G5: 3 | H5: 3 | I5: 3 | J5: 2 | K5: 3 | L5: 3 | M5: 0 | N5: 0.5328 | O5: 0.3805 | P5: 1 | Q5: NA | R5: 0.0734 | S5: 1 | T5: NA | U5: 0.0451 | V5: 3 | W5: 0.1168 | X5: 0.1246 | Y5: 0 | Z5: 0.2338 | AA5: 0.331 | AB5: 1 | AC5: 0.1735 | AD5: 0.1264 | AE5: 1 | AF5: NA | AG5: 0.185 | AH5: 2 | AI5: 0.5328 | AJ5: 0.4453 | AK5: 0.9676 | AL5: 0.9016 | AM5: 0.8808 | AN5: 0.9676 | AO5: 0.9134 | AP5: 0.7841 | AQ5: 0.0924 | AR5: 0.0514 | AS5: 0.3548 | AT5: 0.0683 | AU5: 0.0184 | AV5: 0.0852 | AW5: 0.45 | AX5: 0.3333 | AY5: 0.3333 | AZ5: 0.4 | BA5: 0.2667 | BB5: 0.2917 | BC5: 0.307 | BD5: 0.3022 | BE5: 0.4913 | BF5: 0.2869 | BG5: 0.2314 | BH5: 0.2651 | BI5: No | BJ5: No | BK5: 0.6717 | BL5: 0.1246 | BM5: 0.0058 | BN5: 0.2353 | BO5: 0.6 | BP5: 0.5217 | BQ5: 0.5588 | BR5: 0.2588 | BS5: 0.2609 | BT5: 0 | BU5: 0.0118 | BV5: 0 | BW5: 0.7766 | BX5: 0.617 | BY5: 0.7398 | BZ5: 0.5319 | CA5: 0.7125 | CB5: 0.7021 | CC5: 0.819 | CD5: No | CE5: No | CF5: 0.8255 | CG5: 0.4118 | CH5: 1 | CI5: 0.0566 | CJ5: 0.2264 | CK5: 0.8553 | CL5: 0.6389 | CM5: 42
A6: Allendale | B6: P.O. Box 458 | C6: Fairfax | D6: SC | E6: 29827 | F6: 3 | G6: 3 | H6: 3 | I6: 3 | J6: 3 | K6: 3 | L6: 3 | M6: 3 | N6: 0.4444 | O6: 0.8333 | P6: 0 | Q6: NA | R6: 0 | S6: 0 | T6: NA | U6: 0 | V6: 3 | W6: 0.0275 | X6: 0.0294 | Y6: 0 | Z6: 0 | AA6: 0 | AB6: 3 | AC6: 0.2632 | AD6: 0.0571 | AE6: 1 | AF6: NA | AG6: 0.125 | AH6: 2 | AI6: 0.4444 | AJ6: 0.5556 | AK6: 0.8333 | AL6: 0.9167 | AM6: 0.9091 | AN6: 0.8333 | AO6: 0.8333 | AP6: 0.8182 | AQ6: 0 | AR6: 0 | AS6: 0.25 | AT6: 0 | AU6: 0 | AV6: 0 | AW6: 0.5 | AX6: NA | AY6: 1 | AZ6: 1 | BA6: NA | BB6: 1 | BC6: 0.2432 | BD6: 0.127 | BE6: 0.4481 | BF6: 0.1714 | BG6: 0.0299 | BH6: 0.2632 | BI6: No | BJ6: No | BK6: 0.6275 | BL6: 0.0294 | BM6: 0 | BN6: 0.5 | BO6: 1 | BP6: NA | BQ6: NA | BR6: NA | BS6: NA | BT6: NA | BU6: NA | BV6: NA | BW6: 1 | BX6: 0.5 | BY6: 1 | BZ6: 0.5 | CA6: 1 | CB6: 1 | CC6: 1 | CD6: No | CE6: No | CF6: 1 | CG6: 1 | CH6: 1 | CI6: 0.1 | CJ6: 0.6 | CK6: 0.9 | CL6: 0.8333 | CM6: 42
A7: Anderson 1 | B7: P.O. Box 99 | C7: Williamston | D7: SC | E7: 29697 | F7: 3 | G7: 3 | H7: 3 | I7: 3 | J7: 3 | K7: 3 | L7: 3 | M7: 3 | N7: 0.6393 | O7: 0.6235 | P7: 3 | Q7: NA | R7: 0.1963 | S7: 3 | T7: NA | U7: 0.2251 | V7: 0 | W7: 0.2018 | X7: 0.227 | Y7: 0 | Z7: 0.4103 | AA7: 0.4444 | AB7: 3 | AC7: 0.0716 | AD7: 0.0853 | AE7: 3 | AF7: NA | AG7: 0.337 | AH7: 0 | AI7: 0.6393 | AJ7: 0.0984 | AK7: 0.9671 | AL7: 0.9774 | AM7: 0.8642 | AN7: 0.9737 | AO7: 0.9774 | AP7: 0.75 | AQ7: 0.2345 | AR7: 0.152 | AS7: 0.5758 | AT7: 0.2945 | AU7: 0.144 | AV7: 0.5897 | AW7: 1 | AX7: 0 | AY7: 0.75 | AZ7: 1 | BA7: 0.4 | BB7: 0.3333 | BC7: 0.3898 | BD7: 0.3715 | BE7: 0.3036 | BF7: 0.3653 | BG7: 0.3249 | BH7: 0.2103 | BI7: No | BJ7: No | BK7: 0.6683 | BL7: 0.227 | BM7: 0.0057 | BN7: 0 | BO7: 0.5405 | BP7: 0.8 | BQ7: 0.7143 | BR7: 0.3243 | BS7: 0.2 | BT7: 0 | BU7: 0.027 | BV7: NA | BW7: 0.9322 | BX7: 0.5846 | BY7: 0.8125 | BZ7: 0.5385 | CA7: 0.8913 | CB7: 0.6923 | CC7: 0.913 | CD7: No | CE7: No | CF7: 0.9271 | CG7: 0.7778 | CH7: 1 | CI7: 0 | CJ7: 0.375 | CK7: 0.5625 | CL7: 0.8333 | CM7: 42
A8: Anderson 2 | B8: 10990 Belton Honea Path Hwy | C8: Honea Path | D8: SC | E8: 29654 | F8: 3 | G8: 3 | H8: 3 | I8: 3 | J8: 3 | K8: 3 | L8: 3 | M8: 3 | N8: 0.8182 | O8: 0.6667 | P8: 3 | Q8: NA | R8: 0.1912 | S8: 3 | T8: NA | U8: 0.1594 | V8: 3 | W8: 0.1083 | X8: 0.126 | Y8: 3 | Z8: 0.125 | AA8: 0.2143 | AB8: 3 | AC8: 0.117 | AD8: 0.0699 | AE8: 3 | AF8: NA | AG8: 0.452 | AH8: 2 | AI8: 0.8182 | AJ8: 0.0909 | AK8: 1 | AL8: 0.9565 | AM8: 0.9487 | AN8: 1 | AO8: 0.9783 | AP8: 0.9231 | AQ8: 0.2571 | AR8: 0.1212 | AS8: 0.56 | AT8: 0.2286 | AU8: 0.0882 | AV8: 0.34 | AW8: 1 | AX8: 0.8182 | AY8: 0.6667 | AZ8: 1 | BA8: 0.9091 | BB8: 0.3 | BC8: 0.2502 | BD8: 0.3574 | BE8: 0.3058 | BF8: 0.2739 | BG8: 0.2828 | BH8: 0.2468 | BI8: No | BJ8: No | BK8: 0.7674 | BL8: 0.126 | BM8: 0.0039 | BN8: 0.1111 | BO8: 0.6875 | BP8: 0.3333 | BQ8: 0.4444 | BR8: 0.0625 | BS8: 0.3333 | BT8: NA | BU8: 0.0625 | BV8: NA | BW8: 0.9474 | BX8: 0.6667 | BY8: 0.7 | BZ8: 0.5 | CA8: 0.8889 | CB8: 0.7083 | CC8: 0.96 | CD8: No | CE8: No | CF8: 0.9583 | CG8: 0.9091 | CH8: 0.9333 | CI8: 0.2273 | CJ8: 0.5455 | CK8: 0.9545 | CL8: 1.0556 | CM8: 42
A9: Anderson 3 | B9: 335 West Front Street | C9: Iva | D9: SC | E9: 29655 | F9: 3 | G9: 3 | H9: 3 | I9: 3 | J9: 3 | K9: 3 | L9: 3 | M9: 0 | N9: 0.5217 | O9: 0.3529 | P9: 3 | Q9: NA | R9: 0.2154 | S9: 3 | T9: NA | U9: 0.1692 | V9: 0 | W9: 0.2384 | X9: 0.2485 | Y9: 0 | Z9: 0.3793 | AA9: 0.5 | AB9: 0 | AC9: 0.0858 | AD9: 0.0977 | AE9: 1 | AF9: NA | AG9: 0.133 | AH9: 2 | AI9: 0.5217 | AJ9: 0.1739 | AK9: 0.9773 | AL9: 0.9667 | AM9: 1 | AN9: 0.9773 | AO9: 0.9667 | AP9: 0.8333 | AQ9: 0.3421 | AR9: 0.037 | AS9: 0.4762 | AT9: 0.2895 | AU9: 0 | AV9: 0.1176 | AW9: 0.2 | AX9: 0.5 | AY9: 0.5 | AZ9: 0.4 | BA9: 0 | BB9: 1 | BC9: 0.2797 | BD9: 0.3243 | BE9: 0.3514 | BF9: 0.2701 | BG9: 0.2767 | BH9: 0.3369 | BI9: No | BJ9: No | BK9: 0.6923 | BL9: 0.2485 | BM9: 0.0118 | BN9: NA | BO9: 0.375 | BP9: NA | BQ9: 1 | BR9: 0.375 | BS9: NA | BT9: NA | BU9: 0.125 | BV9: NA | BW9: 1 | BX9: 0.6923 | BY9: 1 | BZ9: 0.5385 | CA9: 1 | CB9: 0.6923 | CC9: 0.9091 | CD9: No | CE9: No | CF9: 0.8621 | CG9: 1 | CH9: 1 | CI9: 0.1304 | CJ9: 0.3478 | CK9: 0.913 | CL9: 0.6667 | CM9: 42
A10: Anderson 4 | B10: 315 East Queen Street | C10: Pendleton | D10: SC | E10: 29670 | F10: 3 | G10: 3 | H10: 3 | I10: 3 | J10: 2 | K10: 3 | L10: 3 | M10: 3 | N10: 0.7826 | O10: 0.6829 | P10: 3 | Q10: NA | R10: 0.2885 | S10: 3 | T10: NA | U10: 0.2308 | V10: 1 | W10: 0.2063 | X10: 0.1794 | Y10: 3 | Z10: 0.1373 | AA10: 0.1667 | AB10: 3 | AC10: 0.1189 | AD10: 0.0729 | AE10: 2 | AF10: NA | AG10: 0.244 | AH10: 0 | AI10: 0.7826 | AJ10: 0.1304 | AK10: 0.9688 | AL10: 0.9697 | AM10: 0.88 | AN10: 0.9688 | AO10: 0.9394 | AP10: 0.7727 | AQ10: 0.2692 | AR10: 0.3077 | AS10: 0.3158 | AT10: 0.3462 | AU10: 0.1154 | AV10: 0.2857 | AW10: 1 | AX10: 0.6667 | AY10: 1 | AZ10: 0.8 | BA10: 0.8 | BB10: 0.6667 | BC10: 0.2933 | BD10: 0.271 | BE10: 0.5821 | BF10: 0.2481 | BG10: 0.4078 | BH10: 0.4115 | BI10: No | BJ10: No | BK10: 0.7568 | BL10: 0.1794 | BM10: 0.0295 | BN10: 0.2 | BO10: 0.625 | BP10: 0.6 | BQ10: 0.4 | BR10: 0.125 | BS10: NA | BT10: NA | BU10: 0.125 | BV10: 0.2 | BW10: 0.8636 | BX10: 0.5926 | BY10: 0.8421 | BZ10: 0.6667 | CA10: 0.7647 | CB10: 0.7407 | CC10: 0.7667 | CD10: No | CE10: No | CF10: 0.866 | CG10: NA | CH10: 1 | CI10: 0.2 | CJ10: 0.4 | CK10: 1 | CL10: 0.8889 | CM10: 42
A11: Anderson 5 | B11: 400 Pearman Dairy Road | C11: Anderson | D11: SC | E11: 29625 | F11: 3 | G11: 3 | H11: 3 | I11: 3 | J11: 3 | K11: 3 | L11: 3 | M11: 1 | N11: 0.5545 | O11: 0.5882 | P11: 3 | Q11: NA | R11: 0.16 | S11: 3 | T11: NA | U11: 0.1788 | V11: 1 | W11: 0.2035 | X11: 0.192 | Y11: 3 | Z11: 0.0314 | AA11: 0.1919 | AB11: 3 | AC11: 0.1055 | AD11: 0.066 | AE11: 1 | AF11: NA | AG11: 0.154 | AH11: 0 | AI11: 0.5545 | AJ11: 0.2545 | AK11: 0.933 | AL11: 0.875 | AM11: 0.9145 | AN11: 0.933 | AO11: 0.8681 | AP11: 0.6614 | AQ11: 0.2342 | AR11: 0.0598 | AS11: 0.4479 | AT11: 0.2342 | AU11: 0.1034 | AV11: 0.2973 | AW11: 0.5556 | AX11: 0.1111 | AY11: 0.7273 | AZ11: 0.4444 | BA11: 0.3333 | BB11: 0.5 | BC11: 0.2183 | BD11: 0.3558 | BE11: 0.3917 | BF11: 0.2284 | BG11: 0.2929 | BH11: 0.2699 | BI11: No | BJ11: No | BK11: 0.6709 | BL11: 0.192 | BM11: 0.0097 | BN11: 0.2353 | BO11: 0.55 | BP11: 0.6 | BQ11: 0.2059 | BR11: 0.1833 | BS11: 0.2 | BT11: 0.0588 | BU11: 0 | BV11: NA | BW11: 0.8529 | BX11: 0.6768 | BY11: 0.8281 | BZ11: 0.6566 | CA11: 0.9455 | CB11: 0.7879 | CC11: 0.8942 | CD11: No | CE11: No | CF11: 0.9271 | CG11: 0.7674 | CH11: 0.88 | CI11: 0.0526 | CJ11: 0.3684 | CK11: 0.6842 | CL11: 0.8333 | CM11: 42
A12: Bamberg 1 | B12: 267 Red Raider Drive | C12: Bamberg | D12: SC | E12: 29003 | F12: 3 | G12: 3 | H12: 3 | I12: 3 | J12: 3 | K12: 3 | L12: 3 | M12: 3 | N12: 0.6 | O12: 0.7143 | P12: 0 | Q12: NA | R12: 0 | S12: 1 | T12: NA | U12: 0.0556 | V12: 3 | W12: 0.0325 | X12: 0 | Y12: 0 | Z12: 0.0741 | AA12: 0 | AB12: 3 | AC12: 0.0884 | AD12: 0.0385 | AE12: 1 | AF12: NA | AG12: 0.067 | AH12: 2 | AI12: 0.6 | AJ12: 0.1 | AK12: 0.9091 | AL12: 1 | AM12: 1 | AN12: 0.9091 | AO12: 1 | AP12: 0.8 | AQ12: 0 | AR12: 0 | AS12: 0.25 | AT12: 0 | AU12: 0.125 | AV12: 0.2857 | AW12: NA | AX12: 0 | AY12: 0 | AZ12: NA | BA12: 0 | BB12: 0 | BC12: 0.3261 | BD12: 0.2857 | BE12: 0.5655 | BF12: 0.2609 | BG12: 0.2985 | BH12: 0.1511 | BI12: No | BJ12: No | BK12: 0.723 | BL12: 0 | BM12: 0 | BN12: NA | BO12: NA | BP12: NA | BQ12: NA | BR12: NA | BS12: NA | BT12: NA | BU12: NA | BV12: NA | BW12: 0.9091 | BX12: 0.9091 | BY12: 1 | BZ12: 0.9091 | CA12: 0.9091 | CB12: 0.9091 | CC12: 1 | CD12: No | CE12: No | CF12: 1 | CG12: 1 | CH12: 1 | CI12: 0.2 | CJ12: 0.5 | CK12: 0.6 | CL12: 0.8611 | CM12: 42
A13: Bamberg 2 | B13: 60 Holly Avenue | C13: Denmark | D13: SC | E13: 29042 | F13: 3 | G13: 3 | H13: 2 | I13: 3 | J13: 3 | K13: 3 | L13: 3 | M13: 3 | N13: 0.8 | O13: 0.6667 | P13: 1 | Q13: NA | R13: 0.0741 | S13: 0 | T13: NA | U13: 0 | V13: 1 | W13: 0.25 | X13: 0.2342 | Y13: 0 | Z13: 0 | AA13: 0 | AB13: 3 | AC13: 0.2727 | AD13: 0.075 | AE13: 0 | AF13: NA | AG13: 0 | AH13: 2 | AI13: 0.8 | AJ13: 0 | AK13: 0.85 | AL13: 0.7222 | AM13: 0.8333 | AN13: 0.95 | AO13: 0.8333 | AP13: 1 | AQ13: 0.0625 | AR13: 0.0909 | AS13: 0.6 | AT13: 0 | AU13: 0 | AV13: 0.1667 | AW13: 0 | AX13: 0.5 | AY13: NA | AZ13: 1 | BA13: 0.5 | BB13: NA | BC13: 0.0804 | BD13: 0.2291 | BE13: 0.2158 | BF13: 0.0656 | BG13: 0.0392 | BH13: 0.1812 | BI13: No | BJ13: No | BK13: 0.4775 | BL13: 0.2342 | BM13: 0 | BN13: 1 | BO13: 1 | BP13: 1 | BQ13: NA | BR13: NA | BS13: NA | BT13: NA | BU13: NA | BV13: NA | BW13: 1 | BX13: 1 | BY13: 1 | BZ13: 0.25 | CA13: 1 | CB13: 1 | CC13: 1 | CD13: No | CE13: No | CF13: 1 | CG13: NA | CH13: 0 | CI13: 0.2 | CJ13: 0.8 | CK13: 0.8 | CL13: 0.75 | CM13: 42
A14: Barnwell 19 | B14: 446 Country Club Road | C14: Blackville | D14: SC | E14: 29817 | F14: 3 | G14: 3 | H14: 3 | I14: 3 | J14: 3 | K14: 3 | L14: 3 | M14: 0 | N14: 0.8333 | O14: 0 | P14: 0 | Q14: NA | R14: 0 | S14: 0 | T14: NA | U14: 0 | V14: 3 | W14: 0 | X14: 0.012 | Y14: 0 | Z14: 0.125 | AA14: 0 | AB14: 3 | AC14: 0.3617 | AD14: 0 | AE14: 3 | AF14: NA | AG14: 0.25 | AH14: 2 | AI14: 0.8333 | AJ14: 0.1667 | AK14: 1 | AL14: 0.8182 | AM14: 0.8333 | AN14: 1 | AO14: 0.9091 | AP14: 1 | AQ14: 0 | AR14: 0 | AS14: 0.4 | AT14: 0 | AU14: 0 | AV14: 0.1667 | AW14: NA | AX14: NA | AY14: NA | AZ14: NA | BA14: NA | BB14: NA | BC14: 0.2444 | BD14: 0.383 | BE14: 0.3436 | BF14: 0.2 | BG14: 0.1489 | BH14: 0.0072 | BI14: Yes | BJ14: No | BK14: 0.8916 | BL14: 0.012 | BM14: 0 | BN14: NA | BO14: 1 | BP14: NA | BQ14: NA | BR14: NA | BS14: NA | BT14: NA | BU14: NA | BV14: NA | BW14: NA | BX14: NA | BY14: NA | BZ14: NA | CA14: NA | CB14: NA | CC14: 1 | CD14: No | CE14: No | CF14: 0.875 | CG14: NA | CH14: 0.8 | CI14: 0 | CJ14: 0.5 | CK14: 0.5 | CL14: 0.8056 | CM14: 42
A15: Barnwell 29 | B15: 12255 Main St | C15: Williston | D15: SC | E15: 29853 | F15: 3 | G15: 3 | H15: 3 | I15: 3 | J15: 3 | K15: 3 | L15: 3 | M15: 3 | N15: 0.8 | O15: 0.8 | P15: 1 | Q15: NA | R15: 0.0909 | S15: 1 | T15: NA | U15: 0.0909 | V15: 3 | W15: 0.033 | X15: 0.0405 | Y15: 0 | Z15: 0.5 | AA15: 0 | AB15: 3 | AC15: 0.3011 | AD15: 0.08 | AE15: 3 | AF15: NA | AG15: 0.769 | AH15: 2 | AI15: 0.8 | AJ15: 0.2 | AK15: 1 | AL15: 0.75 | AM15: 1 | AN15: 1 | AO15: 0.75 | AP15: 0.8571 | AQ15: 0.2 | AR15: 0 | AS15: 0.25 | AT15: 0 | AU15: 0.1667 | AV15: 0.1667 | AW15: 1 | AX15: NA | AY15: NA | AZ15: 0 | BA15: NA | BB15: NA | BC15: 0.3 | BD15: 0.2222 | BE15: 0.5278 | BF15: 0.4583 | BG15: 0.0079 | BH15: -0.0039 | BI15: No | BJ15: No | BK15: 0.8784 | BL15: 0.0405 | BM15: 0 | BN15: NA | BO15: 1 | BP15: NA | BQ15: NA | BR15: NA | BS15: NA | BT15: NA | BU15: NA | BV15: NA | BW15: 1 | BX15: 0 | BY15: 1 | BZ15: 0 | CA15: 1 | CB15: 0 | CC15: 0.8 | CD15: No | CE15: No | CF15: 1 | CG15: 1 | CH15: 0.8 | CI15: 0.2 | CJ15: 0.2 | CK15: 0.8 | CL15: 0.9444 | CM15: 42
A16: Barnwell 45 | B16: 770 Hagood Avenue | C16: Barnwell | D16: SC | E16: 29812 | F16: 3 | G16: 3 | H16: 3 | I16: 3 | J16: 3 | K16: 3 | L16: 3 | M16: 1 | N16: 0 | O16: 0.5789 | P16: 1 | Q16: NA | R16: 0.0444 | S16: 3 | T16: NA | U16: 0.1556 | V16: 1 | W16: 0.2372 | X16: 0.2112 | Y16: 3 | Z16: 0.0357 | AA16: 0 | AB16: 3 | AC16: 0.1294 | AD16: 0.0539 | AE16: 3 | AF16: NA | AG16: 0.308 | AH16: 2 | AI16: 0 | AJ16: 0.25 | AK16: 1 | AL16: 0.5385 | AM16: 0.8696 | AN16: 1 | AO16: 0.641 | AP16: 0.9615 | AQ16: 0.0769 | AR16: 0 | AS16: 0.2105 | AT16: 0.1538 | AU16: 0.1579 | AV16: 0.1053 | AW16: 0.6667 | AX16: 0.5 | AY16: 0 | AZ16: 0.3333 | BA16: 0.5 | BB16: 0.3333 | BC16: 0.2419 | BD16: 0.3008 | BE16: 0.4172 | BF16: 0.1016 | BG16: 0.1754 | BH16: 0.2721 | BI16: No | BJ16: No | BK16: 0.677 | BL16: 0.2112 | BM16: 0.0062 | BN16: NA | BO16: 0.8571 | BP16: 1 | BQ16: NA | BR16: NA | BS16: NA | BT16: NA | BU16: NA | BV16: NA | BW16: 1 | BX16: 0.9231 | BY16: 0.8333 | BZ16: 0.8462 | CA16: 1 | CB16: 0.9231 | CC16: 0.9167 | CD16: No | CE16: No | CF16: 0.8333 | CG16: 1 | CH16: 1 | CI16: 0.2778 | CJ16: 0.7222 | CK16: 0.7778 | CL16: 0.8889 | CM16: 42
A17: Beaufort | B17: P.O. Drawer 309 | C17: Beaufort | D17: SC | E17: 29902 | F17: 3 | G17: 3 | H17: 2 | I17: 3 | J17: 3 | K17: 3 | L17: 3 | M17: 3 | N17: 0.6909 | O17: 0.6337 | P17: 1 | Q17: NA | R17: 0.1201 | S17: 1 | T17: NA | U17: 0.101 | V17: 0 | W17: 0.1687 | X17: 0.17 | Y17: 0 | Z17: 0.2913 | AA17: 0.327 | AB17: 3 | AC17: 0.132 | AD17: 0.0613 | AE17: 3 | AF17: NA | AG17: 0.375 | AH17: 2 | AI17: 0.6909 | AJ17: 0.1818 | AK17: 0.9238 | AL17: 0.8299 | AM17: 0.9483 | AN17: 0.9476 | AO17: 0.8163 | AP17: 0.9278 | AQ17: 0.185 | AR17: 0.0182 | AS17: 0.4433 | AT17: 0.1508 | AU17: 0.0185 | AV17: 0.2468 | AW17: 0.6667 | AX17: 0.5833 | AY17: 0.3846 | AZ17: 0.4 | BA17: 0.3333 | BB17: 0.4615 | BC17: 0.3261 | BD17: 0.3966 | BE17: 0.3777 | BF17: 0.3075 | BG17: 0.2946 | BH17: 0.3507 | BI17: No | BJ17: No | BK17: 0.6525 | BL17: 0.17 | BM17: 0.0056 | BN17: 0.0455 | BO17: 0.4316 | BP17: 0.4 | BQ17: 0.5455 | BR17: 0.2632 | BS17: 0.15 | BT17: 0.4091 | BU17: 0.0632 | BV17: 0.05 | BW17: 0.8333 | BX17: 0.5806 | BY17: 0.8177 | BZ17: 0.5806 | CA17: 0.8483 | CB17: 0.7051 | CC17: 0.9254 | CD17: No | CE17: No | CF17: 0.9107 | CG17: 0.5253 | CH17: 1 | CI17: 0.0619 | CJ17: 0.268 | CK17: 0.9794 | CL17: 0.75 | CM17: 42
A18: Berkeley | B18: 229 E. Main Street | C18: Moncks Corner | D18: SC | E18: 29461 | F18: 3 | G18: 3 | H18: 3 | I18: 3 | J18: 3 | K18: 3 | L18: 3 | M18: 0 | N18: 0.5391 | O18: 0.5226 | P18: 1 | Q18: NA | R18: 0.1033 | S18: 1 | T18: NA | U18: 0.1089 | V18: 0 | W18: 0.179 | X18: 0.1813 | Y18: 0 | Z18: 0.26 | AA18: 0.4 | AB18: 3 | AC18: 0.1301 | AD18: 0.0687 | AE18: 1 | AF18: NA | AG18: 0.067 | AH18: 2 | AI18: 0.5391 | AJ18: 0.2383 | AK18: 0.8802 | AL18: 0.497 | AM18: 0.8077 | AN18: 0.8776 | AO18: 0.5059 | AP18: 0.7465 | AQ18: 0.123 | AR18: 0.058 | AS18: 0.4495 | AT18: 0.142 | AU18: 0.0352 | AV18: 0.206 | AW18: 0.5238 | AX18: 0.5333 | AY18: 0.6364 | AZ18: 0.4 | BA18: 0.5172 | BB18: 0.4375 | BC18: 0.3125 | BD18: 0.3594 | BE18: 0.3528 | BF18: 0.2156 | BG18: 0.2453 | BH18: 0.2037 | BI18: No | BJ18: No | BK18: 0.4194 | BL18: 0.1813 | BM18: 0.0027 | BN18: 0.1 | BO18: 0.3214 | BP18: 0.3 | BQ18: 0.43 | BR18: 0.3714 | BS18: 0.45 | BT18: 0 | BU18: 0 | BV18: 0 | BW18: 0.8383 | BX18: 0.474 | BY18: 0.8218 | BZ18: 0.5107 | CA18: 0.8115 | CB18: 0.5688 | CC18: 0.8333 | CD18: No | CE18: No | CF18: 0.8085 | CG18: 0.6048 | CH18: 0.85 | CI18: 0.1406 | CJ18: 0.4217 | CK18: 0.8514 | CL18: 0.6389 | CM18: 42
A19: Calhoun | B19: 125 Herlong Avenue | C19: St Matthews | D19: SC | E19: 29135 | F19: 3 | G19: 3 | H19: 3 | I19: 3 | J19: 3 | K19: 3 | L19: 3 | M19: 0 | N19: 0.625 | O19: 0.5217 | P19: 0 | Q19: NA | R19: 0 | S19: 0 | T19: NA | U19: 0 | V19: 0 | W19: 0.2897 | X19: 0.3306 | Y19: 3 | Z19: 0.2083 | AA19: 0.125 | AB19: 3 | AC19: 0.1232 | AD19: 0.0313 | AE19: 3 | AF19: NA | AG19: 0.263 | AH19: 2 | AI19: 0.625 | AJ19: 0 | AK19: 0.7647 | AL19: 0.6786 | AM19: 0.8667 | AN19: 0.7647 | AO19: 0.6786 | AP19: 0.6538 | AQ19: 0 | AR19: 0 | AS19: 0.7778 | AT19: 0 | AU19: 0 | AV19: 0.2308 | AW19: NA | AX19: 1 | AY19: 0.25 | AZ19: NA | BA19: 1 | BB19: 0.5 | BC19: 0.24 | BD19: 0.25 | BE19: 0.0776 | BF19: 0.1818 | BG19: 0.1299 | BH19: 0.0497 | BI19: No | BJ19: No | BK19: 0.4556 | BL19: 0.3306 | BM19: 0.0242 | BN19: 0.5 | BO19: 0.25 | BP19: 1 | BQ19: NA | BR19: 0.25 | BS19: NA | BT19: NA | BU19: NA | BV19: NA | BW19: 0.7 | BX19: 0.7222 | BY19: 0.7273 | BZ19: 0.7778 | CA19: 0.75 | CB19: 0.8333 | CC19: 1 | CD19: No | CE19: No | CF19: 0.9024 | CG19: 1 | CH19: 1 | CI19: 0 | CJ19: 0.25 | CK19: 0.375 | CL19: 0.7222 | CM19: 42
A20: Charleston | B20: 75 Calhoun St | C20: Charleston | D20: SC | E20: 29401 | F20: 3 | G20: 3 | H20: 3 | I20: 3 | J20: 2 | K20: 3 | L20: 2 | M20: 0 | N20: 0.6779 | O20: 0.545 | P20: 1 | Q20: NA | R20: 0.1099 | S20: 1 | T20: NA | U20: 0.114 | V20: 3 | W20: 0.121 | X20: 0.1053 | Y20: 3 | Z20: 0.1776 | AA20: 0.2833 | AB20: 3 | AC20: 0.0992 | AD20: 0.0755 | AE20: 1 | AF20: NA | AG20: 0.205 | AH20: 0 | AI20: 0.6779 | AJ20: 0.2953 | AK20: 0.9556 | AL20: 0.8599 | AM20: 0.9116 | AN20: 0.9556 | AO20: 0.8596 | AP20: 0.8264 | AQ20: 0.1327 | AR20: 0.0795 | AS20: 0.3546 | AT20: 0.1442 | AU20: 0.0736 | AV20: 0.2722 | AW20: 0.4167 | AX20: 0.3448 | AY20: 0.3542 | AZ20: 0.4167 | BA20: 0.2414 | BB20: 0.3137 | BC20: 0.3825 | BD20: 0.4248 | BE20: 0.4914 | BF20: 0.3623 | BG20: 0.3386 | BH20: 0.3233 | BI20: No | BJ20: No | BK20: 0.6299 | BL20: 0.1053 | BM20: 0.013 | BN20: 0.1429 | BO20: 0.5229 | BP20: 0.7143 | BQ20: 0.3193 | BR20: 0.268 | BS20: 0.2143 | BT20: 0.0084 | BU20: 0.0065 | BV20: 0 | BW20: 0.871 | BX20: 0.449 | BY20: 0.8299 | BZ20: 0.5102 | CA20: 0.8516 | CB20: 0.6531 | CC20: 0.8968 | CD20: No | CE20: Yes | CF20: 0.8367 | CG20: 0.4923 | CH20: 0.9 | CI20: 0.0833 | CJ20: 0.4583 | CK20: 0.75 | CL20: 0.7222 | CM20: 42
A21: Charter Erskine | B21: 1201 Main Street Suite 300 | C21: Columbia | D21: SC | E21: 29201 | F21: 3 | G21: 3 | H21: 2 | I21: 3 | J21: 3 | K21: 3 | L21: 3 | M21: 3 | N21: 0.65 | O21: 0.8173 | P21: 3 | Q21: NA | R21: 0.1768 | S21: 3 | T21: NA | U21: 0.1222 | V21: 3 | W21: 0.0616 | X21: 0.0862 | Y21: 0 | Z21: 0.0909 | AA21: 0 | AB21: 3 | AC21: 0.047 | AD21: 0.0235 | AE21: 3 | AF21: NA | AG21: 0.284 | AH21: 0 | AI21: 0.65 | AJ21: 0.275 | AK21: 0.5026 | AL21: 0.386 | AM21: 0.4409 | AN21: 0.5 | AO21: 0.386 | AP21: 0.3967 | AQ21: 0.2234 | AR21: 0.1264 | AS21: 0.5773 | AT21: 0.172 | AU21: 0.069 | AV21: 0.3263 | AW21: 1 | AX21: 0 | AY21: NA | AZ21: 1 | BA21: 0 | BB21: 1 | BC21: 0.2571 | BD21: 0.3095 | BE21: 0.3311 | BF21: 0.2177 | BG21: 0.1675 | BH21: 0.2759 | BI21: No | BJ21: No | BK21: 0.8346 | BL21: 0.0862 | BM21: 0.0012 | BN21: NA | BO21: 1 | BP21: NA | BQ21: NA | BR21: NA | BS21: NA | BT21: NA | BU21: NA | BV21: NA | BW21: 0.9048 | BX21: 0.6867 | BY21: 0.8889 | BZ21: 0.7108 | CA21: 0.9167 | CB21: 0.747 | CC21: 0.8467 | CD21: No | CE21: No | CF21: 0.9419 | CG21: NA | CH21: 1 | CI21: 0.3333 | CJ21: 0.5833 | CK21: 0.6667 | CL21: 0.9722 | CM21: 42
A22: Cherokee | B22: PO Box 460 | C22: Gaffney | D22: SC | E22: 29342 | F22: 3 | G22: 3 | H22: 3 | I22: 3 | J22: 3 | K22: 3 | L22: 3 | M22: 3 | N22: 0.6765 | O22: 0.6047 | P22: 1 | Q22: NA | R22: 0.0833 | S22: 1 | T22: NA | U22: 0.0714 | V22: 3 | W22: 0.1469 | X22: 0.1524 | Y22: 3 | Z22: 0.2661 | AA22: 0.2037 | AB22: 0 | AC22: 0.1094 | AD22: 0.1163 | AE22: 3 | AF22: NA | AG22: 0.299 | AH22: 2 | AI22: 0.6765 | AJ22: 0.25 | AK22: 1 | AL22: 0.9186 | AM22: 0.9231 | AN22: 0.9897 | AO22: 0.9302 | AP22: 1 | AQ22: 0.1413 | AR22: 0.0132 | AS22: 0.3594 | AT22: 0.1319 | AU22: 0 | AV22: 0.1806 | AW22: 0.6 | AX22: 0 | AY22: 0.625 | AZ22: 0 | BA22: 0.3333 | BB22: 0.75 | BC22: 0.2082 | BD22: 0.3457 | BE22: 0.4281 | BF22: 0.1818 | BG22: 0.2871 | BH22: 0.2167 | BI22: No | BJ22: Yes | BK22: 0.6175 | BL22: 0.1524 | BM22: 0.007 | BN22: 0.0588 | BO22: 0.7308 | BP22: 0.9091 | BQ22: 0.2941 | BR22: 0.1923 | BS22: 0.0909 | BT22: 0.0588 | BU22: 0 | BV22: 0 | BW22: 0.75 | BX22: 0.4923 | BY22: 0.7273 | BZ22: 0.4923 | CA22: 0.7073 | CB22: 0.6 | CC22: 0.9459 | CD22: No | CE22: No | CF22: 0.8889 | CG22: 0.7692 | CH22: 1 | CI22: 0.1475 | CJ22: 0.3934 | CK22: 0.9016 | CL22: 0.8611 | CM22: 42
A23: Chester | B23: 509 District Office Drive | C23: Chester | D23: SC | E23: 29706 | F23: 3 | G23: 3 | H23: 3 | I23: 3 | J23: 3 | K23: 3 | L23: 3 | M23: 3 | N23: 0.3684 | O23: 0.6154 | P23: 1 | Q23: NA | R23: 0.0328 | S23: 1 | T23: NA | U23: 0.0407 | V23: 3 | W23: 0.0605 | X23: 0.0489 | Y23: 3 | Z23: 0.1304 | AA23: 0.1818 | AB23: 3 | AC23: 0.1176 | AD23: 0.0265 | AE23: 3 | AF23: NA | AG23: 0.273 | AH23: 2 | AI23: 0.3684 | AJ23: 0.5789 | AK23: 0.8889 | AL23: 0.8871 | AM23: 0.9216 | AN23: 0.9012 | AO23: 0.8871 | AP23: 0.9388 | AQ23: 0.058 | AR23: 0 | AS23: 0.6 | AT23: 0.0714 | AU23: 0 | AV23: 0.2308 | AW23: 0.6667 | AX23: 0.5 | AY23: 0.1429 | AZ23: 0.3333 | BA23: 0.5 | BB23: 0.2857 | BC23: 0.2403 | BD23: 0.2688 | BE23: 0.2065 | BF23: 0.2459 | BG23: 0.0976 | BH23: 0.1432 | BI23: No | BJ23: No | BK23: 0.8075 | BL23: 0.0489 | BM23: 0.0072 | BN23: 0.25 | BO23: 0.9333 | BP23: 1 | BQ23: 0.75 | BR23: 0.0667 | BS23: NA | BT23: NA | BU23: 0 | BV23: NA | BW23: 0.898 | BX23: 0.4706 | BY23: 0.9412 | BZ23: 0.3333 | CA23: 0.925 | CB23: 0.7059 | CC23: 1 | CD23: No | CE23: No | CF23: 0.9921 | CG23: 0.8571 | CH23: 1 | CI23: 0.4483 | CJ23: 0.8621 | CK23: 0.8966 | CL23: 0.9444 | CM23: 42
A24: Chesterfield | B24: 401 West Blvd. | C24: Chesterfield | D24: SC | E24: 29709 | F24: 3 | G24: 3 | H24: 2 | I24: 3 | J24: 3 | K24: 3 | L24: 3 | M24: 0 | N24: 0.619 | O24: 0.4865 | P24: 1 | Q24: NA | R24: 0.0847 | S24: 1 | T24: NA | U24: 0.0924 | V24: 0 | W24: 0.2176 | X24: 0.2228 | Y24: 3 | Z24: 0.0182 | AA24: 0 | AB24: 1 | AC24: 0.1606 | AD24: 0.0925 | AE24: 3 | AF24: NA | AG24: 0.345 | AH24: 2 | AI24: 0.619 | AJ24: 0.3571 | AK24: 0.9211 | AL24: 0.9333 | AM24: 0.9184 | AN24: 0.9211 | AO24: 0.95 | AP24: 0.84 | AQ24: 0.1385 | AR24: 0.0189 | AS24: 0.4063 | AT24: 0.1385 | AU24: 0.037 | AV24: 0.1389 | AW24: 0.4 | AX24: 0.3333 | AY24: 0.4615 | AZ24: 0.6 | BA24: 0 | BB24: 0.3333 | BC24: 0.1764 | BD24: 0.2433 | BE24: 0.3806 | BF24: 0.1308 | BG24: 0.1051 | BH24: 0.2229 | BI24: No | BJ24: No | BK24: 0.5978 | BL24: 0.2228 | BM24: 0 | BN24: 0.9 | BO24: 1 | BP24: NA | BQ24: NA | BR24: 0 | BS24: NA | BT24: NA | BU24: 0 | BV24: NA | BW24: 0.9189 | BX24: 0.4474 | BY24: 0.9459 | BZ24: 0.3684 | CA24: 1 | CB24: 0.6053 | CC24: 0.8182 | CD24: No | CE24: No | CF24: 0.9402 | CG24: 0.375 | CH24: 1 | CI24: 0.129 | CJ24: 0.5806 | CK24: 0.8387 | CL24: 0.6944 | CM24: 42
A25: Clarendon 1 | B25: 12 South Church Street | C25: Summerton | D25: SC | E25: 29148 | F25: 3 | G25: 3 | H25: 3 | I25: 3 | J25: 3 | K25: 3 | L25: 2 | M25: 3 | N25: 0.8182 | O25: 1 | P25: 1 | Q25: NA | R25: 0.0556 | S25: 1 | T25: NA | U25: 0.1111 | V25: 1 | W25: 0.2339 | X25: 0.2059 | Y25: 0 | Z25: 0 | AA25: 0 | AB25: 3 | AC25: 0.1905 | AD25: 0.0095 | AE25: 0 | AF25: NA | AG25: 0 | AH25: 2 | AI25: 0.8182 | AJ25: 0 | AK25: 0.8462 | AL25: 0.7143 | AM25: 1 | AN25: 0.8462 | AO25: 0.7857 | AP25: 0.7143 | AQ25: 0.1111 | AR25: 0 | AS25: 0 | AT25: 0.1111 | AU25: 0.1111 | AV25: 0 | AW25: 0.5 | AX25: 1 | AY25: NA | AZ25: 0 | BA25: 0.5 | BB25: NA | BC25: 0.1639 | BD25: 0.1944 | BE25: 0.8158 | BF25: 0.0352 | BG25: -0.0833 | BH25: 0.4286 | BI25: Yes | BJ25: No | BK25: 0.4902 | BL25: 0.2059 | BM25: 0.0098 | BN25: 0.5 | BO25: 1 | BP25: NA | BQ25: NA | BR25: NA | BS25: NA | BT25: NA | BU25: NA | BV25: NA | BW25: 1 | BX25: 0.75 | BY25: 1 | BZ25: 0.5 | CA25: NA | CB25: 1 | CC25: NA | CD25: No | CE25: Yes | CF25: 0.6875 | CG25: 0 | CH25: 1 | CI25: 0 | CJ25: 0.2308 | CK25: 1 | CL25: 0.8056 | CM25: 42
A26: Clarendon 2 | B26: 10 Weinberg Street | C26: Manning | D26: SC | E26: 29102 | F26: 3 | G26: 3 | H26: 3 | I26: 3 | J26: 3 | K26: 3 | L26: 3 | M26: 3 | N26: 0.1429 | O26: 0.6087 | P26: 3 | Q26: NA | R26: 0.25 | S26: 0 | T26: NA | U26: 0 | V26: 1 | W26: 0.2265 | X26: 0.1897 | Y26: 0 | Z26: 0.0256 | AA26: 0 | AB26: 3 | AC26: 0.1569 | AD26: 0 | AE26: 1 | AF26: NA | AG26: 0.03 | AH26: 2 | AI26: 0.1429 | AJ26: 0.4286 | AK26: 0.1944 | AL26: 0.0625 | AM26: 0.5862 | AN26: 0.1944 | AO26: 0.0625 | AP26: 0.0952 | AQ26: 0.3333 | AR26: 0 | AS26: 0.1333 | AT26: 0 | AU26: 0 | AV26: NA | AW26: 0 | AX26: 1 | AY26: 0 | AZ26: 0.3333 | BA26: 0 | BB26: 0 | BC26: 0.2167 | BD26: 0.5254 | BE26: 0.5199 | BF26: 0.45 | BG26: 0.4068 | BH26: NA | BI26: No | BJ26: No | BK26: 0.67 | BL26: 0.1897 | BM26: 0.0025 | BN26: 1 | BO26: 1 | BP26: 1 | BQ26: NA | BR26: NA | BS26: NA | BT26: NA | BU26: NA | BV26: NA | BW26: 0.8667 | BX26: 0.6875 | BY26: 0.9375 | BZ26: 0.5625 | CA26: 0.6364 | CB26: 0.5625 | CC26: 0.8548 | CD26: No | CE26: No | CF26: 0.7895 | CG26: 1 | CH26: 0.7333 | CI26: 0 | CJ26: 0 | CK26: 1 | CL26: 0.8611 | CM26: 42
A27: Clarendon 3 | B27: PO Drawer 270 | C27: Turbeville | D27: SC | E27: 29162 | F27: 3 | G27: 3 | H27: 3 | I27: 3 | J27: 3 | K27: 3 | L27: 3 | M27: 3 | N27: 0.625 | O27: 0.7692 | P27: 1 | Q27: NA | R27: 0.1212 | S27: 3 | T27: NA | U27: 0.1515 | V27: 3 | W27: 0.0915 | X27: 0.0667 | Y27: 0 | Z27: 0 | AA27: 0 | AB27: 3 | AC27: 0.1236 | AD27: 0.0651 | AE27: 2 | AF27: NA | AG27: 0.214 | AH27: 2 | AI27: 0.625 | AJ27: 0.125 | AK27: 1 | AL27: 0.8182 | AM27: 0.875 | AN27: 1 | AO27: 0.8182 | AP27: 0.8889 | AQ27: 0.1875 | AR27: 0.0588 | AS27: 0.4286 | AT27: 0.3125 | AU27: 0 | AV27: 0.2 | AW27: NA | AX27: 1 | AY27: NA | AZ27: NA | BA27: 0 | BB27: 0.3333 | BC27: 0.2838 | BD27: 0.1783 | BE27: 0.4319 | BF27: 0.1013 | BG27: 0.1134 | BH27: 0.3625 | BI27: No | BJ27: No | BK27: 0.8121 | BL27: 0.0667 | BM27: 0 | BN27: 1 | BO27: 1 | BP27: NA | BQ27: NA | BR27: NA | BS27: NA | BT27: NA | BU27: NA | BV27: NA | BW27: 0.9 | BX27: 0.5333 | BY27: 0.7857 | BZ27: 0.4667 | CA27: 0.8 | CB27: 0.6 | CC27: 1 | CD27: No | CE27: No | CF27: 1 | CG27: 0.8 | CH27: 1 | CI27: 0.0667 | CJ27: 1 | CK27: 1 | CL27: 0.9722 | CM27: 42
A28: Colleton | B28: 611 Colleton Loop | C28: Walterboro | D28: SC | E28: 29488 | F28: 3 | G28: 3 | H28: 3 | I28: 3 | J28: 3 | K28: 3 | L28: 3 | M28: 0 | N28: 0.5208 | O28: 0.0263 | P28: 1 | Q28: NA | R28: 0.0603 | S28: 1 | T28: NA | U28: 0.0339 | V28: 3 | W28: 0.1227 | X28: 0.1245 | Y28: 0 | Z28: 0.3243 | AA28: 0.4143 | AB28: 3 | AC28: 0.2127 | AD28: 0.0545 | AE28: 1 | AF28: NA | AG28: 0.131 | AH28: 2 | AI28: 0.5208 | AJ28: 0.3125 | AK28: 0.9571 | AL28: 0.7024 | AM28: 0.7381 | AN28: 0.9714 | AO28: 0.7143 | AP28: 0.8525 | AQ28: 0.0781 | AR28: 0.0385 | AS28: 0.3478 | AT28: 0.0462 | AU28: 0.0189 | AV28: 0.1458 | AW28: 0.3333 | AX28: 0.2857 | AY28: 0.25 | AZ28: 0 | BA28: 0.1429 | BB28: 0.25 | BC28: 0.1471 | BD28: 0.1324 | BE28: 0.4747 | BF28: 0.0905 | BG28: 0.0533 | BH28: 0.1312 | BI28: No | BJ28: Yes | BK28: 0.5684 | BL28: 0.1245 | BM28: 0.0086 | BN28: 0.1765 | BO28: 0.5581 | BP28: 0.9 | BQ28: 0.7647 | BR28: 0.3721 | BS28: NA | BT28: 0 | BU28: 0 | BV28: NA | BW28: 0.8056 | BX28: 0.678 | BY28: 0.7931 | BZ28: 0.7119 | CA28: 0.7586 | CB28: 0.7458 | CC28: 0.8929 | CD28: No | CE28: No | CF28: 0.8583 | CG28: 1 | CH28: 0.81 | CI28: 0.1739 | CJ28: 0.6087 | CK28: 0.7609 | CL28: 0.7222 | CM28: 42
A29: Darlington | B29: 120 E. Smith Ave. | C29: Darlington | D29: SC | E29: 29532 | F29: 3 | G29: 3 | H29: 2 | I29: 3 | J29: 2 | K29: 3 | L29: 3 | M29: 3 | N29: 0.7872 | O29: 0.6575 | P29: 1 | Q29: NA | R29: 0.0864 | S29: 1 | T29: NA | U29: 0.0541 | V29: 1 | W29: 0.165 | X29: 0.1645 | Y29: 0 | Z29: 0.2992 | AA29: 0.4583 | AB29: 3 | AC29: 0.163 | AD29: 0.0806 | AE29: 1 | AF29: NA | AG29: 0.187 | AH29: 0 | AI29: 0.7872 | AJ29: 0.1277 | AK29: 0.9237 | AL29: 0.9149 | AM29: 0.881 | AN29: 0.9322 | AO29: 0.922 | AP29: 0.8017 | AQ29: 0.1048 | AR29: 0.0696 | AS29: 0.3868 | AT29: 0.0857 | AU29: 0.0256 | AV29: 0.3059 | AW29: 0.5 | AX29: 0.3571 | AY29: 0.6 | AZ29: 0.4 | BA29: 0.4615 | BB29: 0.25 | BC29: 0.1776 | BD29: 0.2089 | BE29: 0.4204 | BF29: 0.1549 | BG29: 0.1591 | BH29: 0.185 | BI29: No | BJ29: No | BK29: 0.6624 | BL29: 0.1645 | BM29: 0.0136 | BN29: 0.0909 | BO29: 0.4595 | BP29: 0.3846 | BQ29: 0.7273 | BR29: 0.3514 | BS29: 0.3077 | BT29: 0.0455 | BU29: 0 | BV29: 0 | BW29: 0.875 | BX29: 0.5342 | BY29: 0.8824 | BZ29: 0.5205 | CA29: 0.8704 | CB29: 0.6027 | CC29: 0.8571 | CD29: No | CE29: No | CF29: 0.8458 | CG29: 0.4737 | CH29: 1 | CI29: 0.2 | CJ29: 0.6 | CK29: 0.7 | CL29: 0.6389 | CM29: 42
A30: Dillon 3 | B30: 205 King Street | C30: Latta | D30: SC | E30: 29565 | F30: 3 | G30: 3 | H30: 3 | I30: 3 | J30: 3 | K30: 3 | L30: 3 | M30: 1 | N30: 0.4286 | O30: 0.6 | P30: 1 | Q30: NA | R30: 0.0714 | S30: 3 | T30: NA | U30: 0.2143 | V30: 3 | W30: 0.118 | X30: 0.1205 | Y30: 0 | Z30: 0 | AA30: 0 | AB30: 3 | AC30: 0.2733 | AD30: 0.0592 | AE30: 1 | AF30: NA | AG30: 0.182 | AH30: 2 | AI30: 0.4286 | AJ30: 0.5714 | AK30: 0.7692 | AL30: 0.6429 | AM30: 0.625 | AN30: 0.7692 | AO30: 0.6429 | AP30: 1 | AQ30: 0.125 | AR30: 0 | AS30: 0.6 | AT30: 0.375 | AU30: 0 | AV30: 0.3333 | AW30: 1 | AX30: 0.6667 | AY30: NA | AZ30: 1 | BA30: 0.6667 | BB30: NA | BC30: 0.4107 | BD30: 0.5172 | BE30: 0.3048 | BF30: 0.1369 | BG30: 0.3218 | BH30: 0.1149 | BI30: Yes | BJ30: No | BK30: 0.8554 | BL30: 0.1205 | BM30: 0 | BN30: NA | BO30: 1 | BP30: NA | BQ30: NA | BR30: NA | BS30: NA | BT30: NA | BU30: NA | BV30: NA | BW30: 0.8 | BX30: 0.6 | BY30: 0.9 | BZ30: 0.6 | CA30: 0.8889 | CB30: 0.6 | CC30: 0.75 | CD30: No | CE30: No | CF30: 0.9333 | CG30: 1 | CH30: 1 | CI30: 0 | CJ30: 0.2857 | CK30: 0.8571 | CL30: 0.8889 | CM30: 42
A31: Dillon 4 | B31: 1738 Hwy 301 North | C31: Dillon | D31: SC | E31: 29536 | F31: 3 | G31: 3 | H31: 3 | I31: 3 | J31: 3 | K31: 3 | L31: 3 | M31: 1 | N31: 0.4583 | O31: 0.5 | P31: 0 | Q31: NA | R31: 0 | S31: 1 | T31: NA | U31: 0.0417 | V31: 3 | W31: 0.104 | X31: 0.0806 | Y31: 3 | Z31: 0.2083 | AA31: 0.3125 | AB31: 3 | AC31: 0.118 | AD31: 0.0276 | AE31: 1 | AF31: NA | AG31: 0.053 | AH31: 2 | AI31: 0.4583 | AJ31: 0.5417 | AK31: 1 | AL31: 1 | AM31: 0.8286 | AN31: 1 | AO31: 1 | AP31: 0.7805 | AQ31: 0 | AR31: 0 | AS31: 0.3 | AT31: 0.0435 | AU31: 0.04 | AV31: 0 | AW31: 0.6 | AX31: 1 | AY31: 0.2222 | AZ31: 0.8 | BA31: 1 | BB31: 0.8571 | BC31: 0.1985 | BD31: 0.1734 | BE31: 0.4319 | BF31: 0.1098 | BG31: 0.0451 | BH31: 0.0876 | BI31: No | BJ31: No | BK31: 0.7774 | BL31: 0.0806 | BM31: 0.0129 | BN31: 0.1667 | BO31: 0.7143 | BP31: 0.6667 | BQ31: 0.5 | BR31: 0.1429 | BS31: 0.3333 | BT31: NA | BU31: NA | BV31: NA | BW31: 1 | BX31: 0.7333 | BY31: 1 | BZ31: 0.7333 | CA31: 1 | CB31: 0.8 | CC31: 1 | CD31: No | CE31: No | CF31: 0.9231 | CG31: 1 | CH31: 1 | CI31: 0.0909 | CJ31: 0.5455 | CK31: 0.5455 | CL31: 0.8056 | CM31: 42
A32: Dorchester 2 | B32: 1325-C Boone Hill Road | C32: Summerville | D32: SC | E32: 29483 | F32: 3 | G32: 3 | H32: 2 | I32: 3 | J32: 2 | K32: 3 | L32: 3 | M32: 0 | N32: 0.6829 | O32: 0.4819 | P32: 3 | Q32: NA | R32: 0.1486 | S32: 3 | T32: NA | U32: 0.135 | V32: 3 | W32: 0.1371 | X32: 0.1327 | Y32: 0 | Z32: 0.2544 | AA32: 0.4153 | AB32: 3 | AC32: 0.1391 | AD32: 0.0717 | AE32: 3 | AF32: NA | AG32: 0.259 | AH32: 0 | AI32: 0.6829 | AJ32: 0.2683 | AK32: 0.9562 | AL32: 0.8458 | AM32: 0.9372 | AN32: 0.9603 | AO32: 0.8502 | AP32: 0.7425 | AQ32: 0.2133 | AR32: 0.064 | AS32: 0.5503 | AT32: 0.1894 | AU32: 0.0636 | AV32: 0.227 | AW32: 0.4 | AX32: 0.4 | AY32: 0.4 | AZ32: 0.5333 | BA32: 0.2 | BB32: 0.0714 | BC32: 0.307 | BD32: 0.4088 | BE32: 0.3608 | BF32: 0.2401 | BG32: 0.281 | BH32: 0.413 | BI32: No | BJ32: Yes | BK32: 0.5606 | BL32: 0.1327 | BM32: 0.0132 | BN32: 0.0175 | BO32: 0.2642 | BP32: 0.5 | BQ32: 0.5088 | BR32: 0.4057 | BS32: 0.2 | BT32: 0.0175 | BU32: 0.0094 | BV32: 0 | BW32: 0.8723 | BX32: 0.5219 | BY32: 0.9072 | BZ32: 0.5365 | CA32: 0.8984 | CB32: 0.6934 | CC32: 0.8598 | CD32: No | CE32: No | CF32: 0.9003 | CG32: 0.75 | CH32: 1 | CI32: 0.0833 | CJ32: 0.5417 | CK32: 0.75 | CL32: 0.7778 | CM32: 42
A33: Dorchester 4 | B33: 810 Schoolhous;e Rd | C33: Dorchester | D33: SC | E33: 29437 | F33: 3 | G33: 3 | H33: 3 | I33: 3 | J33: 3 | K33: 3 | L33: 3 | M33: 3 | N33: 0.7727 | O33: 0.7 | P33: 1 | Q33: NA | R33: 0.0597 | S33: 1 | T33: NA | U33: 0.0455 | V33: 3 | W33: 0.1448 | X33: 0.1534 | Y33: 3 | Z33: 0.1579 | AA33: 0.1875 | AB33: 3 | AC33: 0.073 | AD33: 0.0217 | AE33: 3 | AF33: NA | AG33: 0.269 | AH33: 2 | AI33: 0.7727 | AJ33: 0.2273 | AK33: 0.9143 | AL33: 0.95 | AM33: 0.2 | AN33: 0.9143 | AO33: 0.95 | AP33: 0.4815 | AQ33: 0.1333 | AR33: 0 | AS33: 0.5 | AT33: 0.1 | AU33: 0 | AV33: 0 | AW33: 0.5 | AX33: 1 | AY33: NA | AZ33: 0 | BA33: 0.5 | BB33: NA | BC33: 0.1713 | BD33: 0.2547 | BE33: 0.359 | BF33: 0.1185 | BG33: 0.0491 | BH33: 0.0667 | BI33: No | BJ33: No | BK33: 0.608 | BL33: 0.1534 | BM33: 0 | BN33: 0.5 | BO33: 0.3333 | BP33: 1 | BQ33: 0.3333 | BR33: 0.1667 | BS33: NA | BT33: 0.1667 | BU33: NA | BV33: NA | BW33: 0.7333 | BX33: 0.4706 | BY33: 0.5 | BZ33: 0.4706 | CA33: 0.7333 | CB33: 0.7059 | CC33: 0.8837 | CD33: No | CE33: No | CF33: 0.9318 | CG33: 1 | CH33: 0.6 | CI33: 0.3636 | CJ33: 0.6818 | CK33: 0.8636 | CL33: 0.9444 | CM33: 42
A34: Edgefield | B34: 3 Par Drive | C34: Johnston | D34: SC | E34: 29824 | F34: 3 | G34: 3 | H34: 2 | I34: 3 | J34: 3 | K34: 3 | L34: 3 | M34: 0 | N34: 0.6765 | O34: 0.5455 | P34: 1 | Q34: NA | R34: 0.0882 | S34: 1 | T34: NA | U34: 0.0588 | V34: 0 | W34: 0.149 | X34: 0.1563 | Y34: 0 | Z34: 0.3056 | AA34: 0.4375 | AB34: 3 | AC34: 0.1273 | AD34: 0.0592 | AE34: 3 | AF34: NA | AG34: 0.276 | AH34: 2 | AI34: 0.6765 | AJ34: 0.1765 | AK34: 0.8095 | AL34: 0.9474 | AM34: 0.8235 | AN34: 0.8095 | AO34: 0.9474 | AP34: 0.8421 | AQ34: 0.125 | AR34: 0.0556 | AS34: 0.3571 | AT34: 0.0625 | AU34: 0.0556 | AV34: 0.0667 | AW34: 1 | AX34: NA | AY34: NA | AZ34: 0 | BA34: NA | BB34: 0 | BC34: 0.2715 | BD34: 0.346 | BE34: 0.3794 | BF34: 0.3119 | BG34: 0.1618 | BH34: 0.2179 | BI34: No | BJ34: No | BK34: 0.6136 | BL34: 0.1563 | BM34: 0.0029 | BN34: 0.5 | BO34: 0.4444 | BP34: 0.4 | BQ34: NA | BR34: 0.5556 | BS34: 0.4 | BT34: NA | BU34: NA | BV34: NA | BW34: 0.75 | BX34: 0.6842 | BY34: 0.8462 | BZ34: 0.6316 | CA34: 0.7 | CB34: 0.8421 | CC34: 0.8889 | CD34: No | CE34: No | CF34: 0.8636 | CG34: 0.5 | CH34: 1 | CI34: 0.1212 | CJ34: 0.2727 | CK34: 1 | CL34: 0.6667 | CM34: 42
A35: Fairfield | B35: PO Drawer 622 | C35: Winnsboro | D35: SC | E35: 29180 | F35: 3 | G35: 3 | H35: 3 | I35: 3 | J35: 3 | K35: 3 | L35: 3 | M35: 0 | N35: 0.625 | O35: 0.5294 | P35: 1 | Q35: NA | R35: 0.0889 | S35: 1 | T35: NA | U35: 0.0227 | V35: 0 | W35: 0.2374 | X35: 0.2534 | Y35: 3 | Z35: 0.2273 | AA35: 0.3077 | AB35: 3 | AC35: 0.1915 | AD35: 0.0483 | AE35: 1 | AF35: NA | AG35: 0.15 | AH35: 0 | AI35: 0.625 | AJ35: 0.3333 | AK35: 0.7447 | AL35: 0.85 | AM35: 0.7778 | AN35: 0.7447 | AO35: 0.8 | AP35: 0.5 | AQ35: 0.1 | AR35: 0.0667 | AS35: 0.4286 | AT35: 0.0333 | AU35: 0 | AV35: 0.0667 | AW35: 0.8 | AX35: 0.5 | AY35: NA | AZ35: 0.2 | BA35: 0.5 | BB35: NA | BC35: 0.2379 | BD35: 0.1772 | BE35: 0.3392 | BF35: 0.208 | BG35: 0.187 | BH35: 0.3026 | BI35: No | BJ35: No | BK35: 0.6676 | BL35: 0.2534 | BM35: 0.0082 | BN35: NA | BO35: 0 | BP35: NA | BQ35: 0.6 | BR35: 0.2381 | BS35: NA | BT35: NA | BU35: 0 | BV35: NA | BW35: 0.6 | BX35: 0.8696 | BY35: 0.913 | BZ35: 0.7391 | CA35: 0.75 | CB35: 0.913 | CC35: 0.925 | CD35: No | CE35: No | CF35: 0.9615 | CG35: 0.3333 | CH35: 0.8 | CI35: 0.1 | CJ35: 0.6 | CK35: 0.9 | CL35: 0.6667 | CM35: 42
A36: Florence 1 | B36: 319 South Dargan Street | C36: FLorence | D36: SC | E36: 29501 | F36: 3 | G36: 3 | H36: 3 | I36: 3 | J36: 3 | K36: 3 | L36: 3 | M36: 0 | N36: 0.4845 | O36: 0.3415 | P36: 1 | Q36: NA | R36: 0.0745 | S36: 1 | T36: NA | U36: 0.0423 | V36: 0 | W36: 0.229 | X36: 0.2472 | Y36: 0 | Z36: 0.3348 | AA36: 0.4397 | AB36: 3 | AC36: 0.2013 | AD36: 0.0787 | AE36: 1 | AF36: NA | AG36: 0.179 | AH36: 0 | AI36: 0.4845 | AJ36: 0.2981 | AK36: 0.8868 | AL36: 0.8722 | AM36: 0.8879 | AN36: 0.8938 | AO36: 0.882 | AP36: 0.9007 | AQ36: 0.1053 | AR36: 0.047 | AS36: 0.5098 | AT36: 0.0667 | AU36: 0.0201 | AV36: 0.4087 | AW36: 0.625 | AX36: 0.375 | AY36: 0 | AZ36: 0.125 | BA36: 0.25 | BB36: 0.1667 | BC36: 0.3165 | BD36: 0.3612 | BE36: 0.3314 | BF36: 0.2226 | BG36: 0.158 | BH36: 0.1665 | BI36: No | BJ36: Yes | BK36: 0.5517 | BL36: 0.2472 | BM36: 0.0118 | BN36: 0.0435 | BO36: 0.4576 | BP36: 0.4545 | BQ36: 0.7174 | BR36: 0.2542 | BS36: 0.2727 | BT36: 0 | BU36: 0 | BV36: 0 | BW36: 0.7407 | BX36: 0.4444 | BY36: 0.7451 | BZ36: 0.4074 | CA36: 0.76 | CB36: 0.4259 | CC36: 0.9167 | CD36: No | CE36: No | CF36: 0.9391 | CG36: 0.5849 | CH36: 0.95 | CI36: 0.0882 | CJ36: 0.3824 | CK36: 0.5882 | CL36: 0.5833 | CM36: 42
A37: Florence 2 | B37: 2121 South Pamplico Highway | C37: Pamplico | D37: SC | E37: 29583 | F37: 3 | G37: 3 | H37: 3 | I37: 3 | J37: 3 | K37: 3 | L37: 3 | M37: 0 | N37: 0.7778 | O37: 0.25 | P37: 1 | Q37: NA | R37: 0.0417 | S37: 1 | T37: NA | U37: 0.0417 | V37: 3 | W37: 0.1307 | X37: 0.0887 | Y37: 3 | Z37: 0 | AA37: 0.1111 | AB37: 3 | AC37: 0.1263 | AD37: 0.0802 | AE37: 1 | AF37: NA | AG37: 0.2 | AH37: 2 | AI37: 0.7778 | AJ37: 0.1111 | AK37: 0.8333 | AL37: 0.8571 | AM37: 0.5 | AN37: 0.8333 | AO37: 0.8571 | AP37: 0.125 | AQ37: 0.0714 | AR37: 0 | AS37: 1 | AT37: 0.0714 | AU37: 0 | AV37: 1 | AW37: 0 | AX37: 0 | AY37: 1 | AZ37: 1 | BA37: 0.5 | BB37: 1 | BC37: 0.2384 | BD37: 0.3293 | BE37: -0.1071 | BF37: 0.1143 | BG37: 0.1463 | BH37: -0.4 | BI37: No | BJ37: No | BK37: 0.6749 | BL37: 0.0887 | BM37: 0.0099 | BN37: 0.4 | BO37: 0.25 | BP37: NA | BQ37: 0.2 | BR37: NA | BS37: NA | BT37: 0.2 | BU37: 0.75 | BV37: NA | BW37: 0.9 | BX37: 0.5833 | BY37: 0.8889 | BZ37: 0.4167 | CA37: 1 | CB37: 0.9167 | CC37: 0.8 | CD37: No | CE37: No | CF37: 0.8857 | CG37: 1 | CH37: 1 | CI37: 0 | CJ37: 0.1111 | CK37: 0.3333 | CL37: 0.8056 | CM37: 42
A38: Florence 3 | B38: 209 Graham Road | C38: Florence | D38: SC | E38: 29560 | F38: 3 | G38: 3 | H38: 3 | I38: 3 | J38: 3 | K38: 3 | L38: 3 | M38: 0 | N38: 0.6923 | O38: 0.0333 | P38: 1 | Q38: NA | R38: 0.0174 | S38: 1 | T38: NA | U38: 0.0348 | V38: 3 | W38: 0.0823 | X38: 0.0801 | Y38: 3 | Z38: 0.0323 | AA38: 0 | AB38: 3 | AC38: 0.2394 | AD38: 0.0574 | AE38: 1 | AF38: NA | AG38: 0.06 | AH38: 2 | AI38: 0.6923 | AJ38: 0.1026 | AK38: 0.9692 | AL38: 0.9833 | AM38: 0.8 | AN38: 0.9692 | AO38: 0.9833 | AP38: 0.8548 | AQ38: 0.0169 | AR38: 0.0179 | AS38: 0.2564 | AT38: 0.0678 | AU38: 0 | AV38: 0.12 | AW38: 0.5 | AX38: 0 | AY38: 1 | AZ38: 0.5 | BA38: 0 | BB38: 1 | BC38: 0.1767 | BD38: 0.1947 | BE38: 0.3913 | BF38: 0.083 | BG38: 0.0588 | BH38: 0.1211 | BI38: No | BJ38: No | BK38: 0.7224 | BL38: 0.0801 | BM38: 0.0089 | BN38: 0.75 | BO38: 0.3333 | BP38: 0.3333 | BQ38: NA | BR38: NA | BS38: NA | BT38: NA | BU38: NA | BV38: 0.3333 | BW38: 1 | BX38: 0.8636 | BY38: 1 | BZ38: 0.8182 | CA38: 1 | CB38: 0.8636 | CC38: 0.8462 | CD38: No | CE38: No | CF38: 0.9907 | CG38: 0.5 | CH38: 1 | CI38: 0.0952 | CJ38: 0.3571 | CK38: 0.9762 | CL38: 0.8056 | CM38: 42
A39: Florence 4 | B39: 304 Kemper Street | C39: Timmonsville | D39: SC | E39: 29161 | F39: 3 | G39: 3 | H39: 3 | I39: 3 | J39: 3 | K39: 3 | L39: 3 | M39: 0 | N39: 0.5385 | O39: 0.2308 | P39: 1 | Q39: NA | R39: 0.0625 | S39: 0 | T39: NA | U39: 0 | V39: 1 | W39: 0.1797 | X39: 0.1792 | Y39: 3 | Z39: 0.625 | AA39: 0.1429 | AB39: 3 | AC39: 0.25 | AD39: 0 | AE39: 0 | AF39: NA | AG39: 0 | AH39: 2 | AI39: 0.5385 | AJ39: 0.4615 | AK39: 1 | AL39: 0.9167 | AM39: 1 | AN39: 0.8333 | AO39: 0.9167 | AP39: 0.6154 | AQ39: 0 | AR39: 0.1 | AS39: 0.1429 | AT39: 0 | AU39: 0 | AV39: 0.2 | AW39: NA | AX39: 0 | AY39: NA | AZ39: NA | BA39: 0 | BB39: 0.6667 | BC39: 0.1132 | BD39: 0.0231 | BE39: 0.1475 | BF39: 0.0385 | BG39: 0.0313 | BH39: -0.0125 | BI39: Yes | BJ39: Yes | BK39: 0.566 | BL39: 0.1792 | BM39: 0 | BN39: NA | BO39: 0.5 | BP39: NA | BQ39: NA | BR39: 0.25 | BS39: NA | BT39: NA | BU39: 0.25 | BV39: NA | BW39: 0.8333 | BX39: 0.8182 | BY39: 0.75 | BZ39: 0.7273 | CA39: 0.6 | CB39: 0.8182 | CC39: 1 | CD39: No | CE39: No | CF39: 1 | CG39: 1 | CH39: 1 | CI39: 0.25 | CJ39: 0.6667 | CK39: 1 | CL39: 0.6944 | CM39: 42
A40: Florence 5 | B40: P.O. Box 98 | C40: Johnsonville | D40: SC | E40: 29555 | F40: 3 | G40: 3 | H40: 3 | I40: 3 | J40: 3 | K40: 3 | L40: 3 | M40: 1 | N40: 0 | O40: 0.3333 | P40: 1 | Q40: NA | R40: 0.1176 | S40: 1 | T40: NA | U40: 0.0784 | V40: 3 | W40: 0.0996 | X40: 0.1055 | Y40: 0 | Z40: 0.0625 | AA40: 0 | AB40: 3 | AC40: 0.166 | AD40: 0.083 | AE40: 1 | AF40: NA | AG40: 0.077 | AH40: 2 | AI40: 0 | AJ40: 0.6667 | AK40: 0.8409 | AL40: 0.9048 | AM40: 0.9091 | AN40: 0.8409 | AO40: 0.9048 | AP40: 1 | AQ40: 0.125 | AR40: 0.1053 | AS40: 0.2 | AT40: 0.0938 | AU40: 0.0526 | AV40: 0.5 | AW40: 0.6 | AX40: NA | AY40: NA | AZ40: 0.2 | BA40: NA | BB40: NA | BC40: 0.1902 | BD40: 0.2173 | BE40: 0.5733 | BF40: 0.2867 | BG40: 0.2316 | BH40: 0.18 | BI40: No | BJ40: No | BK40: 0.8203 | BL40: 0.1055 | BM40: 0.0039 | BN40: 1 | BO40: 0.5714 | BP40: NA | BQ40: NA | BR40: NA | BS40: NA | BT40: NA | BU40: 0.1429 | BV40: 1 | BW40: 1 | BX40: 0.3125 | BY40: 1 | BZ40: 0.375 | CA40: 1 | CB40: 0.5 | CC40: 0.9048 | CD40: No | CE40: No | CF40: 0.814 | CG40: 1 | CH40: 0.9 | CI40: 0 | CJ40: 0.2857 | CK40: 0.2857 | CL40: 0.8333 | CM40: 42
A41: Georgetown | B41: 2018 Church Street | C41: Georg;etown | D41: SC | E41: 29440 | F41: 3 | G41: 3 | H41: 3 | I41: 3 | J41: 3 | K41: 3 | L41: 3 | M41: 3 | N41: 0.7778 | O41: 0.6163 | P41: 1 | Q41: NA | R41: 0.0701 | S41: 1 | T41: NA | U41: 0.0701 | V41: 3 | W41: 0.0877 | X41: 0.0917 | Y41: 3 | Z41: 0.2114 | AA41: 0.274 | AB41: 1 | AC41: 0.1956 | AD41: 0.0998 | AE41: 2 | AF41: NA | AG41: 0.232 | AH41: 2 | AI41: 0.7778 | AJ41: 0.1111 | AK41: 0.9569 | AL41: 0.8889 | AM41: 0.9675 | AN41: 0.9483 | AO41: 0.9037 | AP41: 0.8363 | AQ41: 0.066 | AR41: 0.0741 | AS41: 0.4059 | AT41: 0.1048 | AU41: 0.0367 | AV41: 0.1083 | AW41: 0.6 | AX41: 0.25 | AY41: 0.2778 | AZ41: 0.4 | BA41: 0.3846 | BB41: 0.4348 | BC41: 0.241 | BD41: 0.2409 | BE41: 0.3995 | BF41: 0.1911 | BG41: 0.1302 | BH41: 0.2084 | BI41: No | BJ41: No | BK41: 0.5674 | BL41: 0.0917 | BM41: 0.0068 | BN41: 0.1739 | BO41: 0.675 | BP41: 0.7 | BQ41: 0.5652 | BR41: 0.15 | BS41: 0.1 | BT41: 0.0435 | BU41: 0 | BV41: NA | BW41: 0.8667 | BX41: 0.52 | BY41: 0.8444 | BZ41: 0.5 | CA41: 0.9302 | CB41: 0.66 | CC41: 0.9524 | CD41: No | CE41: No | CF41: 0.8594 | CG41: 0.6087 | CH41: 1 | CI41: 0.2278 | CJ41: 0.5949 | CK41: 0.8861 | CL41: 0.8611 | CM41: 42
A42: Greenville | B42: 301 East Camperdown Way | C42: Greenville | D42: SC | E42: 29601 | F42: 3 | G42: 3 | H42: 3 | I42: 3 | J42: 3 | K42: 3 | L42: 3 | M42: 0 | N42: 0.6716 | O42: 0.5519 | P42: 3 | Q42: NA | R42: 0.184 | S42: 3 | T42: NA | U42: 0.1678 | V42: 0 | W42: 0.1275 | X42: 0.1556 | Y42: 0 | Z42: 0.3819 | AA42: 0.4755 | AB42: 3 | AC42: 0.1317 | AD42: 0.067 | AE42: 2 | AF42: NA | AG42: 0.24 | AH42: 0 | AI42: 0.6716 | AJ42: 0.1863 | AK42: 0.9401 | AL42: 0.9014 | AM42: 0.9058 | AN42: 0.9384 | AO42: 0.9027 | AP42: 0.8475 | AQ42: 0.2452 | AR42: 0.1108 | AS42: 0.4718 | AT42: 0.2566 | AU42: 0.0619 | AV42: 0.2237 | AW42: 0.4474 | AX42: 0.2456 | AY42: 0.3 | AZ42: 0.4211 | BA42: 0.2807 | BB42: 0.3182 | BC42: 0.3145 | BD42: 0.3727 | BE42: 0.379 | BF42: 0.2653 | BG42: 0.2856 | BH42: 0.308 | BI42: No | BJ42: No | BK42: 0.6987 | BL42: 0.1556 | BM42: 0.0204 | BN42: 0.0071 | BO42: 0.1609 | BP42: 0.1351 | BQ42: 0.5887 | BR42: 0.4261 | BS42: 0.3514 | BT42: 0.0071 | BU42: 0.0087 | BV42: 0 | BW42: 0.7662 | BX42: 0.5792 | BY42: 0.6564 | BZ42: 0.5974 | CA42: 0.6935 | CB42: 0.7228 | CC42: 0.904 | CD42: No | CE42: No | CF42: 0.9378 | CG42: 0.3492 | CH42: 0.45 | CI42: 0.1278 | CJ42: 0.594 | CK42: 0.7669 | CL42: 0.7222 | CM42: 42
A43: Greenwood 50 | B43: PO Box 248 | C43: Greenwood | D43: SC | E43: 29648 | F43: 3 | G43: 3 | H43: 2 | I43: 3 | J43: 2 | K43: 3 | L43: 3 | M43: 0 | N43: 0.6818 | O43: 0.2188 | P43: 1 | Q43: NA | R43: 0.1024 | S43: 1 | T43: NA | U43: 0.0787 | V43: 0 | W43: 0.1526 | X43: 0.1809 | Y43: 3 | Z43: 0.464 | AA43: 0.0588 | AB43: 1 | AC43: 0.1874 | AD43: 0.1377 | AE43: 1 | AF43: NA | AG43: 0.16 | AH43: 2 | AI43: 0.6818 | AJ43: 0.1591 | AK43: 0.961 | AL43: 0.9459 | AM43: 0.9412 | AN43: 0.9481 | AO43: 0.9459 | AP43: 0.94 | AQ43: 0.1875 | AR43: 0.0159 | AS43: 0.3214 | AT43: 0.1406 | AU43: 0.0159 | AV43: 0.1538 | AW43: 0.5 | AX43: 0.1429 | AY43: 0.375 | AZ43: 0.4444 | BA43: 0.4286 | BB43: 0.25 | BC43: 0.1754 | BD43: 0.3281 | BE43: 0.4346 | BF43: 0.1841 | BG43: 0.2348 | BH43: 0.2144 | BI43: No | BJ43: No | BK43: 0.4805 | BL43: 0.1809 | BM43: 0.0084 | BN43: 0.5882 | BO43: 0.7778 | BP43: 0.4286 | BQ43: 0.0588 | BR43: 0.037 | BS43: 0.1429 | BT43: 0 | BU43: 0 | BV43: NA | BW43: 0.8356 | BX43: 0.5 | BY43: 0.8082 | BZ43: 0.4146 | CA43: 0.7619 | CB43: 0.5976 | CC43: 0.8077 | CD43: No | CE43: No | CF43: 0.8491 | CG43: 0.6667 | CH43: 1 | CI43: 0.0833 | CJ43: 0.2292 | CK43: 0.9583 | CL43: 0.6111 | CM43: 42
A44: Greenwood 51 | B44: 56 South Greenwood Avenue | C44: Ware Shoals | D44: SC | E44: 29692 | F44: 3 | G44: 3 | H44: 3 | I44: 3 | J44: 3 | K44: 3 | L44: 3 | M44: 3 | N44: 0 | O44: 0.6667 | P44: 3 | Q44: NA | R44: 0.2105 | S44: 0 | T44: NA | U44: 0 | V44: 3 | W44: 0.1119 | X44: 0.1227 | Y44: 0 | Z44: 0.2727 | AA44: 0.4 | AB44: 1 | AC44: 0.2182 | AD44: 0.104 | AE44: 1 | AF44: NA | AG44: 0.091 | AH44: 2 | AI44: 0 | AJ44: 0.8 | AK44: 0.75 | AL44: 0.9231 | AM44: 0.8333 | AN44: 0.8333 | AO44: 0.9231 | AP44: 0.7 | AQ44: 0.2222 | AR44: 0.2 | AS44: 0.2 | AT44: 0 | AU44: 0 | AV44: 0 | AW44: NA | AX44: 0.5 | AY44: NA | AZ44: NA | BA44: 0 | BB44: NA | BC44: 0.3032 | BD44: 0.2868 | BE44: 0.5885 | BF44: 0.3607 | BG44: 0.1733 | BH44: 0.0811 | BI44: No | BJ44: Yes | BK44: 0.6687 | BL44: 0.1227 | BM44: 0.0061 | BN44: 0.2857 | BO44: 1 | BP44: NA | BQ44: 0.4286 | BR44: NA | BS44: 1 | BT44: NA | BU44: NA | BV44: NA | BW44: 0.8667 | BX44: 0.7059 | BY44: 0.8667 | BZ44: 0.5882 | CA44: 1 | CB44: 0.8824 | CC44: 1 | CD44: No | CE44: No | CF44: 0.8438 | CG44: 1 | CH44: 0.8 | CI44: 0 | CJ44: 1 | CK44: 1 | CL44: 0.7778 | CM44: 42
A45: Greenwood 52 | B45: 605 Johnston Road | C45: Ninet;y Six | D45: SC | E45: 29666 | F45: 3 | G45: 3 | H45: 3 | I45: 3 | J45: 3 | K45: 3 | L45: 3 | M45: 3 | N45: 0.75 | O45: 0.7778 | P45: 3 | Q45: NA | R45: 0.125 | S45: 3 | T45: NA | U45: 0.2188 | V45: 3 | W45: 0.0497 | X45: 0.0925 | Y45: 0 | Z45: 0.2857 | AA45: 0.5 | AB45: 3 | AC45: 0.1429 | AD45: 0.0734 | AE45: 3 | AF45: NA | AG45: 0.25 | AH45: 2 | AI45: 0.75 | AJ45: 0.25 | AK45: 1 | AL45: 1 | AM45: 1 | AN45: 1 | AO45: 1 | AP45: 0.9412 | AQ45: 0.2353 | AR45: 0 | AS45: 0.625 | AT45: 0.4118 | AU45: 0 | AV45: 0.1875 | AW45: NA | AX45: 1 | AY45: NA | AZ45: NA | BA45: 1 | BB45: NA | BC45: 0.348 | BD45: 0.4776 | BE45: 0.2205 | BF45: 0.2466 | BG45: 0.4179 | BH45: 0.1493 | BI45: No | BJ45: No | BK45: 0.4913 | BL45: 0.0925 | BM45: 0.0058 | BN45: NA | BO45: NA | BP45: 1 | BQ45: 1 | BR45: NA | BS45: NA | BT45: NA | BU45: NA | BV45: NA | BW45: 0.7143 | BX45: 0.6667 | BY45: 0.7778 | BZ45: 0.3333 | CA45: 0.75 | CB45: 0.6667 | CC45: 0.9 | CD45: No | CE45: No | CF45: 1 | CG45: 1 | CH45: 0.8 | CI45: 0.25 | CJ45: 0.5 | CK45: 0.875 | CL45: 0.9722 | CM45: 42
A46: Hampton 1 | B46: 372 E. Pine Street | C46: Varnville | D46: SC | E46: 29944 | F46: 3 | G46: 3 | H46: 3 | I46: 3 | J46: 3 | K46: 3 | L46: 3 | M46: 0 | N46: 0.5556 | O46: 0.2857 | P46: 1 | Q46: NA | R46: 0.0667 | S46: 3 | T46: NA | U46: 0.1333 | V46: 1 | W46: 0.1703 | X46: 0.1702 | Y46: 3 | Z46: 0 | AA46: 0 | AB46: 3 | AC46: 0.108 | AD46: 0.0647 | AE46: 1 | AF46: NA | AG46: 0.167 | AH46: 0 | AI46: 0.5556 | AJ46: 0.1111 | AK46: 1 | AL46: 0.9 | AM46: 0.8182 | AN46: 0.9412 | AO46: 0.95 | AP46: 0.875 | AQ46: 0.125 | AR46: 0 | AS46: 0 | AT46: 0.2667 | AU46: 0 | AV46: 0 | AW46: 1 | AX46: 0 | AY46: 0.5 | AZ46: 0 | BA46: 0.25 | BB46: 1 | BC46: 0.2591 | BD46: 0.3 | BE46: 0.7143 | BF46: 0.0812 | BG46: 0.2114 | BH46: 0.23 | BI46: No | BJ46: No | BK46: 0.7553 | BL46: 0.1702 | BM46: 0 | BN46: 1 | BO46: 0.875 | BP46: 0.6667 | BQ46: NA | BR46: NA | BS46: NA | BT46: NA | BU46: 0.125 | BV46: 0.3333 | BW46: 1 | BX46: 1 | BY46: 0.8 | BZ46: 0.5 | CA46: 0.8333 | CB46: 0.9 | CC46: 1 | CD46: No | CE46: No | CF46: 0.7419 | CG46: 1 | CH46: 0.8 | CI46: NA | CJ46: NA | CK46: NA | CL46: 0.75 | CM46: 42
A47: Hampton 2 | B47: 635 4th St | C47: Estill | D47: SC | E47: 29918 | F47: 3 | G47: 3 | H47: 3 | I47: 3 | J47: 3 | K47: 3 | L47: 3 | M47: 3 | N47: 0.8333 | O47: 1 | P47: 0 | Q47: NA | R47: 0 | S47: 0 | T47: NA | U47: 0 | V47: 3 | W47: 0.172 | X47: 0.0645 | Y47: 0 | Z47: 0 | AA47: 0 | AB47: 1 | AC47: 0.213 | AD47: 0.1753 | AE47: 3 | AF47: NA | AG47: 0.5 | AH47: 0 | AI47: 0.8333 | AJ47: 0 | AK47: 1 | AL47: 1 | AM47: 0.4 | AN47: 1 | AO47: 1 | AP47: 0.6667 | AQ47: 0 | AR47: 0 | AS47: 0.5 | AT47: 0 | AU47: 0 | AV47: 0 | AW47: NA | AX47: NA | AY47: NA | AZ47: NA | BA47: NA | BB47: NA | BC47: 0.1667 | BD47: 0.375 | BE47: 0.4333 | BF47: 0.119 | BG47: 0.1786 | BH47: 0.5 | BI47: No | BJ47: No | BK47: 0.6237 | BL47: 0.0645 | BM47: 0 | BN47: NA | BO47: NA | BP47: 0.3333 | BQ47: NA | BR47: NA | BS47: NA | BT47: NA | BU47: NA | BV47: NA | BW47: 1 | BX47: 0.2222 | BY47: 0.875 | BZ47: 0.1111 | CA47: 0.6 | CB47: 0.5556 | CC47: 1 | CD47: No | CE47: No | CF47: 1 | CG47: NA | CH47: 0.9 | CI47: NA | CJ47: NA | CK47: NA | CL47: 0.7778 | CM47: 42
A48: Horry | B48: 335 Four Mile Rd | C48: Conway | D48: SC | E48: 29526 | F48: 3 | G48: 3 | H48: 2 | I48: 3 | J48: 3 | K48: 3 | L48: 3 | M48: 0 | N48: 0.6629 | O48: 0.3948 | P48: 3 | Q48: NA | R48: 0.1433 | S48: 3 | T48: NA | U48: 0.1433 | V48: 1 | W48: 0.1747 | X48: 0.1596 | Y48: 3 | Z48: 0.0015 | AA48: 0 | AB48: 3 | AC48: 0.1652 | AD48: 0.0851 | AE48: 2 | AF48: NA | AG48: 0.222 | AH48: 2 | AI48: 0.6629 | AJ48: 0.1292 | AK48: 0.9319 | AL48: 0.8053 | AM48: 0.8742 | AN48: 0.9221 | AO48: 0.8 | AP48: 0.6761 | AQ48: 0.1876 | AR48: 0.0875 | AS48: 0.4718 | AT48: 0.1909 | AU48: 0.0833 | AV48: 0.3669 | AW48: 0.7143 | AX48: 0.4063 | AY48: 0.5714 | AZ48: 0.4444 | BA48: 0.4063 | BB48: 0.5238 | BC48: 0.3251 | BD48: 0.3652 | BE48: 0.3945 | BF48: 0.2978 | BG48: 0.2853 | BH48: 0.2411 | BI48: No | BJ48: No | BK48: 0.5585 | BL48: 0.1596 | BM48: 0.0067 | BN48: 0.0909 | BO48: 0.3919 | BP48: 0.3684 | BQ48: 0 | BR48: 0 | BS48: 0 | BT48: 0.0404 | BU48: 0.0203 | BV48: 0.0526 | BW48: 0.8698 | BX48: 0.5026 | BY48: 0.8478 | BZ48: 0.4553 | CA48: 0.8874 | CB48: 0.6263 | CC48: 0.8768 | CD48: No | CE48: No | CF48: 0.887 | CG48: 0.5532 | CH48: 1 | CI48: 0.0952 | CJ48: 0.2633 | CK48: 0.9552 | CL48: 0.8611 | CM48: 42
A49: Jasper | B49: PO Box 848 | C49: Ridgeland | D49: SC | E49: 29936 | F49: 3 | G49: 2 | H49: 3 | I49: 3 | J49: 3 | K49: 3 | L49: 3 | M49: 0 | N49: 0.4211 | O49: 0 | P49: 0 | Q49: NA | R49: 0 | S49: 0 | T49: NA | U49: 0 | V49: 0 | W49: 0.1937 | X49: 0.2025 | Y49: 0 | Z49: 0.3333 | AA49: 0.6667 | AB49: 3 | AC49: 0.0787 | AD49: 0.0199 | AE49: 1 | AF49: NA | AG49: 0.176 | AH49: 2 | AI49: 0.4211 | AJ49: 0.4211 | AK49: 1 | AL49: 0.8571 | AM49: 0.8889 | AN49: 1 | AO49: 0.9048 | AP49: 0.9091 | AQ49: 0 | AR49: 0 | AS49: 0.5714 | AT49: 0 | AU49: 0 | AV49: 0 | AW49: 0.6667 | AX49: 0.5 | AY49: 0 | AZ49: 0.6667 | BA49: 0.5 | BB49: 0 | BC49: 0.1729 | BD49: 0.1517 | BE49: 0.0239 | BF49: 0.0972 | BG49: 0.0137 | BH49: 0.1657 | BI49: No | BJ49: No | BK49: 0.4463 | BL49: 0.2025 | BM49: 0 | BN49: NA | BO49: 0.5 | BP49: NA | BQ49: 1 | BR49: 0.5 | BS49: 1 | BT49: NA | BU49: NA | BV49: NA | BW49: 0.9545 | BX49: 0.4167 | BY49: 0.9565 | BZ49: 0.3333 | CA49: 0.8667 | CB49: 0.75 | CC49: 0.9091 | CD49: No | CE49: No | CF49: 0.9565 | CG49: 0 | CH49: 0.9 | CI49: 0.3333 | CJ49: 0.4762 | CK49: 0.8095 | CL49: 0.5556 | CM49: 42
A50: Kershaw | B50: 2029 West DeKalb Street | C50: Camden | D50: SC | E50: 29020 | F50: 3 | G50: 3 | H50: 2 | I50: 3 | J50: 2 | K50: 3 | L50: 3 | M50: 0 | N50: 0.7381 | O50: 0.6 | P50: 3 | Q50: NA | R50: 0.1471 | S50: 1 | T50: NA | U50: 0.0945 | V50: 0 | W50: 0.1953 | X50: 0.1994 | Y50: 0 | Z50: 0.2114 | AA50: 0.377 | AB50: 3 | AC50: 0.1319 | AD50: 0.0845 | AE50: 3 | AF50: NA | AG50: 0.315 | AH50: 0 | AI50: 0.7381 | AJ50: 0.0952 | AK50: 0.8947 | AL50: 0.8947 | AM50: 0.8718 | AN50: 0.8947 | AO50: 0.8684 | AP50: 0.8374 | AQ50: 0.1759 | AR50: 0.1146 | AS50: 0.5233 | AT50: 0.1389 | AU50: 0.043 | AV50: 0.3034 | AW50: 0.5455 | AX50: 0.1667 | AY50: 0.375 | AZ50: 0.3636 | BA50: 0.1667 | BB50: 0.2143 | BC50: 0.3448 | BD50: 0.3663 | BE50: 0.3308 | BF50: 0.295 | BG50: 0.2656 | BH50: 0.2436 | BI50: No | BJ50: No | BK50: 0.5088 | BL50: 0.1994 | BM50: 0.0049 | BN50: 0.3077 | BO50: 0.5769 | BP50: 0.6667 | BQ50: 0.5385 | BR50: 0.2692 | BS50: 0.2222 | BT50: 0 | BU50: 0 | BV50: NA | BW50: 0.9245 | BX50: 0.6812 | BY50: 0.7959 | BZ50: 0.6377 | CA50: 0.9024 | CB50: 0.7971 | CC50: 0.7333 | CD50: No | CE50: No | CF50: 0.8478 | CG50: 0.5 | CH50: 1 | CI50: 0.05 | CJ50: 0.5 | CK50: 0.9 | CL50: 0.6389 | CM50: 42
A51: Lancaster | B51: 300 South Catawba Street | C51: Lancaster | D51: SC | E51: 29720 | F51: 3 | G51: 3 | H51: 3 | I51: 2 | J51: 2 | K51: 3 | L51: 3 | M51: 0 | N51: 0.5588 | O51: 0.5512 | P51: 3 | Q51: NA | R51: 0.1262 | S51: 3 | T51: NA | U51: 0.1571 | V51: 0 | W51: 0.2327 | X51: 0.2373 | Y51: 0 | Z51: 0.3816 | AA51: 0.6316 | AB51: 3 | AC51: 0.1498 | AD51: 0.0695 | AE51: 1 | AF51: NA | AG51: 0.199 | AH51: 0 | AI51: 0.5588 | AJ51: 0.2353 | AK51: 0.9343 | AL51: 0.629 | AM51: 0.7039 | AN51: 0.9296 | AO51: 0.6505 | AP51: 0.8354 | AQ51: 0.1624 | AR51: 0.0625 | AS51: 0.4653 | AT51: 0.2194 | AU51: 0.0517 | AV51: 0.1641 | AW51: 0 | AX51: 0 | AY51: 0.8333 | AZ51: 0.5 | BA51: 0.4 | BB51: 0.2222 | BC51: 0.3105 | BD51: 0.3165 | BE51: 0.322 | BF51: 0.2821 | BG51: 0.2473 | BH51: 0.1679 | BI51: No | BJ51: No | BK51: 0.5713 | BL51: 0.2373 | BM51: 0.0171 | BN51: 0 | BO51: 0.0333 | BP51: 0.125 | BQ51: 0.7368 | BR51: 0.6 | BS51: 0.5 | BT51: 0 | BU51: 0.0333 | BV51: NA | BW51: 0.7975 | BX51: 0.5521 | BY51: 0.7875 | BZ51: 0.5104 | CA51: 0.7576 | CB51: 0.6667 | CC51: 0.8506 | CD51: No | CE51: No | CF51: 0.8444 | CG51: 0.125 | CH51: 0.4 | CI51: 0.1304 | CJ51: 0.4783 | CK51: 0.7391 | CL51: 0.6389 | CM51: 42
A52: Laurens 55 | B52: 301 Hillcrest Drive | C52: Laurens | D52: SC | E52: 29360 | F52: 3 | G52: 3 | H52: 0 | I52: 3 | J52: 3 | K52: 3 | L52: 3 | M52: 0 | N52: 0.6296 | O52: 0.4423 | P52: 1 | Q52: NA | R52: 0.0968 | S52: 1 | T52: NA | U52: 0.088 | V52: 1 | W52: 0.1699 | X52: 0.1611 | Y52: 3 | Z52: 0.1068 | AA52: 0.2955 | AB52: 3 | AC52: 0.0881 | AD52: 0.0756 | AE52: 1 | AF52: NA | AG52: 0.138 | AH52: 0 | AI52: 0.6296 | AJ52: 0.2407 | AK52: 0.942 | AL52: 0.9275 | AM52: 0.8868 | AN52: 0.971 | AO52: 0.913 | AP52: 0.8358 | AQ52: 0.1429 | AR52: 0.0492 | AS52: 0.3158 | AT52: 0.1538 | AU52: 0.0167 | AV52: 0.0833 | AW52: 0 | AX52: 0.6667 | AY52: 0.3333 | AZ52: 0.5 | BA52: 0.6667 | BB52: 0.25 | BC52: 0.1098 | BD52: 0.2273 | BE52: 0.3061 | BF52: 0.0589 | BG52: 0.1417 | BH52: 0.235 | BI52: No | BJ52: No | BK52: 0.6521 | BL52: 0.1611 | BM52: 0.0193 | BN52: 0.1667 | BO52: 0.4815 | BP52: 0.4 | BQ52: 0.4167 | BR52: 0.2963 | BS52: NA | BT52: 0.0833 | BU52: 0.0741 | BV52: NA | BW52: 0.9583 | BX52: 0.8095 | BY52: 0.9184 | BZ52: 0.6667 | CA52: 1 | CB52: 0.9365 | CC52: 0.8571 | CD52: No | CE52: No | CF52: 0.8882 | CG52: 0.3333 | CH52: 0.5333 | CI52: 0.25 | CJ52: 0.375 | CK52: 0.625 | CL52: 0.6111 | CM52: 42
A53: Laurens 56 | B53: 625 Elizabeth Street | C53: Clinton | D53: SC | E53: 29325 | F53: 3 | G53: 3 | H53: 3 | I53: 3 | J53: 3 | K53: 3 | L53: 3 | M53: 1 | N53: 0.3 | O53: 0.5833 | P53: 1 | Q53: NA | R53: 0.0704 | S53: 3 | T53: NA | U53: 0.1216 | V53: 0 | W53: 0.2231 | X53: 0.2352 | Y53: 0 | Z53: 0.1842 | AA53: 0.3889 | AB53: 1 | AC53: 0.1687 | AD53: 0.0952 | AE53: 1 | AF53: NA | AG53: 0.2 | AH53: 2 | AI53: 0.3 | AJ53: 0.4667 | AK53: 1 | AL53: 0.8056 | AM53: 0.973 | AN53: 1 | AO53: 0.9167 | AP53: 0.7183 | AQ53: 0.1111 | AR53: 0 | AS53: 0.2059 | AT53: 0.2045 | AU53: 0 | AV53: 0.0816 | AW53: 0.5 | AX53: 0.3333 | AY53: 0.5 | AZ53: 0 | BA53: 0 | BB53: 0.5 | BC53: 0.2673 | BD53: 0.3505 | BE53: 0.537 | BF53: 0.1665 | BG53: 0.2778 | BH53: 0.2174 | BI53: No | BJ53: No | BK53: 0.5706 | BL53: 0.2352 | BM53: 0.002 | BN53: NA | BO53: 0.1481 | BP53: NA | BQ53: 0.75 | BR53: 0.2963 | BS53: NA | BT53: NA | BU53: 0 | BV53: NA | BW53: 0.7705 | BX53: 0.5769 | BY53: 0.806 | BZ53: 0.5 | CA53: 0.8 | CB53: 0.7692 | CC53: 0.9167 | CD53: No | CE53: No | CF53: 0.8804 | CG53: 1 | CH53: 0.7333 | CI53: 0.2069 | CJ53: 0.5172 | CK53: 0.7586 | CL53: 0.6667 | CM53: 42
A54: Lee | B54: PO Box 507 | C54: Bishopville | D54: SC | E54: 29010 | F54: 3 | G54: 3 | H54: 3 | I54: 2 | J54: 2 | K54: 3 | L54: 3 | M54: 3 | N54: 0.8235 | O54: 0.6667 | P54: 0 | Q54: NA | R54: 0 | S54: 0 | T54: NA | U54: 0 | V54: 0 | W54: 0.1991 | X54: 0.2353 | Y54: 0 | Z54: 0 | AA54: 0 | AB54: 3 | AC54: 0.2468 | AD54: 0.0096 | AE54: 1 | AF54: NA | AG54: 0.042 | AH54: 0 | AI54: 0.8235 | AJ54: 0 | AK54: 0.7143 | AL54: 0.0625 | AM54: 0.5 | AN54: 0.7143 | AO54: 0.1875 | AP54: 0.5 | AQ54: 0 | AR54: 0 | AS54: 0.2727 | AT54: 0 | AU54: 0 | AV54: 0 | AW54: 0.5 | AX54: NA | AY54: NA | AZ54: 1 | BA54: NA | BB54: NA | BC54: 0.2131 | BD54: 0.16 | BE54: 0.2597 | BF54: 0.1167 | BG54: 0 | BH54: 0.1124 | BI54: No | BJ54: No | BK54: 0.451 | BL54: 0.2353 | BM54: 0.0147 | BN54: NA | BO54: 0.6667 | BP54: 1 | BQ54: NA | BR54: NA | BS54: NA | BT54: NA | BU54: NA | BV54: NA | BW54: 0.5 | BX54: 0.6667 | BY54: 0.5 | BZ54: 0.6667 | CA54: 0.5 | CB54: 0.6667 | CC54: 0 | CD54: No | CE54: No | CF54: 0.9 | CG54: 1 | CH54: 1 | CI54: 0 | CJ54: 0 | CK54: 0.2 | CL54: 0.6389 | CM54: 42
A55: Lexington 1 | B55: 111 Tarrar Springs Road Building 3, Suites D and E | C55: Lexington | D55: SC | E55: 29072 | F55: 3 | G55: 3 | H55: 2 | I55: 3 | J55: 2 | K55: 3 | L55: 3 | M55: 0 | N55: 0.6446 | O55: 0.5399 | P55: 3 | Q55: NA | R55: 0.136 | S55: 1 | T55: NA | U55: 0.1125 | V55: 3 | W55: 0.1022 | X55: 0.1104 | Y55: 3 | Z55: 0.2506 | AA55: 0.2885 | AB55: 3 | AC55: 0.0909 | AD55: 0.0878 | AE55: 3 | AF55: NA | AG55: 0.271 | AH55: 0 | AI55: 0.6446 | AJ55: 0.2048 | AK55: 0.9397 | AL55: 0.9085 | AM55: 0.9087 | AN55: 0.9425 | AO55: 0.9085 | AP55: 0.8904 | AQ55: 0.1667 | AR55: 0.0972 | AS55: 0.4802 | AT55: 0.1597 | AU55: 0.0526 | AV55: 0.2148 | AW55: 0.4667 | AX55: 0.3636 | AY55: 0.6667 | AZ55: 0.3333 | BA55: 0.0909 | BB55: 0.3333 | BC55: 0.3357 | BD55: 0.3554 | BE55: 0.4012 | BF55: 0.2716 | BG55: 0.2906 | BH55: 0.2715 | BI55: No | BJ55: Yes | BK55: 0.728 | BL55: 0.1104 | BM55: 0.0031 | BN55: 0.0345 | BO55: 0.1938 | BP55: 0.1905 | BQ55: 0.431 | BR55: 0.2403 | BS55: 0.1905 | BT55: 0.0517 | BU55: 0.062 | BV55: 0.1905 | BW55: 0.7939 | BX55: 0.5814 | BY55: 0.7792 | BZ55: 0.6093 | CA55: 0.8742 | CB55: 0.7116 | CC55: 0.927 | CD55: No | CE55: No | CF55: 0.8462 | CG55: 0.7097 | CH55: 1 | CI55: 0.0541 | CJ55: 0.4865 | CK55: 0.6216 | CL55: 0.8056 | CM55: 42
A56: Lexington 2 | B56: 715 9th Street | C56: West Columbia | D56: SC | E56: 29169 | F56: 3 | G56: 3 | H56: 3 | I56: 3 | J56: 3 | K56: 3 | L56: 3 | M56: 3 | N56: 0.3182 | O56: 0.6909 | P56: 1 | Q56: NA | R56: 0.0664 | S56: 1 | T56: NA | U56: 0.0759 | V56: 3 | W56: 0.1134 | X56: 0.1074 | Y56: 0 | Z56: 0.2133 | AA56: 0.5949 | AB56: 1 | AC56: 0.1896 | AD56: 0.1085 | AE56: 1 | AF56: NA | AG56: 0.059 | AH56: 0 | AI56: 0.3182 | AJ56: 0.25 | AK56: 0.9435 | AL56: 0.8881 | AM56: 0.8148 | AN56: 0.9435 | AO56: 0.8806 | AP56: 0.8 | AQ56: 0.114 | AR56: 0.0179 | AS56: 0.3902 | AT56: 0.1404 | AU56: 0.0091 | AV56: 0.2222 | AW56: 0.3333 | AX56: 0.4286 | AY56: 0.6667 | AZ56: 0.6667 | BA56: 0.5 | BB56: 0.3333 | BC56: 0.2646 | BD56: 0.3274 | BE56: 0.3933 | BF56: 0.1901 | BG56: 0.2319 | BH56: 0.1496 | BI56: No | BJ56: No | BK56: 0.66 | BL56: 0.1074 | BM56: 0.0338 | BN56: 0.037 | BO56: 0.2889 | BP56: 0.1429 | BQ56: 0.6667 | BR56: 0.5333 | BS56: 0.7143 | BT56: 0.037 | BU56: 0.0444 | BV56: NA | BW56: 0.898 | BX56: 0.6167 | BY56: 0.8462 | BZ56: 0.5667 | CA56: 0.8864 | CB56: 0.7333 | CC56: 0.8889 | CD56: No | CE56: No | CF56: 0.9116 | CG56: 0.1429 | CH56: 1 | CI56: 0 | CJ56: 0.2857 | CK56: 0.5714 | CL56: 0.6944 | CM56: 42
A57: Lexington 3 | B57: 338 West Columbia Ave | C57: Batesburg-Leesville | D57: SC | E57: 29006 | F57: 3 | G57: 3 | H57: 2 | I57: 3 | J57: 3 | K57: 3 | L57: 3 | M57: 0 | N57: 0.55 | O57: 0.5263 | P57: 1 | Q57: NA | R57: 0.1111 | S57: 3 | T57: NA | U57: 0.1667 | V57: 0 | W57: 0.1395 | X57: 0.1703 | Y57: 0 | Z57: 0.1176 | AA57: 0 | AB57: 3 | AC57: 0.0579 | AD57: 0.0875 | AE57: 1 | AF57: NA | AG57: 0.182 | AH57: 2 | AI57: 0.55 | AJ57: 0.25 | AK57: 1 | AL57: 0.8438 | AM57: 1 | AN57: 0.9756 | AO57: 0.75 | AP57: 0.9167 | AQ57: 0.1842 | AR57: 0 | AS57: 0.619 | AT57: 0.2632 | AU57: 0 | AV57: 0 | AW57: 0.6667 | AX57: 1 | AY57: 1 | AZ57: 0.5 | BA57: 0 | BB57: 1 | BC57: 0.1788 | BD57: 0.3028 | BE57: 0.1162 | BF57: 0.1022 | BG57: 0 | BH57: 0.2056 | BI57: No | BJ57: No | BK57: 0.7066 | BL57: 0.1703 | BM57: 0.0032 | BN57: NA | BO57: 0.5 | BP57: 1 | BQ57: NA | BR57: NA | BS57: NA | BT57: NA | BU57: NA | BV57: NA | BW57: 0.875 | BX57: 0.4545 | BY57: 0.9091 | BZ57: 0.3636 | CA57: 0.6667 | CB57: 0.6364 | CC57: 0.8077 | CD57: No | CE57: No | CF57: 0.8889 | CG57: 0.5 | CH57: 1 | CI57: 0.0952 | CJ57: 0.619 | CK57: 0.8571 | CL57: 0.75 | CM57: 42
A58: Lexington 4 | B58: 607 East Fifth Street | C58: Swansea | D58: SC | E58: 29160 | F58: 3 | G58: 3 | H58: 2 | I58: 3 | J58: 3 | K58: 3 | L58: 3 | M58: 3 | N58: 0.7097 | O58: 0.64 | P58: 1 | Q58: NA | R58: 0.0222 | S58: 0 | T58: NA | U58: 0 | V58: 0 | W58: 0.1391 | X58: 0.2022 | Y58: 0 | Z58: 0.252 | AA58: 0.44 | AB58: 0 | AC58: 0.1381 | AD58: 0.1416 | AE58: 1 | AF58: NA | AG58: 0.179 | AH58: 2 | AI58: 0.7097 | AJ58: 0.2903 | AK58: 0.88 | AL58: 0.7647 | AM58: 0.7805 | AN58: 0.88 | AO58: 0.7353 | AP58: 0.68 | AQ58: 0.0308 | AR58: 0 | AS58: 0.2069 | AT58: 0 | AU58: 0 | AV58: 0.0968 | AW58: 1 | AX58: 1 | AY58: 0.3333 | AZ58: 0 | BA58: 0 | BB58: 0 | BC58: 0.138 | BD58: 0.2228 | BE58: 0.515 | BF58: 0.1088 | BG58: 0.1324 | BH58: 0.1282 | BI58: No | BJ58: No | BK58: 0.6895 | BL58: 0.2022 | BM58: 0.0016 | BN58: NA | BO58: 0.0811 | BP58: 0.1429 | BQ58: 0.8333 | BR58: 0.3514 | BS58: 0.5714 | BT58: NA | BU58: 0 | BV58: NA | BW58: 0.9821 | BX58: 0.6429 | BY58: 0.9492 | BZ58: 0.6143 | CA58: 0.9811 | CB58: 0.7857 | CC58: 0.875 | CD58: No | CE58: No | CF58: 0.8898 | CG58: 0.5294 | CH58: 1 | CI58: 0.0968 | CJ58: 0.6129 | CK58: 0.7742 | CL58: 0.5833 | CM58: 42
A59: Lexington 5 | B59: 1020 Dutch Fork Road | C59: Irmo | D59: SC | E59: 29063 | F59: 3 | G59: 3 | H59: 3 | I59: 3 | J59: 3 | K59: 3 | L59: 3 | M59: 3 | N59: 0.664 | O59: 0.6281 | P59: 3 | Q59: NA | R59: 0.2218 | S59: 3 | T59: NA | U59: 0.2265 | V59: 3 | W59: 0.1214 | X59: 0.1286 | Y59: 3 | Z59: 0.2198 | AA59: 0.2925 | AB59: 3 | AC59: 0.1127 | AD59: 0.0762 | AE59: 3 | AF59: NA | AG59: 0.362 | AH59: 0 | AI59: 0.664 | AJ59: 0.232 | AK59: 0.8693 | AL59: 0.7654 | AM59: 0.6406 | AN59: 0.8643 | AO59: 0.7853 | AP59: 0.5888 | AQ59: 0.2934 | AR59: 0.1197 | AS59: 0.5441 | AT59: 0.3434 | AU59: 0.0661 | AV59: 0.2804 | AW59: 0.3333 | AX59: 0.1429 | AY59: 0.7857 | AZ59: 0.5 | BA59: 0.2857 | BB59: 0.3333 | BC59: 0.3019 | BD59: 0.3929 | BE59: 0.3386 | BF59: 0.1864 | BG59: 0.3275 | BH59: 0.2442 | BI59: No | BJ59: No | BK59: 0.6959 | BL59: 0.1286 | BM59: 0.0028 | BN59: 0 | BO59: 0.3182 | BP59: 0.4545 | BQ59: 0.5625 | BR59: 0.1705 | BS59: 0.0909 | BT59: 0.2292 | BU59: 0.2045 | BV59: 0.1818 | BW59: 0.8723 | BX59: 0.4704 | BY59: 0.8259 | BZ59: 0.4427 | CA59: 0.8431 | CB59: 0.6245 | CC59: 0.9697 | CD59: No | CE59: No | CF59: 0.8779 | CG59: 0.6889 | CH59: 0.9 | CI59: 0.1613 | CJ59: 0.5806 | CK59: 0.8065 | CL59: 1 | CM59: 42
A60: Marion | B60: 719 North Main Street | C60: Marion | D60: NC | E60: 29571 | F60: 3 | G60: 3 | H60: 2 | I60: 3 | J60: 3 | K60: 3 | L60: 3 | M60: 0 | N60: 0.7222 | O60: 0.4364 | P60: 1 | Q60: NA | R60: 0.0778 | S60: 1 | T60: NA | U60: 0.033 | V60: 3 | W60: 0.1076 | X60: 0.1198 | Y60: 3 | Z60: 0 | AA60: 0 | AB60: 3 | AC60: 0.2708 | AD60: 0.0847 | AE60: 1 | AF60: NA | AG60: 0.131 | AH60: 0 | AI60: 0.7222 | AJ60: 0.2593 | AK60: 0.8636 | AL60: 0.8298 | AM60: 0.8511 | AN60: 0.9524 | AO60: 0.8043 | AP60: 0.7778 | AQ60: 0.0755 | AR60: 0.0811 | AS60: 0.2051 | AT60: 0.0536 | AU60: 0 | AV60: 0.0667 | AW60: 0.25 | AX60: 0 | AY60: 0 | AZ60: 0 | BA60: 0.5 | BB60: 0.25 | BC60: 0.1134 | BD60: 0.1482 | BE60: 0.4492 | BF60: 0.0247 | BG60: 0.0649 | BH60: 0.1874 | BI60: Yes | BJ60: No | BK60: 0.6866 | BL60: 0.1198 | BM60: 0.0046 | BN60: 0.6667 | BO60: 0.7273 | BP60: 0.4 | BQ60: NA | BR60: 0 | BS60: NA | BT60: NA | BU60: 0 | BV60: NA | BW60: 0.8182 | BX60: 0.3333 | BY60: 0.8529 | BZ60: 0.3611 | CA60: 0.7778 | CB60: 0.4444 | CC60: 0.8421 | CD60: No | CE60: No | CF60: 0.7564 | CG60: 0.3636 | CH60: 1 | CI60: 0.0909 | CJ60: 0.5455 | CK60: 0.7273 | CL60: 0.7222 | CM60: 42
A61: Marlboro | B61: Post Office Box 947 | C61: Bennettsville | D61: SC | E61: 29512 | F61: 3 | G61: 3 | H61: 3 | I61: 3 | J61: 3 | K61: 3 | L61: 3 | M61: 0 | N61: 0.6538 | O61: 0.1304 | P61: 0 | Q61: NA | R61: 0 | S61: 0 | T61: NA | U61: 0 | V61: 0 | W61: 0.2724 | X61: 0.2848 | Y61: 0 | Z61: 0.3774 | AA61: 0.6667 | AB61: 3 | AC61: 0.1211 | AD61: 0.0373 | AE61: 1 | AF61: NA | AG61: 0.119 | AH61: 0 | AI61: 0.6538 | AJ61: 0.1538 | AK61: 0.9189 | AL61: 0.7561 | AM61: 0.6429 | AN61: 0.9189 | AO61: 0.8095 | AP61: 0.925 | AQ61: 0 | AR61: 0 | AS61: 0.3125 | AT61: 0 | AU61: 0 | AV61: 0.1154 | AW61: 0.5 | AX61: 0.6667 | AY61: 0.9091 | AZ61: 0 | BA61: 0 | BB61: 0.9091 | BC61: 0.2033 | BD61: 0.2301 | BE61: 0.432 | BF61: 0.1992 | BG61: 0.1207 | BH61: 0.0721 | BI61: No | BJ61: No | BK61: 0.6086 | BL61: 0.2848 | BM61: 0.0082 | BN61: NA | BO61: 0.25 | BP61: 0.6 | BQ61: 1 | BR61: 0.6667 | BS61: 0.4 | BT61: NA | BU61: 0 | BV61: NA | BW61: 0.75 | BX61: 0.45 | BY61: 0.8235 | BZ61: 0.3 | CA61: 0.7333 | CB61: 0.45 | CC61: 0.5 | CD61: No | CE61: No | CF61: 0.8806 | CG61: NA | CH61: 0.62 | CI61: 0 | CJ61: 0.2857 | CK61: 0.7143 | CL61: 0.5278 | CM61: 42
A62: McCormick | B62: 821 N. Mine Street | C62: McCormick | D62: SC | E62: 29835 | F62: 3 | G62: 3 | H62: 3 | I62: 3 | J62: 3 | K62: 3 | L62: 3 | M62: 3 | N62: 0.6 | O62: 0.9091 | P62: 1 | Q62: NA | R62: 0.0909 | S62: 1 | T62: NA | U62: 0.0435 | V62: 0 | W62: 0.0978 | X62: 0.188 | Y62: 0 | Z62: 0.25 | AA62: 0 | AB62: 1 | AC62: 0.1538 | AD62: 0.1 | AE62: 3 | AF62: NA | AG62: 0.273 | AH62: 2 | AI62: 0.6 | AJ62: 0.4 | AK62: 0.8462 | AL62: 1 | AM62: 0.9 | AN62: 0.9231 | AO62: 1 | AP62: 0.75 | AQ62: 0.1818 | AR62: 0 | AS62: 0.2 | AT62: 0 | AU62: 0.0909 | AV62: 0.1111 | AW62: NA | AX62: 0 | AY62: 0.25 | AZ62: NA | BA62: 0 | BB62: NA | BC62: -0.019 | BD62: 0.2128 | BE62: 0.6108 | BF62: 0.0909 | BG62: 0.1644 | BH62: 0.0502 | BI62: No | BJ62: No | BK62: 0.6325 | BL62: 0.188 | BM62: 0.0256 | BN62: 1 | BO62: NA | BP62: NA | BQ62: NA | BR62: NA | BS62: NA | BT62: NA | BU62: NA | BV62: NA | BW62: 0.8571 | BX62: 0.1429 | BY62: 0.8571 | BZ62: 0.1429 | CA62: 0.8571 | CB62: 0.4286 | CC62: 0.8 | CD62: No | CE62: No | CF62: 0.8824 | CG62: 0.5 | CH62: 0.9 | CI62: 0.2 | CJ62: 0.6 | CK62: 0.8 | CL62: 0.8056 | CM62: 42
A63: Newberry | B63: P. O. Box 718 | C63: Newberry | D63: SC | E63: 29108 | F63: 3 | G63: 3 | H63: 3 | I63: 1 | J63: 3 | K63: 3 | L63: 3 | M63: 1 | N63: 0 | O63: 0.125 | P63: 3 | Q63: NA | R63: 0.1346 | S63: 3 | T63: NA | U63: 0.1727 | V63: 0 | W63: 0.1406 | X63: 0.1649 | Y63: 3 | Z63: 0.1014 | AA63: 0.1935 | AB63: 3 | AC63: 0.1301 | AD63: 0.0869 | AE63: 1 | AF63: NA | AG63: 0.143 | AH63: 2 | AI63: 0 | AJ63: 0.3571 | AK63: 0.8077 | AL63: 0.7925 | AM63: 0.9167 | AN63: 0.8831 | AO63: 0.7963 | AP63: 0.6947 | AQ63: 0.1905 | AR63: 0.0488 | AS63: 0.2545 | AT63: 0.2353 | AU63: 0.0714 | AV63: 0.1515 | AW63: NA | AX63: 0 | AY63: NA | AZ63: NA | BA63: 0 | BB63: NA | BC63: 0.2084 | BD63: 0.2712 | BE63: 0.5196 | BF63: 0.1203 | BG63: 0.1968 | BH63: 0.3607 | BI63: No | BJ63: No | BK63: 0.727 | BL63: 0.1649 | BM63: 0.0122 | BN63: 0.1 | BO63: 0.5333 | BP63: 0.3333 | BQ63: 0.4 | BR63: 0.1333 | BS63: NA | BT63: 0.2 | BU63: 0 | BV63: NA | BW63: 0.7813 | BX63: 0.5676 | BY63: 0.75 | BZ63: 0.4865 | CA63: 0.8065 | CB63: 0.6486 | CC63: 0.9362 | CD63: No | CE63: No | CF63: 0.9252 | CG63: 0.2 | CH63: 1 | CI63: 0.1277 | CJ63: 0.234 | CK63: 0.8085 | CL63: 0.8056 | CM63: 42
A64: Oconee | B64: 414 South Pine Street | C64: Walhalla | D64: SC | E64: 29691 | F64: 3 | G64: 3 | H64: 2 | I64: 3 | J64: 2 | K64: 3 | L64: 3 | M64: 1 | N64: 0.5 | O64: 0.5288 | P64: 1 | Q64: NA | R64: 0.0962 | S64: 1 | T64: NA | U64: 0.102 | V64: 0 | W64: 0.2063 | X64: 0.2198 | Y64: 0 | Z64: 0.4409 | AA64: 0.5794 | AB64: 1 | AC64: 0.0998 | AD64: 0.0924 | AE64: 3 | AF64: NA | AG64: 0.316 | AH64: 2 | AI64: 0.5 | AJ64: 0.2647 | AK64: 0.9953 | AL64: 0.9733 | AM64: 0.9375 | AN64: 0.9953 | AO64: 0.98 | AP64: 0.85 | AQ64: 0.1238 | AR64: 0.0567 | AS64: 0.4935 | AT64: 0.1287 | AU64: 0.0638 | AV64: 0.1792 | AW64: 0.5 | AX64: 0.6 | AY64: 0.7692 | AZ64: 0.5 | BA64: 0.5 | BB64: 0.6923 | BC64: 0.284 | BD64: 0.3762 | BE64: 0.3612 | BF64: 0.2648 | BG64: 0.3427 | BH64: 0.3659 | BI64: No | BJ64: Yes | BK64: 0.5558 | BL64: 0.2198 | BM64: 0.0169 | BN64: 0.0256 | BO64: 0.225 | BP64: 0.1429 | BQ64: 0.6667 | BR64: 0.525 | BS64: 0.7143 | BT64: 0.0513 | BU64: 0.0625 | BV64: NA | BW64: 0.8026 | BX64: 0.5801 | BY64: 0.8776 | BZ64: 0.5249 | CA64: 0.855 | CB64: 0.663 | CC64: 0.8514 | CD64: No | CE64: No | CF64: 0.9277 | CG64: 0.7429 | CH64: 1 | CI64: 0.05 | CJ64: 0.15 | CK64: 0.95 | CL64: 0.6111 | CM64: 42
A65: Orangeburg | B65: 102 Founder's Court | C65: Orangeburg | D65: SC | E65: 29118 | F65: 3 | G65: 3 | H65: 3 | I65: 3 | J65: 3 | K65: 3 | L65: 3 | M65: 0 | N65: 0.6111 | O65: 0.3 | P65: 1 | Q65: NA | R65: 0.0526 | S65: 1 | T65: NA | U65: 0.027 | V65: 0 | W65: 0.3128 | X65: 0.3143 | Y65: 3 | Z65: 0.1296 | AA65: 0.2439 | AB65: 3 | AC65: 0.1347 | AD65: 0 | AE65: 1 | AF65: NA | AG65: 0.11 | AH65: 0 | AI65: 0.6111 | AJ65: 0.1667 | AK65: 0.2752 | AL65: 0.1504 | AM65: 0.4111 | AN65: 0.2569 | AO65: 0.1579 | AP65: 0.3626 | AQ65: 0.0833 | AR65: 0 | AS65: 0.3784 | AT65: 0.0455 | AU65: 0 | AV65: 0.0313 | AW65: 0.8333 | AX65: 0.5 | AY65: NA | AZ65: 0.5 | BA65: 0.1667 | BB65: 1 | BC65: 0.2431 | BD65: 0.2444 | BE65: 0.3237 | BF65: 0.1108 | BG65: 0.0562 | BH65: 0.2043 | BI65: No | BJ65: No | BK65: 0.4993 | BL65: 0.3143 | BM65: 0.002 | BN65: 0.4167 | BO65: 0.5909 | BP65: 0.5714 | BQ65: 0.0833 | BR65: 0.3182 | BS65: 0.2857 | BT65: 0.0833 | BU65: 0 | BV65: NA | BW65: 0.9444 | BX65: 0.6567 | BY65: 0.8871 | BZ65: 0.6119 | CA65: 0.8864 | CB65: 0.7313 | CC65: 0.9796 | CD65: No | CE65: No | CF65: 0.8209 | CG65: 0.1053 | CH65: 0.625 | CI65: 0.1053 | CJ65: 0.6316 | CK65: 0.7368 | CL65: 0.6667 | CM65: 42
A66: Palmetto Unified | B66: 4444 Broad River Road | C66: Columbia | D66: SC | E66: 29210 | F66: 3 | G66: 2 | H66: 3 | I66: NA | J66: NA | K66: 3 | L66: 3 | M66: NA | N66: NA | O66: NA | P66: NA | Q66: NA | R66: NA | S66: NA | T66: NA | U66: NA | V66: NA | W66: NA | X66: NA | Y66: NA | Z66: NA | AA66: NA | AB66: NA | AC66: NA | AD66: NA | AE66: NA | AF66: NA | AG66: NA | AH66: 0 | AI66: 0 | AJ66: 0.6364 | AK66: NA | AL66: NA | AM66: NA | AN66: NA | AO66: NA | AP66: NA | AQ66: NA | AR66: NA | AS66: NA | AT66: NA | AU66: NA | AV66: NA | AW66: NA | AX66: NA | AY66: NA | AZ66: NA | BA66: NA | BB66: NA | BC66: NA | BD66: NA | BE66: NA | BF66: NA | BG66: NA | BH66: NA | BI66: No | BJ66: No | BK66: 0.025 | BL66: 0 | BM66: 0 | BN66: NA | BO66: NA | BP66: NA | BQ66: NA | BR66: NA | BS66: NA | BT66: NA | BU66: NA | BV66: NA | BW66: NA | BX66: NA | BY66: NA | BZ66: NA | CA66: NA | CB66: NA | CC66: NA | CD66: No | CE66: No | CF66: NA | CG66: NA | CH66: 1 | CI66: NA | CJ66: NA | CK66: NA | CL66: 0.8889 | CM66: 15
A67: Pickens | B67: 1400 Griffin Mill Rd. | C67: Easley | D67: SC | E67: 29640 | F67: 3 | G67: 3 | H67: 3 | I67: 3 | J67: 2 | K67: 3 | L67: 3 | M67: 0 | N67: 0.7105 | O67: 0.5492 | P67: 1 | Q67: NA | R67: 0.0898 | S67: 1 | T67: NA | U67: 0.0963 | V67: 3 | W67: 0.1369 | X67: 0.1339 | Y67: 0 | Z67: 0.3679 | AA67: 0.5333 | AB67: 1 | AC67: 0.1266 | AD67: 0.0914 | AE67: 3 | AF67: NA | AG67: 0.311 | AH67: 0 | AI67: 0.7105 | AJ67: 0.2193 | AK67: 0.9689 | AL67: 0.9349 | AM67: 0.9745 | AN67: 0.9689 | AO67: 0.929 | AP67: 0.7828 | AQ67: 0.1404 | AR67: 0.0276 | AS67: 0.4266 | AT67: 0.1461 | AU67: 0.0347 | AV67: 0.2313 | AW67: 0.4444 | AX67: 0.0769 | AY67: 0.5 | AZ67: 0.2222 | BA67: 0.2308 | BB67: 0.5 | BC67: 0.3578 | BD67: 0.4079 | BE67: 0.4075 | BF67: 0.3229 | BG67: 0.3394 | BH67: 0.214 | BI67: No | BJ67: No | BK67: 0.6833 | BL67: 0.1339 | BM67: 0.013 | BN67: 0.1818 | BO67: 0.3065 | BP67: 0.1 | BQ67: 0.4848 | BR67: 0.5323 | BS67: 0.7 | BT67: 0 | BU67: 0.0323 | BV67: NA | BW67: 0.776 | BX67: 0.3664 | BY67: 0.75 | BZ67: 0.4122 | CA67: 0.7742 | CB67: 0.5344 | CC67: 0.8049 | CD67: No | CE67: No | CF67: 0.9171 | CG67: 0.6 | CH67: 1 | CI67: 0.2 | CJ67: 0.55 | CK67: 0.7 | CL67: 0.6389 | CM67: 42
A68: Richland 1 | B68: 1225 Oak Street | C68: Columbia | D68: SC | E68: 29204 | F68: 3 | G68: 3 | H68: 3 | I68: 3 | J68: 1 | K68: 3 | L68: 3 | M68: 1 | N68: 0.3606 | O68: 0.4795 | P68: 1 | Q68: NA | R68: 0.0767 | S68: 1 | T68: NA | U68: 0.0506 | V68: 1 | W68: 0.1854 | X68: 0.1611 | Y68: 0 | Z68: 0.4439 | AA68: 0.4624 | AB68: 3 | AC68: 0.1852 | AD68: 0.0543 | AE68: 1 | AF68: NA | AG68: 0.112 | AH68: 2 | AI68: 0.3606 | AJ68: 0.4387 | AK68: 0.7059 | AL68: 0.5581 | AM68: 0.2804 | AN68: 0.7109 | AO68: 0.5618 | AP68: 0.3571 | AQ68: 0.0988 | AR68: 0.0496 | AS68: 0.3404 | AT68: 0.0805 | AU68: 0.0141 | AV68: 0.1154 | AW68: 0.75 | AX68: 0.75 | AY68: 0.1667 | AZ68: 0.75 | BA68: 0.875 | BB68: 0.1667 | BC68: 0.2447 | BD68: 0.2445 | BE68: 0.5059 | BF68: 0.2042 | BG68: 0.1766 | BH68: 0.1946 | BI68: No | BJ68: No | BK68: 0.5782 | BL68: 0.1611 | BM68: 0.0252 | BN68: 0.0476 | BO68: 0.4167 | BP68: 0.6667 | BQ68: 0.6667 | BR68: 0.4167 | BS68: 0.3333 | BT68: 0 | BU68: 0.0167 | BV68: 0 | BW68: 0.7882 | BX68: 0.3656 | BY68: 0.7059 | BZ68: 0.3763 | CA68: 0.6842 | CB68: 0.5484 | CC68: 0.8901 | CD68: No | CE68: No | CF68: 0.8212 | CG68: 0.283 | CH68: 1 | CI68: 0.0717 | CJ68: 0.2867 | CK68: 0.8566 | CL68: 0.6389 | CM68: 42
A69: Richland 2 | B69: 124 Risdon Way | C69: Columbia | D69: SC | E69: 29223 | F69: 2 | G69: 3 | H69: 3 | I69: 3 | J69: 2 | K69: 3 | L69: 3 | M69: 3 | N69: 0.5924 | O69: 0.6684 | P69: 1 | Q69: NA | R69: 0.1224 | S69: 1 | T69: NA | U69: 0.1101 | V69: 0 | W69: 0.1513 | X69: 0.1544 | Y69: 3 | Z69: 0.1445 | AA69: 0.2543 | AB69: 3 | AC69: 0.1326 | AD69: 0.0274 | AE69: 2 | AF69: NA | AG69: 0.224 | AH69: 0 | AI69: 0.5924 | AJ69: 0.2891 | AK69: 0.7978 | AL69: 0.5823 | AM69: 0.4809 | AN69: 0.8089 | AO69: 0.6309 | AP69: 0.5232 | AQ69: 0.1407 | AR69: 0.0926 | AS69: 0.3832 | AT69: 0.1461 | AU69: 0.0562 | AV69: 0.259 | AW69: 0.6 | AX69: 0.1818 | AY69: 0.5263 | AZ69: 0.52 | BA69: 0.5455 | BB69: 0.4737 | BC69: 0.2736 | BD69: 0.3663 | BE69: 0.4708 | BF69: 0.2494 | BG69: 0.1628 | BH69: 0.2593 | BI69: Yes | BJ69: Yes | BK69: 0.6693 | BL69: 0.1544 | BM69: 0.0028 | BN69: 0.0769 | BO69: 0.4312 | BP69: 0.68 | BQ69: 0.641 | BR69: 0.1651 | BS69: 0.04 | BT69: 0 | BU69: 0 | BV69: 0 | BW69: 0.8654 | BX69: 0.5668 | BY69: 0.8188 | BZ69: 0.5829 | CA69: 0.807 | CB69: 0.7219 | CC69: 0.9066 | CD69: No | CE69: No | CF69: 0.7965 | CG69: 0.303 | CH69: 1 | CI69: 0.1667 | CJ69: 0.5758 | CK69: 0.7576 | CL69: 0.7222 | CM69: 42
A70: Saluda | B70: 404 N. Wise Rd. | C70: Saluda | D70: SC | E70: 29138 | F70: 3 | G70: 3 | H70: 3 | I70: 3 | J70: 3 | K70: 3 | L70: 3 | M70: 0 | N70: 0.5385 | O70: 0.4643 | P70: 1 | Q70: NA | R70: 0.0469 | S70: 3 | T70: NA | U70: 0.125 | V70: 3 | W70: 0.1417 | X70: 0.147 | Y70: 3 | Z70: 0.175 | AA70: 0.1538 | AB70: 1 | AC70: 0.157 | AD70: 0.1015 | AE70: 3 | AF70: NA | AG70: 0.281 | AH70: 2 | AI70: 0.5385 | AJ70: 0.3462 | AK70: 1 | AL70: 1 | AM70: 1 | AN70: 1 | AO70: 1 | AP70: 0.8049 | AQ70: 0.0303 | AR70: 0.0645 | AS70: 0.3913 | AT70: 0.2424 | AU70: 0 | AV70: 0.1 | AW70: NA | AX70: 1 | AY70: 0 | AZ70: NA | BA70: 1 | BB70: 0 | BC70: 0.352 | BD70: 0.3139 | BE70: 0.2381 | BF70: 0.3458 | BG70: 0.2649 | BH70: 0.2058 | BI70: No | BJ70: No | BK70: 0.6982 | BL70: 0.147 | BM70: 0.0079 | BN70: NA | BO70: 0.1111 | BP70: NA | BQ70: 0.3333 | BR70: 0.1111 | BS70: NA | BT70: NA | BU70: NA | BV70: NA | BW70: 0.9231 | BX70: 0.6429 | BY70: 0.96 | BZ70: 0.5 | CA70: 0.963 | CB70: 0.7143 | CC70: 0.8919 | CD70: No | CE70: Yes | CF70: 0.7463 | CG70: 0.4615 | CH70: 1 | CI70: 0.1154 | CJ70: 0.2692 | CK70: 0.9615 | CL70: 0.8611 | CM70: 42
A71: SCDJJ | B71: 220 Executive Drive Winthrop Building, 3rd Floor | C71: Columbia | D71: SC | E71: 29212 | F71: 3 | G71: 3 | H71: 3 | I71: 3 | J71: NA | K71: 3 | L71: 3 | M71: NA | N71: NA | O71: NA | P71: 0 | Q71: NA | R71: 0 | S71: 0 | T71: NA | U71: 0 | V71: NA | W71: NA | X71: NA | Y71: NA | Z71: NA | AA71: NA | AB71: NA | AC71: NA | AD71: NA | AE71: 1 | AF71: NA | AG71: 0.015 | AH71: 0 | AI71: 1 | AJ71: 0 | AK71: NA | AL71: 0.6429 | AM71: 0.9167 | AN71: NA | AO71: 0.6667 | AP71: 0.4118 | AQ71: NA | AR71: 0 | AS71: 0.3636 | AT71: NA | AU71: 0 | AV71: 0 | AW71: NA | AX71: NA | AY71: NA | AZ71: NA | BA71: NA | BB71: NA | BC71: NA | BD71: 0.0465 | BE71: 0.1564 | BF71: NA | BG71: 0 | BH71: 0 | BI71: No | BJ71: No | BK71: 0.0504 | BL71: NA | BM71: NA | BN71: NA | BO71: NA | BP71: NA | BQ71: NA | BR71: NA | BS71: NA | BT71: NA | BU71: NA | BV71: NA | BW71: NA | BX71: NA | BY71: NA | BZ71: NA | CA71: NA | CB71: NA | CC71: NA | CD71: No | CE71: No | CF71: NA | CG71: NA | CH71: 1 | CI71: NA | CJ71: NA | CK71: NA | CL71: 0.619 | CM71: 24
A72: SCGSSM | B72: 401 Railroad Ave | C72: Hartsville | D72: SC | E72: 29550 | F72: 3 | G72: NA | H72: 3 | I72: 3 | J72: NA | K72: 3 | L72: NA | M72: NA | N72: NA | O72: NA | P72: NA | Q72: NA | R72: NA | S72: NA | T72: NA | U72: NA | V72: NA | W72: NA | X72: NA | Y72: NA | Z72: NA | AA72: NA | AB72: NA | AC72: NA | AD72: NA | AE72: 0 | AF72: NA | AG72: 0 | AH72: 0 | AI72: NA | AJ72: NA | AK72: NA | AL72: NA | AM72: NA | AN72: NA | AO72: NA | AP72: NA | AQ72: NA | AR72: NA | AS72: NA | AT72: NA | AU72: NA | AV72: NA | AW72: NA | AX72: NA | AY72: NA | AZ72: NA | BA72: NA | BB72: NA | BC72: NA | BD72: NA | BE72: NA | BF72: NA | BG72: NA | BH72: NA | BI72: NA | BJ72: NA | BK72: 1 | BL72: NA | BM72: NA | BN72: NA | BO72: NA | BP72: NA | BQ72: NA | BR72: NA | BS72: NA | BT72: NA | BU72: NA | BV72: NA | BW72: NA | BX72: NA | BY72: NA | BZ72: NA | CA72: NA | CB72: NA | CC72: NA | CD72: NA | CE72: NA | CF72: NA | CG72: NA | CH72: NA | CI72: NA | CJ72: NA | CK72: NA | CL72: 0.75 | CM72: 18
A73: SCGSAH | B73: 15 University Street | C73: Greenville | D73: SC | E73: 29601 | F73: 3 | G73: 3 | H73: 3 | I73: 3 | J73: NA | K73: 3 | L73: NA | M73: NA | N73: NA | O73: NA | P73: NA | Q73: NA | R73: NA | S73: NA | T73: NA | U73: NA | V73: NA | W73: NA | X73: NA | Y73: NA | Z73: NA | AA73: NA | AB73: NA | AC73: NA | AD73: NA | AE73: 2 | AF73: NA | AG73: 0.231 | AH73: 0 | AI73: NA | AJ73: NA | AK73: NA | AL73: NA | AM73: NA | AN73: NA | AO73: NA | AP73: NA | AQ73: NA | AR73: NA | AS73: 1 | AT73: NA | AU73: NA | AV73: NA | AW73: NA | AX73: NA | AY73: NA | AZ73: NA | BA73: NA | BB73: NA | BC73: NA | BD73: NA | BE73: NA | BF73: NA | BG73: NA | BH73: NA | BI73: NA | BJ73: NA | BK73: 1 | BL73: NA | BM73: NA | BN73: NA | BO73: NA | BP73: NA | BQ73: NA | BR73: NA | BS73: NA | BT73: NA | BU73: NA | BV73: NA | BW73: NA | BX73: NA | BY73: NA | BZ73: NA | CA73: NA | CB73: NA | CC73: NA | CD73: NA | CE73: NA | CF73: NA | CG73: NA | CH73: 0 | CI73: NA | CJ73: NA | CK73: NA | CL73: 0.9333 | CM73: 21
A74: SCPCSD | B74: 3710 Landmark Drive | C74: Columbia | D74: SC | E74: 29204 | F74: 3 | G74: 3 | H74: 3 | I74: 3 | J74: 3 | K74: 3 | L74: 3 | M74: 3 | N74: 0.7947 | O74: 0.6892 | P74: 3 | Q74: NA | R74: 0.2256 | S74: 3 | T74: NA | U74: 0.1336 | V74: 3 | W74: 0.0523 | X74: 0.0299 | Y74: 0 | Z74: 0.5632 | AA74: 0.9211 | AB74: 3 | AC74: 0.0563 | AD74: 0.0384 | AE74: 2 | AF74: NA | AG74: 0.224 | AH74: 0 | AI74: 0.7947 | AJ74: 0.2053 | AK74: 0.907 | AL74: 0.8014 | AM74: 0.7411 | AN74: 0.9064 | AO74: 0.7801 | AP74: 0.7594 | AQ74: 0.2532 | AR74: 0.1875 | AS74: 0.6585 | AT74: 0.1569 | AU74: 0.1009 | AV74: 0.3465 | AW74: 1 | AX74: 0 | AY74: 1 | AZ74: 0.5 | BA74: 0 | BB74: NA | BC74: 0.22 | BD74: 0.3241 | BE74: 0.2538 | BF74: 0.2599 | BG74: 0.2468 | BH74: 0.1988 | BI74: No | BJ74: No | BK74: 0.8487 | BL74: 0.0299 | BM74: 0.0252 | BN74: NA | BO74: 0.1053 | BP74: 0.25 | BQ74: 1 | BR74: 0.8947 | BS74: 0.75 | BT74: NA | BU74: NA | BV74: NA | BW74: 0.8364 | BX74: 0.6087 | BY74: 0.8868 | BZ74: 0.5797 | CA74: 0.8636 | CB74: 0.7246 | CC74: 0.9105 | CD74: No | CE74: No | CF74: 0.8364 | CG74: 0 | CH74: 0.75 | CI74: 0.0976 | CJ74: 0.4634 | CK74: 0.7561 | CL74: 0.8889 | CM74: 39
A75: SCSDB | B75: 355 Cedar Springs Rd. | C75: Spartanburg | D75: SC | E75: 29302 | F75: 3 | G75: 3 | H75: 3 | I75: 3 | J75: 3 | K75: 3 | L75: NA | M75: 1 | N75: 0.4118 | O75: 0.5333 | P75: 1 | Q75: NA | R75: 0.0556 | S75: 0 | T75: NA | U75: 0 | V75: NA | W75: NA | X75: NA | Y75: NA | Z75: 1 | AA75: 1 | AB75: 3 | AC75: 0.0348 | AD75: 0.0578 | AE75: 1 | AF75: NA | AG75: 0.063 | AH75: 2 | AI75: 0.4118 | AJ75: 0 | AK75: 1 | AL75: 1 | AM75: 1 | AN75: 1 | AO75: 1 | AP75: 1 | AQ75: 0 | AR75: 0.125 | AS75: 0.2 | AT75: 0 | AU75: 0 | AV75: 0.0909 | AW75: NA | AX75: 1 | AY75: 0.6 | AZ75: NA | BA75: 0.6667 | BB75: 0.6 | BC75: 0 | BD75: 0 | BE75: 0 | BF75: 0 | BG75: 0 | BH75: 0 | BI75: No | BJ75: No | BK75: NA | BL75: NA | BM75: NA | BN75: NA | BO75: NA | BP75: NA | BQ75: NA | BR75: NA | BS75: NA | BT75: NA | BU75: NA | BV75: NA | BW75: 0.6667 | BX75: 0.3333 | BY75: 0.8 | BZ75: 0.1667 | CA75: 1 | CB75: 0.3333 | CC75: NA | CD75: No | CE75: NA | CF75: 1 | CG75: NA | CH75: 1 | CI75: 0.2353 | CJ75: 0.4118 | CK75: 0.5294 | CL75: 0.8519 | CM75: 39
A76: Spartanburg 1 | B76: 121 Wheeler Street | C76: Campobello | D76: SC | E76: 29322 | F76: 3 | G76: 3 | H76: 3 | I76: 3 | J76: 3 | K76: 3 | L76: 3 | M76: 0 | N76: 0.5667 | O76: 0.5517 | P76: 1 | Q76: NA | R76: 0.119 | S76: 3 | T76: NA | U76: 0.1839 | V76: 3 | W76: 0.1015 | X76: 0.1082 | Y76: 3 | Z76: 0.1228 | AA76: 0.027 | AB76: 3 | AC76: 0.1036 | AD76: 0.0656 | AE76: 2 | AF76: NA | AG76: 0.244 | AH76: 0 | AI76: 0.5667 | AJ76: 0.1333 | AK76: 0.9608 | AL76: 0.8776 | AM76: 0.9783 | AN76: 0.9804 | AO76: 0.9388 | AP76: 1 | AQ76: 0.2222 | AR76: 0 | AS76: 0.5676 | AT76: 0.2889 | AU76: 0.0714 | AV76: 0.1071 | AW76: 1 | AX76: 0 | AY76: 0.5 | AZ76: 0.8 | BA76: 0.25 | BB76: 0.125 | BC76: 0.2664 | BD76: 0.4311 | BE76: 0.3108 | BF76: 0.1628 | BG76: 0.2783 | BH76: 0.3535 | BI76: No | BJ76: No | BK76: 0.7627 | BL76: 0.1082 | BM76: 0.0035 | BN76: 0.5385 | BO76: 0.7647 | BP76: 0.5714 | BQ76: 0 | BR76: 0.0588 | BS76: NA | BT76: 0.1538 | BU76: 0.0588 | BV76: 0.1429 | BW76: 0.7857 | BX76: 0.6286 | BY76: 0.8462 | BZ76: 0.6571 | CA76: 0.8077 | CB76: 0.7714 | CC76: 0.9079 | CD76: No | CE76: No | CF76: 0.918 | CG76: 0.5714 | CH76: 0.6667 | CI76: 0.25 | CJ76: 0.75 | CK76: 0.75 | CL76: 0.8333 | CM76: 42
A77: Spartanburg 2 | B77: 3231 Old Furnace Rd | C77: Chesnee | D77: SC | E77: 29323 | F77: 3 | G77: 3 | H77: 3 | I77: 3 | J77: 3 | K77: 3 | L77: 3 | M77: 0 | N77: 0.6143 | O77: 0.4659 | P77: 3 | Q77: NA | R77: 0.2258 | S77: 3 | T77: NA | U77: 0.21 | V77: 1 | W77: 0.173 | X77: 0.1686 | Y77: 3 | Z77: 0.0305 | AA77: 0.0132 | AB77: 1 | AC77: 0.1074 | AD77: 0.0976 | AE77: 3 | AF77: NA | AG77: 0.284 | AH77: 0 | AI77: 0.6143 | AJ77: 0.2286 | AK77: 0.985 | AL77: 0.9524 | AM77: 0.9848 | AN77: 0.9925 | AO77: 0.9619 | AP77: 0.819 | AQ77: 0.2891 | AR77: 0.1348 | AS77: 0.5636 | AT77: 0.3023 | AU77: 0.0778 | AV77: 0.2941 | AW77: 1 | AX77: 0.0909 | AY77: 0.2 | AZ77: 0.6667 | BA77: 0.3636 | BB77: 0 | BC77: 0.3395 | BD77: 0.3478 | BE77: 0.3315 | BF77: 0.3098 | BG77: 0.2984 | BH77: 0.3351 | BI77: No | BJ77: No | BK77: 0.7321 | BL77: 0.1686 | BM77: 0.0064 | BN77: 0.5 | BO77: 0.75 | BP77: 0.625 | BQ77: 0 | BR77: 0.025 | BS77: NA | BT77: 0.1071 | BU77: 0.025 | BV77: NA | BW77: 0.8462 | BX77: 0.6104 | BY77: 0.85 | BZ77: 0.5844 | CA77: 0.8776 | CB77: 0.7662 | CC77: 0.913 | CD77: No | CE77: No | CF77: 0.9044 | CG77: 0.2727 | CH77: 1 | CI77: 0.2 | CJ77: 0.8 | CK77: 0.8 | CL77: 0.8056 | CM77: 42
A78: Spartanburg 3 | B78: PO Box 267 | C78: Glendale | D78: SC | E78: 29346 | F78: 3 | G78: 3 | H78: 2 | I78: 3 | J78: 3 | K78: 3 | L78: 3 | M78: 3 | N78: 0.4 | O78: 0.6563 | P78: 3 | Q78: NA | R78: 0.125 | S78: 3 | T78: NA | U78: 0.1408 | V78: 3 | W78: 0.1237 | X78: 0.1064 | Y78: 3 | Z78: 0.25 | AA78: 0.2143 | AB78: 1 | AC78: 0.1121 | AD78: 0.1098 | AE78: 3 | AF78: NA | AG78: 0.283 | AH78: 2 | AI78: 0.4 | AJ78: 0.2 | AK78: 0.9773 | AL78: 0.9697 | AM78: 0.9697 | AN78: 0.9773 | AO78: 0.9688 | AP78: 0.9091 | AQ78: 0.2195 | AR78: 0 | AS78: 0.4138 | AT78: 0.2439 | AU78: 0 | AV78: 0.1538 | AW78: 0 | AX78: 1 | AY78: 0.6667 | AZ78: 0.5 | BA78: 0 | BB78: 0 | BC78: 0.3099 | BD78: 0.4162 | BE78: 0.3842 | BF78: 0.3443 | BG78: 0.2741 | BH78: 0.2999 | BI78: No | BJ78: No | BK78: 0.7116 | BL78: 0.1064 | BM78: 0.0047 | BN78: NA | BO78: 0.625 | BP78: 1 | BQ78: 0.25 | BR78: 0.25 | BS78: NA | BT78: 0.5 | BU78: 0.125 | BV78: NA | BW78: 1 | BX78: 0.7 | BY78: 0.8929 | BZ78: 0.5667 | CA78: 0.9048 | CB78: 0.6667 | CC78: 1 | CD78: No | CE78: No | CF78: 0.9643 | CG78: 1 | CH78: 1 | CI78: 0 | CJ78: 0.15 | CK78: 0.85 | CL78: 0.9722 | CM78: 42
A79: Spartanburg 4 | B79: 118 McEdco Road | C79: Woodruff | D79: SC | E79: 29388 | F79: 3 | G79: 3 | H79: 3 | I79: 3 | J79: 3 | K79: 3 | L79: 3 | M79: 0 | N79: 0.6667 | O79: 0.5455 | P79: 1 | Q79: NA | R79: 0.0676 | S79: 1 | T79: NA | U79: 0.0959 | V79: 0 | W79: 0.1789 | X79: 0.1919 | Y79: 0 | Z79: 0.3846 | AA79: 0.4118 | AB79: 0 | AC79: 0.101 | AD79: 0.1163 | AE79: 3 | AF79: NA | AG79: 0.296 | AH79: 2 | AI79: 0.6667 | AJ79: 0.0667 | AK79: 0.9487 | AL79: 0.9512 | AM79: 0.9167 | AN79: 0.9487 | AO79: 0.9268 | AP79: 0.72 | AQ79: 0.1081 | AR79: 0.027 | AS79: 0.5 | AT79: 0.1622 | AU79: 0.0278 | AV79: 0.2778 | AW79: NA | AX79: 0 | AY79: NA | AZ79: NA | BA79: 0 | BB79: NA | BC79: 0.4308 | BD79: 0.3393 | BE79: 0.3111 | BF79: 0.3974 | BG79: 0.3722 | BH79: 0.3685 | BI79: No | BJ79: No | BK79: 0.6243 | BL79: 0.1919 | BM79: 0.0081 | BN79: 0.2857 | BO79: 0.6667 | BP79: 0.5 | BQ79: 0.7143 | BR79: 0.1667 | BS79: 0.25 | BT79: NA | BU79: NA | BV79: NA | BW79: 0.8889 | BX79: 0.4444 | BY79: 1 | BZ79: 0.2222 | CA79: 1 | CB79: 0.4444 | CC79: 0.9444 | CD79: No | CE79: No | CF79: 0.8806 | CG79: 1 | CH79: 1 | CI79: 0 | CJ79: 0.5625 | CK79: 0.75 | CL79: 0.6111 | CM79: 42
A80: Spartanburg 5 | B80: 100 N Danzler Road | C80: Duncan | D80: SC | E80: 29334 | F80: 3 | G80: 3 | H80: 3 | I80: 3 | J80: 3 | K80: 3 | L80: 3 | M80: 3 | N80: 0.6667 | O80: 0.6628 | P80: 3 | Q80: NA | R80: 0.1485 | S80: 3 | T80: NA | U80: 0.1386 | V80: 3 | W80: 0.0852 | X80: 0.0973 | Y80: 3 | Z80: 0.0519 | AA80: 0.0286 | AB80: 3 | AC80: 0.106 | AD80: 0.0723 | AE80: 3 | AF80: NA | AG80: 0.284 | AH80: 0 | AI80: 0.6667 | AJ80: 0.1746 | AK80: 0.9286 | AL80: 0.949 | AM80: 0.949 | AN80: 0.936 | AO80: 0.949 | AP80: 0.8725 | AQ80: 0.1826 | AR80: 0.1034 | AS80: 0.4235 | AT80: 0.1826 | AU80: 0.0805 | AV80: 0.2262 | AW80: 0.5 | AX80: 0.1667 | AY80: 0.125 | AZ80: 0 | BA80: 0.1667 | BB80: 0.2 | BC80: 0.3371 | BD80: 0.3323 | BE80: 0.4088 | BF80: 0.2645 | BG80: 0.299 | BH80: 0.2683 | BI80: No | BJ80: No | BK80: 0.7962 | BL80: 0.0973 | BM80: 0.013 | BN80: 0.1522 | BO80: 0.3269 | BP80: 0.2857 | BQ80: 0 | BR80: 0.0577 | BS80: NA | BT80: 0.0435 | BU80: 0.0385 | BV80: NA | BW80: 0.8022 | BX80: 0.5727 | BY80: 0.7595 | BZ80: 0.5636 | CA80: 0.8193 | CB80: 0.6455 | CC80: 0.8889 | CD80: No | CE80: No | CF80: 0.9077 | CG80: 0.6087 | CH80: 1 | CI80: 0 | CJ80: 0.5455 | CK80: 0.7273 | CL80: 1 | CM80: 42
A81: Spartanburg 6 | B81: 1390 Cavalier Way | C81: Roebuck | D81: SC | E81: 29376 | F81: 3 | G81: 3 | H81: 3 | I81: 3 | J81: 2 | K81: 3 | L81: 3 | M81: 0 | N81: 0.7162 | O81: 0.5882 | P81: 1 | Q81: NA | R81: 0.0763 | S81: 1 | T81: NA | U81: 0.0581 | V81: 1 | W81: 0.2142 | X81: 0.2085 | Y81: 3 | Z81: 0.0653 | AA81: 0.0619 | AB81: 3 | AC81: 0.1206 | AD81: 0.0878 | AE81: 1 | AF81: NA | AG81: 0.151 | AH81: 0 | AI81: 0.7162 | AJ81: 0.2432 | AK81: 0.8588 | AL81: 0.8741 | AM81: 0.8812 | AN81: 0.8636 | AO81: 0.8462 | AP81: 0.9223 | AQ81: 0.1301 | AR81: 0.0086 | AS81: 0.3293 | AT81: 0.0959 | AU81: 0.0089 | AV81: 0.1932 | AW81: 0.1667 | AX81: 0.2222 | AY81: 0 | AZ81: 0.3333 | BA81: 0.1111 | BB81: 0.4286 | BC81: 0.2558 | BD81: 0.3626 | BE81: 0.4617 | BF81: 0.237 | BG81: 0.2571 | BH81: 0.2687 | BI81: No | BJ81: No | BK81: 0.6757 | BL81: 0.2085 | BM81: 0.0062 | BN81: 0.7714 | BO81: 0.9286 | BP81: 0.6667 | BQ81: 0.0571 | BR81: 0.0536 | BS81: 0.1667 | BT81: 0.0571 | BU81: 0 | BV81: NA | BW81: 0.9048 | BX81: 0.7041 | BY81: 0.8333 | BZ81: 0.6429 | CA81: 0.8571 | CB81: 0.7551 | CC81: 0.9057 | CD81: No | CE81: No | CF81: 0.9638 | CG81: 0.88 | CH81: 1 | CI81: 0.1333 | CJ81: 0.6667 | CK81: 0.8 | CL81: 0.6667 | CM81: 42
A82: Spartanburg 7 | B82: Office of Special Services | C82: Spartanburg | D82: SC | E82: 29307 | F82: 3 | G82: 3 | H82: 3 | I82: 3 | J82: 3 | K82: 3 | L82: 3 | M82: 0 | N82: 0.6458 | O82: 0.4762 | P82: 1 | Q82: NA | R82: 0.1 | S82: 1 | T82: NA | U82: 0.0845 | V82: 0 | W82: 0.2345 | X82: 0.2629 | Y82: 3 | Z82: 0.0108 | AA82: 0.0182 | AB82: 1 | AC82: 0.2098 | AD82: 0.1095 | AE82: 1 | AF82: NA | AG82: 0.159 | AH82: 2 | AI82: 0.6458 | AJ82: 0.1458 | AK82: 0.88 | AL82: 0.7662 | AM82: 0.9565 | AN82: 0.89 | AO82: 0.7792 | AP82: 0.7115 | AQ82: 0.1628 | AR82: 0 | AS82: 0.3235 | AT82: 0.1264 | AU82: 0.0182 | AV82: 0.3043 | AW82: 0.5 | AX82: 0.6 | AY82: 0.3 | AZ82: 0 | BA82: 0.8 | BB82: 0.5714 | BC82: 0.261 | BD82: 0.3073 | BE82: 0.4875 | BF82: 0.2711 | BG82: 0.2232 | BH82: 0.3734 | BI82: Yes | BJ82: Yes | BK82: 0.6166 | BL82: 0.2629 | BM82: 0.0186 | BN82: 0.6667 | BO82: 0.8438 | BP82: 1 | BQ82: 0 | BR82: 0.0313 | BS82: NA | BT82: 0.0667 | BU82: 0.0625 | BV82: NA | BW82: 0.6301 | BX82: 0.4286 | BY82: 0.6441 | BZ82: 0.5 | CA82: 0.6481 | CB82: 0.5476 | CC82: 0.9048 | CD82: No | CE82: No | CF82: 0.8656 | CG82: 0.5714 | CH82: 1 | CI82: 0.087 | CJ82: 0.5217 | CK82: 0.7174 | CL82: 0.6667 | CM82: 42
A83: Sumter | B83: 1345 Wilson Hall Road | C83: Sumter | D83: SC | E83: 29150 | F83: 3 | G83: 3 | H83: 3 | I83: 3 | J83: 3 | K83: 3 | L83: 3 | M83: 0 | N83: 0.6581 | O83: 0.5068 | P83: 1 | Q83: NA | R83: 0.0307 | S83: 1 | T83: NA | U83: 0.0285 | V83: 3 | W83: 0.1253 | X83: 0.1219 | Y83: 0 | Z83: 0.4039 | AA83: 0.6863 | AB83: 3 | AC83: 0.1625 | AD83: 0.0366 | AE83: 1 | AF83: NA | AG83: 0.066 | AH83: 0 | AI83: 0.6581 | AJ83: 0.2308 | AK83: 0.8289 | AL83: 0.4819 | AM83: 0.4607 | AN83: 0.8449 | AO83: 0.5596 | AP83: 0.378 | AQ83: 0.0414 | AR83: 0.012 | AS83: 0.2308 | AT83: 0.027 | AU83: 0.0306 | AV83: 0.0395 | AW83: 0.6 | AX83: 0.7 | AY83: 0.7059 | AZ83: 0.6 | BA83: 0.6 | BB83: 0.5294 | BC83: 0.1985 | BD83: 0.265 | BE83: 0.4585 | BF83: 0.1728 | BG83: 0.1066 | BH83: 0.1773 | BI83: No | BJ83: No | BK83: 0.4798 | BL83: 0.1219 | BM83: 0.0053 | BN83: 0.0294 | BO83: 0.193 | BP83: 0.1818 | BQ83: 0.7941 | BR83: 0.5965 | BS83: 0.8182 | BT83: 0 | BU83: 0.0175 | BV83: 0 | BW83: 0.8873 | BX83: 0.4699 | BY83: 0.8592 | BZ83: 0.494 | CA83: 0.8594 | CB83: 0.6265 | CC83: 0.905 | CD83: No | CE83: No | CF83: 0.9333 | CG83: 0.4286 | CH83: 0.85 | CI83: 0 | CJ83: 0.2632 | CK83: 0.3684 | CL83: 0.6667 | CM83: 42
A84: Union | B84: 517 East Main Street | C84: Union | D84: SC | E84: 29379 | F84: 3 | G84: 3 | H84: 3 | I84: 3 | J84: 3 | K84: 3 | L84: 3 | M84: 0 | N84: 0.5556 | O84: 0.2927 | P84: 1 | Q84: NA | R84: 0.0417 | S84: 1 | T84: NA | U84: 0.05 | V84: 3 | W84: 0.1375 | X84: 0.1342 | Y84: 0 | Z84: 0.2358 | AA84: 0.5263 | AB84: 1 | AC84: 0.6262 | AD84: 0.1792 | AE84: 1 | AF84: NA | AG84: 0.174 | AH84: 0 | AI84: 0.5556 | AJ84: 0.3889 | AK84: 0.9726 | AL84: 0.9828 | AM84: 1 | AN84: 0.9726 | AO84: 0.9828 | AP84: 0.8667 | AQ84: 0.0294 | AR84: 0.0577 | AS84: 0.2807 | AT84: 0.0588 | AU84: 0.0385 | AV84: 0.1842 | AW84: 1 | AX84: 0.2 | AY84: 0.5 | AZ84: 0.6667 | BA84: 0.2 | BB84: 0 | BC84: 0.2943 | BD84: 0.1974 | BE84: 0.4331 | BF84: 0.2182 | BG84: 0.101 | BH84: 0.1308 | BI84: No | BJ84: No | BK84: 0.7835 | BL84: 0.1342 | BM84: 0.0087 | BN84: 0.0909 | BO84: 0.1667 | BP84: 0.5556 | BQ84: 0.9091 | BR84: 0.5 | BS84: 0.1111 | BT84: 0 | BU84: 0 | BV84: NA | BW84: 0.8222 | BX84: 0.5918 | BY84: 0.7778 | BZ84: 0.5306 | CA84: 0.8537 | CB84: 0.7755 | CC84: 0.9455 | CD84: No | CE84: No | CF84: 0.9148 | CG84: 0.3529 | CH84: 1 | CI84: 0.3333 | CJ84: 0.3333 | CK84: 0.3333 | CL84: 0.6111 | CM84: 42
A85: Williamsburg | B85: 500 North Academy Street | C85: Kingstree | D85: SC | E85: 29556 | F85: 3 | G85: 2 | H85: 3 | I85: 1 | J85: 0 | K85: 3 | L85: 3 | M85: 0 | N85: 0.2 | O85: 0 | P85: 1 | Q85: NA | R85: 0.037 | S85: 1 | T85: NA | U85: 0.0164 | V85: 1 | W85: 0.2469 | X85: 0.1829 | Y85: 3 | Z85: 0 | AA85: 0 | AB85: 3 | AC85: 0.2736 | AD85: 0.0886 | AE85: 1 | AF85: NA | AG85: 0.057 | AH85: 0 | AI85: 0.2 | AJ85: 0.4 | AK85: 0.7381 | AL85: 0.7568 | AM85: 0.8679 | AN85: 0.8333 | AO85: 0.8378 | AP85: 0.9057 | AQ85: 0.069 | AR85: 0 | AS85: 0.3478 | AT85: 0.0303 | AU85: 0 | AV85: 0.1667 | AW85: 0.5 | AX85: 0.3333 | AY85: NA | AZ85: 0 | BA85: 0.6667 | BB85: 0.75 | BC85: 0.073 | BD85: 0.1847 | BE85: 0.3108 | BF85: 0.0182 | BG85: 0.0693 | BH85: 0.1563 | BI85: Yes | BJ85: Yes | BK85: 0.6098 | BL85: 0.1829 | BM85: 0.0296 | BN85: 1 | BO85: 1 | BP85: 0.75 | BQ85: NA | BR85: NA | BS85: NA | BT85: NA | BU85: NA | BV85: NA | BW85: 1 | BX85: 0.8889 | BY85: 0.9583 | BZ85: 0.7407 | CA85: 1 | CB85: 0.8889 | CC85: 1 | CD85: No | CE85: Yes | CF85: 1 | CG85: 0.3 | CH85: 1 | CI85: 0 | CJ85: 0.3333 | CK85: 0.5 | CL85: 0.5278 | CM85: 42
A86: York 1 | B86: PO Box 770 | C86: York | D86: SC | E86: 29745 | F86: 3 | G86: 3 | H86: 3 | I86: 3 | J86: 3 | K86: 3 | L86: 3 | M86: 1 | N86: 0.4348 | O86: 0.5417 | P86: 1 | Q86: NA | R86: 0.118 | S86: 1 | T86: NA | U86: 0.0926 | V86: 3 | W86: 0.1561 | X86: 0.138 | Y86: 0 | Z86: 0.2976 | AA86: 0.5135 | AB86: 3 | AC86: 0.1145 | AD86: 0.0592 | AE86: 1 | AF86: NA | AG86: 0.164 | AH86: 2 | AI86: 0.4348 | AJ86: 0.4783 | AK86: 0.9434 | AL86: 0.9452 | AM86: 0.9107 | AN86: 0.9528 | AO86: 0.9452 | AP86: 0.9077 | AQ86: 0.1616 | AR86: 0.0484 | AS86: 0.3265 | AT86: 0.15 | AU86: 0 | AV86: 0.1053 | AW86: 1 | AX86: 0.1429 | AY86: 0 | AZ86: 1 | BA86: 0.1429 | BB86: 0 | BC86: 0.2778 | BD86: 0.251 | BE86: 0.4949 | BF86: 0.277 | BG86: 0.1619 | BH86: 0.2848 | BI86: No | BJ86: Yes | BK86: 0.6529 | BL86: 0.138 | BM86: 0.0064 | BN86: 0.0714 | BO86: 0.3043 | BP86: NA | BQ86: 0.6429 | BR86: 0.4348 | BS86: NA | BT86: 0 | BU86: 0 | BV86: NA | BW86: 0.7826 | BX86: 0.569 | BY86: 0.6939 | BZ86: 0.4138 | CA86: 0.7667 | CB86: 0.7069 | CC86: 0.9184 | CD86: No | CE86: No | CF86: 0.8952 | CG86: 0.5556 | CH86: 1 | CI86: 0.0652 | CJ86: 0.2391 | CK86: 0.7609 | CL86: 0.75 | CM86: 42
A87: York 2 | B87: 300 Clinton Avenue | C87: Clover | D87: SC | E87: 29710 | F87: 3 | G87: 3 | H87: 2 | I87: 2 | J87: 3 | K87: 3 | L87: 3 | M87: 3 | N87: 0.5313 | O87: 0.6098 | P87: 3 | Q87: NA | R87: 0.1364 | S87: 3 | T87: NA | U87: 0.1527 | V87: 3 | W87: 0.1401 | X87: 0.1127 | Y87: 3 | Z87: 0.0792 | AA87: 0.1081 | AB87: 3 | AC87: 0.0645 | AD87: 0.0193 | AE87: 3 | AF87: NA | AG87: 0.364 | AH87: 2 | AI87: 0.5313 | AJ87: 0.1875 | AK87: 0.907 | AL87: 0.8971 | AM87: 0.8537 | AN87: 0.8953 | AO87: 0.8971 | AP87: 0.7209 | AQ87: 0.1867 | AR87: 0.0702 | AS87: 0.7188 | AT87: 0.1892 | AU87: 0.1053 | AV87: 0.4643 | AW87: 0.6667 | AX87: 0.25 | AY87: 0.3333 | AZ87: 0.3333 | BA87: 0 | BB87: 0 | BC87: 0.4459 | BD87: 0.4475 | BE87: 0.2203 | BF87: 0.4636 | BG87: 0.3429 | BH87: 0.4013 | BI87: No | BJ87: No | BK87: 0.7177 | BL87: 0.1127 | BM87: 0.0051 | BN87: 0.7778 | BO87: 0.6522 | BP87: 0.8 | BQ87: NA | BR87: 0.1739 | BS87: NA | BT87: NA | BU87: 0.0435 | BV87: NA | BW87: 0.8361 | BX87: 0.6232 | BY87: 0.8772 | BZ87: 0.6377 | CA87: 0.9184 | CB87: 0.8696 | CC87: 0.9118 | CD87: No | CE87: No | CF87: 0.8478 | CG87: 0.6087 | CH87: 1 | CI87: 0.0833 | CJ87: 0.2778 | CK87: 0.7222 | CL87: 1 | CM87: 42
A88: York 3 | B88: 386 East Black Street | C88: Rock Hill | D88: SC | E88: 29731 | F88: 3 | G88: 3 | H88: 3 | I88: 3 | J88: 2 | K88: 3 | L88: 3 | M88: 0 | N88: 0.6139 | O88: 0.4944 | P88: 1 | Q88: NA | R88: 0.1135 | S88: 1 | T88: NA | U88: 0.1054 | V88: 3 | W88: 0.0998 | X88: 0.1097 | Y88: 3 | Z88: 0.0074 | AA88: 0.0382 | AB88: 3 | AC88: 0.1505 | AD88: 0.0607 | AE88: 1 | AF88: NA | AG88: 0.135 | AH88: 0 | AI88: 0.6139 | AJ88: 0.3465 | AK88: 0.8778 | AL88: 0.7729 | AM88: 0.9688 | AN88: 0.8926 | AO88: 0.7536 | AP88: 0.956 | AQ88: 0.1614 | AR88: 0.0408 | AS88: 0.4341 | AT88: 0.1454 | AU88: 0.042 | AV88: 0.2471 | AW88: 0.2857 | AX88: 0.2308 | AY88: 1 | AZ88: 0.1429 | BA88: 0.5385 | BB88: 0 | BC88: 0.2997 | BD88: 0.3249 | BE88: 0.376 | BF88: 0.2761 | BG88: 0.212 | BH88: 0.2354 | BI88: No | BJ88: No | BK88: 0.6553 | BL88: 0.1097 | BM88: 0.0055 | BN88: 0.8095 | BO88: 0.6667 | BP88: 0.75 | BQ88: 0.0238 | BR88: 0.058 | BS88: 0 | BT88: 0.0238 | BU88: 0 | BV88: 0 | BW88: 0.8548 | BX88: 0.6733 | BY88: 0.8984 | BZ88: 0.6667 | CA88: 0.8812 | CB88: 0.72 | CC88: NA | CD88: No | CE88: No | CF88: 0.7796 | CG88: 0.5641 | CH88: 1 | CI88: 0.0426 | CJ88: 0.5106 | CK88: 0.8085 | CL88: 0.7222 | CM88: 42
A89: York 4 | B89: 2233 Deerfield Drive | C89: Fort Mill | D89: SC | E89: 29715 | F89: 3 | G89: 3 | H89: 3 | I89: 3 | J89: 3 | K89: 3 | L89: 3 | M89: 0 | N89: 0.8148 | O89: 0.4 | P89: 3 | Q89: NA | R89: 0.1969 | S89: 3 | T89: NA | U89: 0.1908 | V89: 0 | W89: 0.1334 | X89: 0.1603 | Y89: 0 | Z89: 0.3009 | AA89: 0.3793 | AB89: 3 | AC89: 0.0519 | AD89: 0.0284 | AE89: 3 | AF89: NA | AG89: 0.398 | AH89: 2 | AI89: 0.8148 | AJ89: 0.0864 | AK89: 0.9235 | AL89: 0.9111 | AM89: 0.9899 | AN89: 0.9235 | AO89: 0.9333 | AP89: 0.9748 | AQ89: 0.2603 | AR89: 0.115 | AS89: 0.7474 | AT89: 0.274 | AU89: 0.0862 | AV89: 0.4444 | AW89: 0.5455 | AX89: 0.7 | AY89: 0.6667 | AZ89: 0.1818 | BA89: 0.5 | BB89: 0.125 | BC89: 0.458 | BD89: 0.5451 | BE89: 0.2102 | BF89: 0.3919 | BG89: 0.5324 | BH89: 0.2831 | BI89: No | BJ89: No | BK89: 0.7054 | BL89: 0.1603 | BM89: 0.0137 | BN89: 0.0313 | BO89: 0.0615 | BP89: 0.2632 | BQ89: 0.4688 | BR89: 0.4308 | BS89: 0.0526 | BT89: 0.0938 | BU89: 0.0923 | BV89: 0.1579 | BW89: 0.9533 | BX89: 0.6261 | BY89: 0.9615 | BZ89: 0.5739 | CA89: 0.9796 | CB89: 0.7739 | CC89: 0.8974 | CD89: No | CE89: No | CF89: 0.874 | CG89: 0.6364 | CH89: 0.73 | CI89: 0.1143 | CJ89: 0.1429 | CK89: 0.9571 | CL89: 0.8056 | CM89: 42
