Workbook

Sheet Information
A1: LEA Profile Information
A3: The Office of Special Education Programs (OSEP) requires states to publicly report how the Local Education Agency (LEA) compares (profiles) to the state’s State Performance Plan (SPP)/Annual Performance Report. The data used are from the 2020-21 reporting year for all indicators except Indicators 1, 2, and 4 which use 2019-20 lag data. Data include the LEA’s results on Indicators 1-14 on the SPP. LEA indicator results are compared to the state target. There are no points or levels. There are simply results on the indicators. The profile provides stakeholders with information about the LEA on the requirements of IDEA.
A4: In this document, you will find your LEA Data Profile (Indicators 1-14) for the 2020-21 reporting year.
A5: LEA Determination Information
A7: The LEA determinations are required by OSEP and do not include all indicators. The determinations use of indicators are 1) required by OSEP to be included and 2) identified by the Office of Special Education Services (OSES) as the most influential to outcomes. Results are grouped into two factors - Compliance Factors (CF) and Performance Factors (PF).
A8: The State chooses if determinations are published. The OSEP requires the OSES to make a “determination” or rank the LEA on a specific level that determines assistance or Technical Assistance (TA) for the LEA. OSES uses the determinations to inform the LEA’s tier on the System of Tiered Assistance (SoTA).
A9: In this document, you will find your LEA Determination for the 2020-21 reporting year. The Determination uses 2019-20 data for the Compliance Factors and 2020-21 data for the Performance Factors.

Sheet Profile
E1: 2020-2021 Special Education Profile
A3: Greenwood 52
A4: =+VLOOKUP(A3,Data!A1:CM89,2,FALSE) -> 605 Johnston Road
A5: =+VLOOKUP(A3,Data!A1:CM89,3,FALSE) -> Ninet;y Six | G5: =+VLOOKUP(A3,Data!A1:CM89,4,FALSE) -> SC | I5: =+VLOOKUP(A3,Data!A1:CM89,5,FALSE) -> 29666
A7: Indicators
A8: Indicator 1
A9: Indicator 1: Graduation
A10: Percent of youth with IEPs graduating with a high school diploma
A11: Target | B11: >= | C11: 0.6013 | D11: State | E11: 0.6013 | F11: Score | G11: =VLOOKUP(A3,Data!A1:CM89,35,FALSE) -> 0.75 | H11: Status | I11: =IF(OR(G11="NA",G11="**"),"NA",IF(G11<C11,"Not Met","Met")) -> Met
A12: Indicator 2
A13: Indicator 2: Dropout
A14: Percent of youth with IEPs dropping out of high school
A15: Target | B15: <= | C15: 0.25 | D15: State | E15: 0.25 | F15: Score | G15: =VLOOKUP(A3,Data!A1:CM89,36,FALSE) -> 0.25 | H15: Status | I15: =IF(OR(G15="NA",G15="**"),"NA",IF(G15>C15,"Not Met","Met")) -> Met
A16: Indicator 3
A17: Indicator 3A, ELA 4th Grade
A18: Participation rate of children with IEPs in a 4th grade setting for ELA
A19: Target | B19: >= | C19: 0.95 | D19: State | E19: 0.8979 | F19: Score | G19: =VLOOKUP(A3,Data!A1:CM89,37,FALSE) -> 1 | H19: Status | I19: =IF(OR(G19="NA",G19="**"),"NA",IF(G19<C19,"Not Met","Met")) -> Met
A20: Indicator 3A, ELA 8th Grade
A21: Participation rate of children with IEPs in an 8th grade setting for ELA
A22: Target | B22: >= | C22: 0.95 | D22: State | E22: 0.7973 | F22: Score | G22: =VLOOKUP(A3,Data!A1:CM89,38,FALSE) -> 1 | H22: Status | I22: =IF(OR(G22="NA",G22="**"),"NA",IF(G22<C22,"Not Met","Met")) -> Met
A23: Indicator 3A, ELA HS
A24: Participation rate of children with IEPs in a High School setting for ELA
A25: Target | B25: >= | C25: 0.95 | D25: State | E25: 0.8209 | F25: Score | G25: =VLOOKUP(A3,Data!A1:CM89,39,FALSE) -> 1 | H25: Status | I25: =IF(OR(G25="NA",G25="**"),"NA",IF(G25<C25,"Not Met","Met")) -> Met
A26: Indicator 3A, Math 4th Grade
A27: Participation rate of children with IEPs in a 4th grade setting for Math
A28: Target | B28: >= | C28: 0.95 | D28: State | E28: 0.9012 | F28: Score | G28: =VLOOKUP(A3,Data!A1:CM89,40,FALSE) -> 1 | H28: Status | I28: =IF(OR(G28="NA",G28="**"),"NA",IF(G28<C28,"Not Met","Met")) -> Met
A29: Indicator 3A, Math 8th Grade
A30: Participation rate of children with IEPs in an 8th grade setting for Math
A31: Target | B31: >= | C31: 0.95 | D31: State | E31: 0.8036 | F31: Score | G31: =VLOOKUP(A3,Data!A1:CM89,41,FALSE) -> 1 | H31: Status | I31: =IF(OR(G31="NA",G31="**"),"NA",IF(G31<C31,"Not Met","Met")) -> Met
A32: Indicator 3A, HS Math
A33: Participation rate of children with IEPs in a High School setting for Math
A34: Target | B34: >= | C34: 0.95 | D34: State | E34: 0.7516 | F34: Score | G34: =VLOOKUP(A3,Data!A1:CM89,42,FALSE) -> 0.9412 | H34: Status | I34: =IF(OR(G34="NA",G34="**"),"NA",IF(G34<C34,"Not Met","Met")) -> Not Met
A35: Indicator 3B, ELA 4th Grade
A36: Profiency rate of children with IEPs in a 4th grade setting against grade level academic standards for ELA
A37: Target | B37: >= | C37: 0.1651 | D37: State | E37: 0.1651 | F37: Score | G37: =VLOOKUP(A3,Data!A1:CM89,43,FALSE) -> 0.2353 | H37: Status | I37: =IF(OR(G37="NA",G37="**"),"NA",IF(G37<C37,"Not Met","Met")) -> Met
A38: Indicator 3B, ELA 8th Grade
A39: Profiency rate of children with IEPs in an 8th grade setting against grade level academic standards for ELA
A40: Target | B40: >= | C40: 0.0714 | D40: State | E40: 0.0714 | F40: Score | G40: =VLOOKUP(A3,Data!A1:CM89,44,FALSE) -> 0 | H40: Status | I40: =IF(OR(G40="NA",G40="**"),"NA",IF(G40<C40,"Not Met","Met")) -> Not Met
A41: Indicator 3B, ELA HS
A42: Profiency rate of children with IEPs in a High School setting against grade level academic standards for ELA
...

Sheet Determination
F1: 2020-2021 Special Education Determination
A3: =Profile!A3 -> Greenwood 52
A4: =VLOOKUP(A3,Data!A1:CM89,2,FALSE) -> 605 Johnston Road
A5: =VLOOKUP(A3,Data!A1:CM89,3,FALSE) -> Ninet;y Six | C5: =VLOOKUP(A3,Data!A1:CM89,4,FALSE) -> SC | D5: =VLOOKUP(A3,Data!A1:CM89,5,FALSE) -> 29666
A7: Compliance and Performance
A8: Compliance Scoring (Lag-year data)
A9: Compliance Factor 1 - Timely, Accurate and Complete Data Submissions
A10: Score | B10: =VLOOKUP(A3,Data!A1:CM89,6,FALSE) -> 3 | C10: =IF(B10=0,"The LEA submitted data late five or more times during the reporting year and five or more data", IF(B10=1,"The LEA submitted late data no more than four times during the reporting year and no more than", IF(B10=2,"The LEA submitted late data submissions no more than two times during the reporting year and", IF(B10=3,"All data submissions are submitted on time (within the prescribed data collection windows) and","")))) -> All data submissions are submitted on time (within the prescribed data collection windows) and
C11: =IF(B10=0,"submissions contained LEA errors", IF(B10=1,"four data submissions contained LEA errors", IF(B10=2,"no more than two data submissions contained LEA errors", IF(B10=3,"no more than one data submission contained LEA (not system) errors","")))) -> no more than one data submission contained LEA (not system) errors
A12: Compliance Factor 2 - Fiscal/Grantee Risk
A13: Score | B13: =VLOOKUP(A3,Data!A1:CM89,7,FALSE) -> 3 | C13: =IF(B13=0,"High risk with systemic fiscal findings", IF(B13=1,"High risk based on fiscal risk factors", IF(B13=2,"Moderate risk based on fiscal risk factors", IF(B13=3,"Low risk based on fiscal risk factors","")))) -> Low risk based on fiscal risk factors
A14: Compliance Factor 3 - Post-Secondary Planning and Services (Indicator 13)
A15: Score | B15: =VLOOKUP(A3,Data!A1:CM89,8,FALSE) -> 3 | C15: =IF(B15=0,"Indicator 13 corrections are pending for over a year", IF(B15=1,"All Indicator 13 corrections made and verified within a year of findings", IF(B15=2,"All Indicator 13 corrections made and verified within designated review timeframe", IF(B15=3,"100% compliant based on initial Indicator 13 submission","")))) -> 100% compliant based on initial Indicator 13 submission
A16: Compliance Factor 4 - Timely Corrections of Non-Compliance
A17: Score | B17: =VLOOKUP(A3,Data!A1:CM89,9,FALSE) -> 3 | C17: =IF(B17=0,"Three areas that were not corrected within a year or two or more areas that were not corrected", IF(B17=1,"Two areas that were not corrected within a year or one area not corrected within two years", IF(B17=2,"One area that was not corrected within a year", IF(B17=3,"No findings (finance, program, data, or compliance complaint) pending for over a year","")))) -> No findings (finance, program, data, or compliance complaint) pending for over a year
C18: =IF(B17=0,"within two years","")
A19: Compliance Factor 5 - IDEA Timelines (Indicators 11 and 12)
A20: Score | B20: =VLOOKUP(A3,Data!A1:CM89,10,FALSE) -> 3 | C20: =IF(B20=0,"Below 85% combined compliance rate for Indicators 11 and 12", IF(B20=1,"85% or above combined compliance rate for Indicators 11 and 12", IF(B20=2,"95% or above combined compliance rate for Indicators 11 and 12 ", IF(B20=3,"100% compliance for both Indicator 11 and Indicator 12","")))) -> 100% compliance for both Indicator 11 and Indicator 12
A21: Compliance Factor 6 - SWD Suspension Rate > 10 Days by Race / Ethnicity (Indicator 4b)
A22: Score | B22: =VLOOKUP(A3,Data!A1:CM89,11,FALSE) -> 3 | C22: =IF(B22=0,"Indicator 4b corrections pending for over a year", IF(B22=1,"All Indicator 4b corrections made and verified within a year of findings", IF(B22=2,"All Indicator 4b corrections made and verified within review timeframe", IF(B22=3,"100% compliance after self-review submissions","")))) -> 100% compliance after self-review submissions
A23: Compliance Factor 7 - Disproportionate Representation by Race/Ethnicity (Indicators 9 and 10)
A24: Score | B24: =VLOOKUP(A3,Data!A1:CM89,12,FALSE) -> 3 | C24: =IF(B24=0,"Indicator 9/10 corrections pending for over a year", IF(B24=1,"All Indicator 9/10 corrections made and verified within a year of findings", IF(B24=2,"All Indicator 9/10 corrections made and verified within review timeframe ", IF(B24=3,"100% compliance after self-review submissions","")))) -> 100% compliance after self-review submissions
A25: Total | B25: =SUM(B10,B13,B15,B17,B20,B22,B24) -> 21
A26: Performance Scoring
A27: Performance Factor 1 - Graduation Rate
A28: Score | B28: =VLOOKUP(A3,Data!A1:CM89,13,FALSE) -> 3 | C28: =IF(B28=0,"Does not meet prior year’s state performance and did not improve", IF(B28=1,"Does not meet prior year’s state performance but improved since last year", IF(B28=2,"Meets or exceeds prior year’s state performance", IF(B28=3,"Meets or exceeds current state target","")))) -> Meets or exceeds current state target
B30: >= Target | C30: 0.6013
B31: State 20-21 | C31: 0.6013
B32: LEA 19-20 | C32: =VLOOKUP(A3,Data!A1:CM89,14,FALSE) -> 0.75
B33: LEA 20-21 | C33: =VLOOKUP(A3,Data!A1:CM89,15,FALSE) -> 0.7778
A35: Performance Factor 2 - ELA
A36: Score | B36: =VLOOKUP(A3,Data!A1:CM89,16,FALSE) -> 3 | C36: =IF(B36=0,"Does not meet prior year’s state performance and did not improve", IF(B36=1,"Does not meet prior year’s state performance but improved since last year", IF(B36=2,"Meets or exceeds prior year’s state performance", IF(B36=3,"Meets or exceeds current state target","")))) -> Meets or exceeds current state target
B38: >= Target | C38: 0.1242
B39: State 20-21 | C39: 0.1242
B40: LEA 19-20 | C40: =VLOOKUP(A3,Data!A1:CM89,17,FALSE) -> NA
B41: LEA 20-21 | C41: =VLOOKUP(A3,Data!A1:CM89,18,FALSE) -> 0.125
A43: Performance Factor 3 - Math
A44: Score | B44: =VLOOKUP(A3,Data!A1:CM89,19,FALSE) -> 3 | C44: =IF(B44=0,"Does not meet prior year’s state performance and did not improve", IF(B44=1,"Does not meet prior year’s state performance but improved since last year", IF(B44=2,"Meets or exceeds prior year’s state performance", IF(B44=3,"Meets or exceeds current state target","")))) -> Meets or exceeds current state target
B46: >= Target | C46: 0.1157
B47: State 20-21 | C47: 0.1157
...

Sheet Data
A1: Districts | B1: Primary Mailing Address | C1: Primary City | D1: Primary State | E1: Primary Zip | F1: CF1 | G1: CF2 | H1: CF3 | I1: CF4 | J1: CF5 | K1: CF6 | L1: CF7 | M1: PF1 | N1: PF1 19-20 | O1: PF1 20-21 | P1: PF2 | Q1: PF2 19-20 | R1: PF2 20-21 | S1: PF3 | T1: PF3 19-20 | U1: PF3 20-21 | V1: PF4 | W1: PF4 19-20 | X1: PF4 20-21 | Y1: PF5 | Z1: PF5 19-20 | AA1: PF5 20-21 | AB1: PF6 | AC1: PF6 19-20 | AD1: PF6 20-21 | AE1: PF7 | AF1: PF7 19-20 | AG1: PF7 20-21 | AH1: Opt-In Bonus | AI1: Indicator 1 | AJ1: Indicator 2 | AK1: Indicator 3A - ELA 4GR | AL1: Indicator 3A - ELA 8GR | AM1: Indicator 3A - ELA HS | AN1: Indicator 3A - Math 4GR | AO1: Indicator 3A - Math 8GR | AP1: Indicator 3A - Math HS | AQ1: Indicator 3B - ELA 4GR | AR1: Indicator 3B - ELA 8GR | AS1: Indicator 3B - ELA HS | AT1: Indicator 3B - Math 4GR | AU1: Indicator 3B - Math 8GR | AV1: Indicator 3B - Math HS | AW1: Indicator 3C - ELA 4GR | AX1: Indicator 3C - ELA 8GR | AY1: Indicator 3C - ELA HS | AZ1: Indicator 3C - Math 4GR | BA1: Indicator 3C - Math 8GR | BB1: Indicator 3C - Math HS | BC1: Indicator 3D - ELA 4GR | BD1: Indicator 3D - ELA 8GR | BE1: Indicator 3D - ELA HS | BF1: Indicator 3D - Math 4GR | BG1: Indicator 3D - Math 8GR | BH1: Indicator 3D - Math HS | BI1: Indicator 4A | BJ1: Indicator 4B | BK1: Indicator 5A | BL1: Indicator 5B | BM1: Indicator 5C | BN1: Indicator 6A 3 Yr Old | BO1: Indicator 6A 4 Yr Old | BP1: Indicator 6A 5 Yr Old | BQ1: Indicator 6B 3 Yr Old | BR1: Indicator 6B 4 Yr Old | BS1: Indicator 6B 5 Yr Old | BT1: Indicator 6C 3 Yr Old | BU1: Indicator 6C 4 Yr Old | BV1: Indicator 6C 5 Yr Old | BW1: Indicator 7 A1 | BX1: Indicator 7 A2 | BY1: Indicator 7 B1 | BZ1: Indicator 7 B2 | CA1: Indicator 7 C1 | CB1: Indicator 7 C2 | CC1: Indicator 8 | CD1: Indicator 9 | CE1: Indicator 10 | CF1: Indicator 11 | CG1: Indicator 12 | CH1: Indicator 13 | CI1: Indicator 14 A | CJ1: Indicator 14 B | CK1: Indicator 14 C | CL1: Overall Score | CM1: Total Possible Score
A2: District
A3: State | B3: 1919 Blanding Street | C3: Columbia | D3: SC | E3: 29201 | F3: 3 | G3: 3 | H3: 3 | I3: 3 | J3: 3 | K3: 3 | L3: 3 | M3: 0 | N3: 0.6013 | O3: 0.5162 | P3: 3 | Q3: NA | R3: 0.1242 | S3: 3 | T3: NA | U3: 0.1157 | V3: 3 | W3: 0.1505 | X3: 0.1534 | Y3: 3 | Z3: 0.2279 | AA3: 0.3125 | AB3: 3 | AC3: 0.1387 | AD3: 0.0717 | AE3: 2 | AF3: NA | AG3: 0.212 | AH3: 0 | AI3: 0.6013 | AJ3: 0.25 | AK3: 0.8979 | AL3: 0.7973 | AM3: 0.8209 | AN3: 0.9012 | AO3: 0.8036 | AP3: 0.7516 | AQ3: 0.1651 | AR3: 0.0714 | AS3: 0.4381 | AT3: 0.1669 | AU3: 0.0498 | AV3: 0.2257 | AW3: 0.5346 | AX3: 0.3626 | AY3: 0.4753 | AZ3: 0.417 | BA3: 0.3698 | BB3: 0.3816 | BC3: 0.2953 | BD3: 0.3481 | BE3: 0.3968 | BF3: 0.2526 | BG3: 0.2577 | BH3: 0.2668 | BI3: No | BJ3: No | BK3: 0.6396 | BL3: 0.1534 | BM3: 0.0119 | BN3: 0.1728 | BO3: 0.409 | BP3: 0.4715 | BQ3: 0.4168 | BR3: 0.2764 | BS3: 0.203 | BT3: 0.0454 | BU3: 0.0296 | BV3: 0.0302 | BW3: 0.8421 | BX3: 0.56 | BY3: 0.8221 | BZ3: 0.5408 | CA3: 0.839 | CB3: 0.6843 | CC3: 0.9128 | CD3: No | CE3: No | CF3: 0.8805 | CG3: 0.5269 | CH3: 0.8142 | CI3: 0.1116 | CJ3: 0.3939 | CK3: 0.8346 | CL3: 0.8576 | CM3: 42
A4: Abbeville | B4: 400 Greenville St | C4: Abbeville | D4: SC | E4: 29620 | F4: 3 | G4: 3 | H4: 3 | I4: 3 | J4: 3 | K4: 3 | L4: 3 | M4: 0 | N4: 0.5 | O4: 0.45 | P4: 3 | Q4: NA | R4: 0.1912 | S4: 3 | T4: NA | U4: 0.1765 | V4: 3 | W4: 0.0912 | X4: 0.082 | Y4: 3 | Z4: 0.2889 | AA4: 0.1786 | AB4: 1 | AC4: 0.1263 | AD4: 0.1256 | AE4: 3 | AF4: NA | AG4: 0.273 | AH4: 2 | AI4: 0.5 | AJ4: 0.25 | AK4: 0.9756 | AL4: 1 | AM4: 0.8846 | AN4: 0.9762 | AO4: 1 | AP4: 0.8889 | AQ4: 0.2308 | AR4: 0.1379 | AS4: 0.4091 | AT4: 0.25 | AU4: 0.0714 | AV4: 0.75 | AW4: 1 | AX4: 0.5 | AY4: 1 | AZ4: 0 | BA4: 0.5 | BB4: NA | BC4: 0.1978 | BD4: 0.3556 | BE4: 0.4299 | BF4: 0.1386 | BG4: 0.3898 | BH4: 0.0682 | BI4: No | BJ4: No | BK4: 0.7275 | BL4: 0.082 | BM4: 0.0053 | BN4: 0.1429 | BO4: 0.6471 | BP4: 0.5 | BQ4: 0.4286 | BR4: 0.0588 | BS4: 0.25 | BT4: 0.4286 | BU4: 0.2353 | BV4: NA | BW4: 1 | BX4: 0.7143 | BY4: 0.9231 | BZ4: 0.5 | CA4: 0.9286 | CB4: 0.6429 | CC4: 0.8974 | CD4: No | CE4: No | CF4: 0.9815 | CG4: 1 | CH4: 1 | CI4: 0.1818 | CJ4: 0.5455 | CK4: 0.7273 | CL4: 0.9167 | CM4: 42
A5: Aiken | B5: 1000 Brookhaven Drive | C5: Aiken | D5: SC | E5: 29803 | F5: 3 | G5: 3 | H5: 3 | I5: 3 | J5: 2 | K5: 3 | L5: 3 | M5: 0 | N5: 0.5328 | O5: 0.3805 | P5: 1 | Q5: NA | R5: 0.0734 | S5: 1 | T5: NA | U5: 0.0451 | V5: 3 | W5: 0.1168 | X5: 0.1246 | Y5: 0 | Z5: 0.2338 | AA5: 0.331 | AB5: 1 | AC5: 0.1735 | AD5: 0.1264 | AE5: 1 | AF5: NA | AG5: 0.185 | AH5: 2 | AI5: 0.5328 | AJ5: 0.4453 | AK5: 0.9676 | AL5: 0.9016 | AM5: 0.8808 | AN5: 0.9676 | AO5: 0.9134 | AP5: 0.7841 | AQ5: 0.0924 | AR5: 0.0514 | AS5: 0.3548 | AT5: 0.0683 | AU5: 0.0184 | AV5: 0.0852 | AW5: 0.45 | AX5: 0.3333 | AY5: 0.3333 | AZ5: 0.4 | BA5: 0.2667 | BB5: 0.2917 | BC5: 0.307 | BD5: 0.3022 | BE5: 0.4913 | BF5: 0.2869 | BG5: 0.2314 | BH5: 0.2651 | BI5: No | BJ5: No | BK5: 0.6717 | BL5: 0.1246 | BM5: 0.0058 | BN5: 0.2353 | BO5: 0.6 | BP5: 0.5217 | BQ5: 0.5588 | BR5: 0.2588 | BS5: 0.2609 | BT5: 0 | BU5: 0.0118 | BV5: 0 | BW5: 0.7766 | BX5: 0.617 | BY5: 0.7398 | BZ5: 0.5319 | CA5: 0.7125 | CB5: 0.7021 | CC5: 0.819 | CD5: No | CE5: No | CF5: 0.8255 | CG5: 0.4118 | CH5: 1 | CI5: 0.0566 | CJ5: 0.2264 | CK5: 0.8553 | CL5: 0.6389 | CM5: 42
A6: Allendale | B6: P.O. Box 458 | C6: Fairfax | D6: SC | E6: 29827 | F6: 3 | G6: 3 | H6: 3 | I6: 3 | J6: 3 | K6: 3 | L6: 3 | M6: 3 | N6: 0.4444 | O6: 0.8333 | P6: 0 | Q6: NA | R6: 0 | S6: 0 | T6: NA | U6: 0 | V6: 3 | W6: 0.0275 | X6: 0.0294 | Y6: 0 | Z6: 0 | AA6: 0 | AB6: 3 | AC6: 0.2632 | AD6: 0.0571 | AE6: 1 | AF6: NA | AG6: 0.125 | AH6: 2 | AI6: 0.4444 | AJ6: 0.5556 | AK6: 0.8333 | AL6: 0.9167 | AM6: 0.9091 | AN6: 0.8333 | AO6: 0.8333 | AP6: 0.8182 | AQ6: 0 | AR6: 0 | AS6: 0.25 | AT6: 0 | AU6: 0 | AV6: 0 | AW6: 0.5 | AX6: NA | AY6: 1 | AZ6: 1 | BA6: NA | BB6: 1 | BC6: 0.2432 | BD6: 0.127 | BE6: 0.4481 | BF6: 0.1714 | BG6: 0.0299 | BH6: 0.2632 | BI6: No | BJ6: No | BK6: 0.6275 | BL6: 0.0294 | BM6: 0 | BN6: 0.5 | BO6: 1 | BP6: NA | BQ6: NA | BR6: NA | BS6: NA | BT6: NA | BU6: NA | BV6: NA | BW6: 1 | BX6: 0.5 | BY6: 1 | BZ6: 0.5 | CA6: 1 | CB6: 1 | CC6: 1 | CD6: No | CE6: No | CF6: 1 | CG6: 1 | CH6: 1 | CI6: 0.1 | CJ6: 0.6 | CK6: 0.9 | CL6: 0.8333 | CM6: 42
A7: Anderson 1 | B7: P.O. Box 99 | C7: Williamston | D7: SC | E7: 29697 | F7: 3 | G7: 3 | H7: 3 | I7: 3 | J7: 3 | K7: 3 | L7: 3 | M7: 3 | N7: 0.6393 | O7: 0.6235 | P7: 3 | Q7: NA | R7: 0.1963 | S7: 3 | T7: NA | U7: 0.2251 | V7: 0 | W7: 0.2018 | X7: 0.227 | Y7: 0 | Z7: 0.4103 | AA7: 0.4444 | AB7: 3 | AC7: 0.0716 | AD7: 0.0853 | AE7: 3 | AF7: NA | AG7: 0.337 | AH7: 0 | AI7: 0.6393 | AJ7: 0.0984 | AK7: 0.9671 | AL7: 0.9774 | AM7: 0.8642 | AN7: 0.9737 | AO7: 0.9774 | AP7: 0.75 | AQ7: 0.2345 | AR7: 0.152 | AS7: 0.5758 | AT7: 0.2945 | AU7: 0.144 | AV7: 0.5897 | AW7: 1 | AX7: 0 | AY7: 0.75 | AZ7: 1 | BA7: 0.4 | BB7: 0.3333 | BC7: 0.3898 | BD7: 0.3715 | BE7: 0.3036 | BF7: 0.3653 | BG7: 0.3249 | BH7: 0.2103 | BI7: No | BJ7: No | BK7: 0.6683 | BL7: 0.227 | BM7: 0.0057 | BN7: 0 | BO7: 0.5405 | BP7: 0.8 | BQ7: 0.7143 | BR7: 0.3243 | BS7: 0.2 | BT7: 0 | BU7: 0.027 | BV7: NA | BW7: 0.9322 | BX7: 0.5846 | BY7: 0.8125 | BZ7: 0.5385 | CA7: 0.8913 | CB7: 0.6923 | CC7: 0.913 | CD7: No | CE7: No | CF7: 0.9271 | CG7: 0.7778 | CH7: 1 | CI7: 0 | CJ7: 0.375 | CK7: 0.5625 | CL7: 0.8333 | CM7: 42
A8: Anderson 2 | B8: 10990 Belton Honea Path Hwy | C8: Honea Path | D8: SC | E8: 29654 | F8: 3 | G8: 3 | H8: 3 | I8: 3 | J8: 3 | K8: 3 | L8: 3 | M8: 3 | N8: 0.8182 | O8: 0.6667 | P8: 3 | Q8: NA | R8: 0.1912 | S8: 3 | T8: NA | U8: 0.1594 | V8: 3 | W8: 0.1083 | X8: 0.126 | Y8: 3 | Z8: 0.125 | AA8: 0.2143 | AB8: 3 | AC8: 0.117 | AD8: 0.0699 | AE8: 3 | AF8: NA | AG8: 0.452 | AH8: 2 | AI8: 0.8182 | AJ8: 0.0909 | AK8: 1 | AL8: 0.9565 | AM8: 0.9487 | AN8: 1 | AO8: 0.9783 | AP8: 0.9231 | AQ8: 0.2571 | AR8: 0.1212 | AS8: 0.56 | AT8: 0.2286 | AU8: 0.0882 | AV8: 0.34 | AW8: 1 | AX8: 0.8182 | AY8: 0.6667 | AZ8: 1 | BA8: 0.9091 | BB8: 0.3 | BC8: 0.2502 | BD8: 0.3574 | BE8: 0.3058 | BF8: 0.2739 | BG8: 0.2828 | BH8: 0.2468 | BI8: No | BJ8: No | BK8: 0.7674 | BL8: 0.126 | BM8: 0.0039 | BN8: 0.1111 | BO8: 0.6875 | BP8: 0.3333 | BQ8: 0.4444 | BR8: 0.0625 | BS8: 0.3333 | BT8: NA | BU8: 0.0625 | BV8: NA | BW8: 0.9474 | BX8: 0.6667 | BY8: 0.7 | BZ8: 0.5 | CA8: 0.8889 | CB8: 0.7083 | CC8: 0.96 | CD8: No | CE8: No | CF8: 0.9583 | CG8: 0.9091 | CH8: 0.9333 | CI8: 0.2273 | CJ8: 0.5455 | CK8: 0.9545 | CL8: 1.0556 | CM8: 42
A9: Anderson 3 | B9: 335 West Front Street | C9: Iva | D9: SC | E9: 29655 | F9: 3 | G9: 3 | H9: 3 | I9: 3 | J9: 3 | K9: 3 | L9: 3 | M9: 0 | N9: 0.5217 | O9: 0.3529 | P9: 3 | Q9: NA | R9: 0.2154 | S9: 3 | T9: NA | U9: 0.1692 | V9: 0 | W9: 0.2384 | X9: 0.2485 | Y9: 0 | Z9: 0.3793 | AA9: 0.5 | AB9: 0 | AC9: 0.0858 | AD9: 0.0977 | AE9: 1 | AF9: NA | AG9: 0.133 | AH9: 2 | AI9: 0.5217 | AJ9: 0.1739 | AK9: 0.9773 | AL9: 0.9667 | AM9: 1 | AN9: 0.9773 | AO9: 0.9667 | AP9: 0.8333 | AQ9: 0.3421 | AR9: 0.037 | AS9: 0.4762 | AT9: 0.2895 | AU9: 0 | AV9: 0.1176 | AW9: 0.2 | AX9: 0.5 | AY9: 0.5 | AZ9: 0.4 | BA9: 0 | BB9: 1 | BC9: 0.2797 | BD9: 0.3243 | BE9: 0.3514 | BF9: 0.2701 | BG9: 0.2767 | BH9: 0.3369 | BI9: No | BJ9: No | BK9: 0.6923 | BL9: 0.2485 | BM9: 0.0118 | BN9: NA | BO9: 0.375 | BP9: NA | BQ9: 1 | BR9: 0.375 | BS9: NA | BT9: NA | BU9: 0.125 | BV9: NA | BW9: 1 | BX9: 0.6923 | BY9: 1 | BZ9: 0.5385 | CA9: 1 | CB9: 0.6923 | CC9: 0.9091 | CD9: No | CE9: No | CF9: 0.8621 | CG9: 1 | CH9: 1 | CI9: 0.1304 | CJ9: 0.3478 | CK9: 0.913 | CL9: 0.6667 | CM9: 42
A10: Anderson 4 | B10: 315 East Queen Street | C10: Pendleton | D10: SC | E10: 29670 | F10: 3 | G10: 3 | H10: 3 | I10: 3 | J10: 2 | K10: 3 | L10: 3 | M10: 3 | N10: 0.7826 | O10: 0.6829 | P10: 3 | Q10: NA | R10: 0.2885 | S10: 3 | T10: NA | U10: 0.2308 | V10: 1 | W10: 0.2063 | X10: 0.1794 | Y10: 3 | Z10: 0.1373 | AA10: 0.1667 | AB10: 3 | AC10: 0.1189 | AD10: 0.0729 | AE10: 2 | AF10: NA | AG10: 0.244 | AH10: 0 | AI10: 0.7826 | AJ10: 0.1304 | AK10: 0.9688 | AL10: 0.9697 | AM10: 0.88 | AN10: 0.9688 | AO10: 0.9394 | AP10: 0.7727 | AQ10: 0.2692 | AR10: 0.3077 | AS10: 0.3158 | AT10: 0.3462 | AU10: 0.1154 | AV10: 0.2857 | AW10: 1 | AX10: 0.6667 | AY10: 1 | AZ10: 0.8 | BA10: 0.8 | BB10: 0.6667 | BC10: 0.2933 | BD10: 0.271 | BE10: 0.5821 | BF10: 0.2481 | BG10: 0.4078 | BH10: 0.4115 | BI10: No | BJ10: No | BK10: 0.7568 | BL10: 0.1794 | BM10: 0.0295 | BN10: 0.2 | BO10: 0.625 | BP10: 0.6 | BQ10: 0.4 | BR10: 0.125 | BS10: NA | BT10: NA | BU10: 0.125 | BV10: 0.2 | BW10: 0.8636 | BX10: 0.5926 | BY10: 0.8421 | BZ10: 0.6667 | CA10: 0.7647 | CB10: 0.7407 | CC10: 0.7667 | CD10: No | CE10: No | CF10: 0.866 | CG10: NA | CH10: 1 | CI10: 0.2 | CJ10: 0.4 | CK10: 1 | CL10: 0.8889 | CM10: 42
A11: Anderson 5 | B11: 400 Pearman Dairy Road | C11: Anderson | D11: SC | E11: 29625 | F11: 3 | G11: 3 | H11: 3 | I11: 3 | J11: 3 | K11: 3 | L11: 3 | M11: 1 | N11: 0.5545 | O11: 0.5882 | P11: 3 | Q11: NA | R11: 0.16 | S11: 3 | T11: NA | U11: 0.1788 | V11: 1 | W11: 0.2035 | X11: 0.192 | Y11: 3 | Z11: 0.0314 | AA11: 0.1919 | AB11: 3 | AC11: 0.1055 | AD11: 0.066 | AE11: 1 | AF11: NA | AG11: 0.154 | AH11: 0 | AI11: 0.5545 | AJ11: 0.2545 | AK11: 0.933 | AL11: 0.875 | AM11: 0.9145 | AN11: 0.933 | AO11: 0.8681 | AP11: 0.6614 | AQ11: 0.2342 | AR11: 0.0598 | AS11: 0.4479 | AT11: 0.2342 | AU11: 0.1034 | AV11: 0.2973 | AW11: 0.5556 | AX11: 0.1111 | AY11: 0.7273 | AZ11: 0.4444 | BA11: 0.3333 | BB11: 0.5 | BC11: 0.2183 | BD11: 0.3558 | BE11: 0.3917 | BF11: 0.2284 | BG11: 0.2929 | BH11: 0.2699 | BI11: No | BJ11: No | BK11: 0.6709 | BL11: 0.192 | BM11: 0.0097 | BN11: 0.2353 | BO11: 0.55 | BP11: 0.6 | BQ11: 0.2059 | BR11: 0.1833 | BS11: 0.2 | BT11: 0.0588 | BU11: 0 | BV11: NA | BW11: 0.8529 | BX11: 0.6768 | BY11: 0.8281 | BZ11: 0.6566 | CA11: 0.9455 | CB11: 0.7879 | CC11: 0.8942 | CD11: No | CE11: No | CF11: 0.9271 | CG11: 0.7674 | CH11: 0.88 | CI11: 0.0526 | CJ11: 0.3684 | CK11: 0.6842 | CL11: 0.8333 | CM11: 42
A12: Bamberg 1 | B12: 267 Red Raider Drive | C12: Bamberg | D12: SC | E12: 29003 | F12: 3 | G12: 3 | H12: 3 | I12: 3 | J12: 3 | K12: 3 | L12: 3 | M12: 3 | N12: 0.6 | O12: 0.7143 | P12: 0 | Q12: NA | R12: 0 | S12: 1 | T12: NA | U12: 0.0556 | V12: 3 | W12: 0.0325 | X12: 0 | Y12: 0 | Z12: 0.0741 | AA12: 0 | AB12: 3 | AC12: 0.0884 | AD12: 0.0385 | AE12: 1 | AF12: NA | AG12: 0.067 | AH12: 2 | AI12: 0.6 | AJ12: 0.1 | AK12: 0.9091 | AL12: 1 | AM12: 1 | AN12: 0.9091 | AO12: 1 | AP12: 0.8 | AQ12: 0 | AR12: 0 | AS12: 0.25 | AT12: 0 | AU12: 0.125 | AV12: 0.2857 | AW12: NA | AX12: 0 | AY12: 0 | AZ12: NA | BA12: 0 | BB12: 0 | BC12: 0.3261 | BD12: 0.2857 | BE12: 0.5655 | BF12: 0.2609 | BG12: 0.2985 | BH12: 0.1511 | BI12: No | BJ12: No | BK12: 0.723 | BL12: 0 | BM12: 0 | BN12: NA | BO12: NA | BP12: NA | BQ12: NA | BR12: NA | BS12: NA | BT12: NA | BU12: NA | BV12: NA | BW12: 0.9091 | BX12: 0.9091 | BY12: 1 | BZ12: 0.9091 | CA12: 0.9091 | CB12: 0.9091 | CC12: 1 | CD12: No | CE12: No | CF12: 1 | CG12: 1 | CH12: 1 | CI12: 0.2 | CJ12: 0.5 | CK12: 0.6 | CL12: 0.8611 | CM12: 42
A13: Bamberg 2 | B13: 60 Holly Avenue | C13: Denmark | D13: SC | E13: 29042 | F13: 3 | G13: 3 | H13: 2 | I13: 3 | J13: 3 | K13: 3 | L13: 3 | M13: 3 | N13: 0.8 | O13: 0.6667 | P13: 1 | Q13: NA | R13: 0.0741 | S13: 0 | T13: NA | U13: 0 | V13: 1 | W13: 0.25 | X13: 0.2342 | Y13: 0 | Z13: 0 | AA13: 0 | AB13: 3 | AC13: 0.2727 | AD13: 0.075 | AE13: 0 | AF13: NA | AG13: 0 | AH13: 2 | AI13: 0.8 | AJ13: 0 | AK13: 0.85 | AL13: 0.7222 | AM13: 0.8333 | AN13: 0.95 | AO13: 0.8333 | AP13: 1 | AQ13: 0.0625 | AR13: 0.0909 | AS13: 0.6 | AT13: 0 | AU13: 0 | AV13: 0.1667 | AW13: 0 | AX13: 0.5 | AY13: NA | AZ13: 1 | BA13: 0.5 | BB13: NA | BC13: 0.0804 | BD13: 0.2291 | BE13: 0.2158 | BF13: 0.0656 | BG13: 0.0392 | BH13: 0.1812 | BI13: No | BJ13: No | BK13: 0.4775 | BL13: 0.2342 | BM13: 0 | BN13: 1 | BO13: 1 | BP13: 1 | BQ13: NA | BR13: NA | BS13: NA | BT13: NA | BU13: NA | BV13: NA | BW13: 1 | BX13: 1 | BY13: 1 | BZ13: 0.25 | CA13: 1 | CB13: 1 | CC13: 1 | CD13: No | CE13: No | CF13: 1 | CG13: NA | CH13: 0 | CI13: 0.2 | CJ13: 0.8 | CK13: 0.8 | CL13: 0.75 | CM13: 42
A14: Barnwell 19 | B14: 446 Country Club Road | C14: Blackville | D14: SC | E14: 29817 | F14: 3 | G14: 3 | H14: 3 | I14: 3 | J14: 3 | K14: 3 | L14: 3 | M14: 0 | N14: 0.8333 | O14: 0 | P14: 0 | Q14: NA | R14: 0 | S14: 0 | T14: NA | U14: 0 | V14: 3 | W14: 0 | X14: 0.012 | Y14: 0 | Z14: 0.125 | AA14: 0 | AB14: 3 | AC14: 0.3617 | AD14: 0 | AE14: 3 | AF14: NA | AG14: 0.25 | AH14: 2 | AI14: 0.8333 | AJ14: 0.1667 | AK14: 1 | AL14: 0.8182 | AM14: 0.8333 | AN14: 1 | AO14: 0.9091 | AP14: 1 | AQ14: 0 | AR14: 0 | AS14: 0.4 | AT14: 0 | AU14: 0 | AV14: 0.1667 | AW14: NA | AX14: NA | AY14: NA | AZ14: NA | BA14: NA | BB14: NA | BC14: 0.2444 | BD14: 0.383 | BE14: 0.3436 | BF14: 0.2 | BG14: 0.1489 | BH14: 0.0072 | BI14: Yes | BJ14: No | BK14: 0.8916 | BL14: 0.012 | BM14: 0 | BN14: NA | BO14: 1 | BP14: NA | BQ14: NA | BR14: NA | BS14: NA | BT14: NA | BU14: NA | BV14: NA | BW14: NA | BX14: NA | BY14: NA | BZ14: NA | CA14: NA | CB14: NA | CC14: 1 | CD14: No | CE14: No | CF14: 0.875 | CG14: NA | CH14: 0.8 | CI14: 0 | CJ14: 0.5 | CK14: 0.5 | CL14: 0.8056 | CM14: 42
A15: Barnwell 29 | B15: 12255 Main St | C15: Williston | D15: SC | E15: 29853 | F15: 3 | G15: 3 | H15: 3 | I15: 3 | J15: 3 | K15: 3 | L15: 3 | M15: 3 | N15: 0.8 | O15: 0.8 | P15: 1 | Q15: NA | R15: 0.0909 | S15: 1 | T15: NA | U15: 0.0909 | V15: 3 | W15: 0.033 | X15: 0.0405 | Y15: 0 | Z15: 0.5 | AA15: 0 | AB15: 3 | AC15: 0.3011 | AD15: 0.08 | AE15: 3 | AF15: NA | AG15: 0.769 | AH15: 2 | AI15: 0.8 | AJ15: 0.2 | AK15: 1 | AL15: 0.75 | AM15: 1 | AN15: 1 | AO15: 0.75 | AP15: 0.8571 | AQ15: 0.2 | AR15: 0 | AS15: 0.25 | AT15: 0 | AU15: 0.1667 | AV15: 0.1667 | AW15: 1 | AX15: NA | AY15: NA | AZ15: 0 | BA15: NA | BB15: NA | BC15: 0.3 | BD15: 0.2222 | BE15: 0.5278 | BF15: 0.4583 | BG15: 0.0079 | BH15: -0.0039 | BI15: No | BJ15: No | BK15: 0.8784 | BL15: 0.0405 | BM15: 0 | BN15: NA | BO15: 1 | BP15: NA | BQ15: NA | BR15: NA | BS15: NA | BT15: NA | BU15: NA | BV15: NA | BW15: 1 | BX15: 0 | BY15: 1 | BZ15: 0 | CA15: 1 | CB15: 0 | CC15: 0.8 | CD15: No | CE15: No | CF15: 1 | CG15: 1 | CH15: 0.8 | CI15: 0.2 | CJ15: 0.2 | CK15: 0.8 | CL15: 0.9444 | CM15: 42
A16: Barnwell 45 | B16: 770 Hagood Avenue | C16: Barnwell | D16: SC | E16: 29812 | F16: 3 | G16: 3 | H16: 3 | I16: 3 | J16: 3 | K16: 3 | L16: 3 | M16: 1 | N16: 0 | O16: 0.5789 | P16: 1 | Q16: NA | R16: 0.0444 | S16: 3 | T16: NA | U16: 0.1556 | V16: 1 | W16: 0.2372 | X16: 0.2112 | Y16: 3 | Z16: 0.0357 | AA16: 0 | AB16: 3 | AC16: 0.1294 | AD16: 0.0539 | AE16: 3 | AF16: NA | AG16: 0.308 | AH16: 2 | AI16: 0 | AJ16: 0.25 | AK16: 1 | AL16: 0.5385 | AM16: 0.8696 | AN16: 1 | AO16: 0.641 | AP16: 0.9615 | AQ16: 0.0769 | AR16: 0 | AS16: 0.2105 | AT16: 0.1538 | AU16: 0.1579 | AV16: 0.1053 | AW16: 0.6667 | AX16: 0.5 | AY16: 0 | AZ16: 0.3333 | BA16: 0.5 | BB16: 0.3333 | BC16: 0.2419 | BD16: 0.3008 | BE16: 0.4172 | BF16: 0.1016 | BG16: 0.1754 | BH16: 0.2721 | BI16: No | BJ16: No | BK16: 0.677 | BL16: 0.2112 | BM16: 0.0062 | BN16: NA | BO16: 0.8571 | BP16: 1 | BQ16: NA | BR16: NA | BS16: NA | BT16: NA | BU16: NA | BV16: NA | BW16: 1 | BX16: 0.9231 | BY16: 0.8333 | BZ16: 0.8462 | CA16: 1 | CB16: 0.9231 | CC16: 0.9167 | CD16: No | CE16: No | CF16: 0.8333 | CG16: 1 | CH16: 1 | CI16: 0.2778 | CJ16: 0.7222 | CK16: 0.7778 | CL16: 0.8889 | CM16: 42
A17: Beaufort | B17: P.O. Drawer 309 | C17: Beaufort | D17: SC | E17: 29902 | F17: 3 | G17: 3 | H17: 2 | I17: 3 | J17: 3 | K17: 3 | L17: 3 | M17: 3 | N17: 0.6909 | O17: 0.6337 | P17: 1 | Q17: NA | R17: 0.1201 | S17: 1 | T17: NA | U17: 0.101 | V17: 0 | W17: 0.1687 | X17: 0.17 | Y17: 0 | Z17: 0.2913 | AA17: 0.327 | AB17: 3 | AC17: 0.132 | AD17: 0.0613 | AE17: 3 | AF17: NA | AG17: 0.375 | AH17: 2 | AI17: 0.6909 | AJ17: 0.1818 | AK17: 0.9238 | AL17: 0.8299 | AM17: 0.9483 | AN17: 0.9476 | AO17: 0.8163 | AP17: 0.9278 | AQ17: 0.185 | AR17: 0.0182 | AS17: 0.4433 | AT17: 0.1508 | AU17: 0.0185 | AV17: 0.2468 | AW17: 0.6667 | AX17: 0.5833 | AY17: 0.3846 | AZ17: 0.4 | BA17: 0.3333 | BB17: 0.4615 | BC17: 0.3261 | BD17: 0.3966 | BE17: 0.3777 | BF17: 0.3075 | BG17: 0.2946 | BH17: 0.3507 | BI17: No | BJ17: No | BK17: 0.6525 | BL17: 0.17 | BM17: 0.0056 | BN17: 0.0455 | BO17: 0.4316 | BP17: 0.4 | BQ17: 0.5455 | BR17: 0.2632 | BS17: 0.15 | BT17: 0.4091 | BU17: 0.0632 | BV17: 0.05 | BW17: 0.8333 | BX17: 0.5806 | BY17: 0.8177 | BZ17: 0.5806 | CA17: 0.8483 | CB17: 0.7051 | CC17: 0.9254 | CD17: No | CE17: No | CF17: 0.9107 | CG17: 0.5253 | CH17: 1 | CI17: 0.0619 | CJ17: 0.268 | CK17: 0.9794 | CL17: 0.75 | CM17: 42
A18: Berkeley | B18: 229 E. Main Street | C18: Moncks Corner | D18: SC | E18: 29461 | F18: 3 | G18: 3 | H18: 3 | I18: 3 | J18: 3 | K18: 3 | L18: 3 | M18: 0 | N18: 0.5391 | O18: 0.5226 | P18: 1 | Q18: NA | R18: 0.1033 | S18: 1 | T18: NA | U18: 0.1089 | V18: 0 | W18: 0.179 | X18: 0.1813 | Y18: 0 | Z18: 0.26 | AA18: 0.4 | AB18: 3 | AC18: 0.1301 | AD18: 0.0687 | AE18: 1 | AF18: NA | AG18: 0.067 | AH18: 2 | AI18: 0.5391 | AJ18: 0.2383 | AK18: 0.8802 | AL18: 0.497 | AM18: 0.8077 | AN18: 0.8776 | AO18: 0.5059 | AP18: 0.7465 | AQ18: 0.123 | AR18: 0.058 | AS18: 0.4495 | AT18: 0.142 | AU18: 0.0352 | AV18: 0.206 | AW18: 0.5238 | AX18: 0.5333 | AY18: 0.6364 | AZ18: 0.4 | BA18: 0.5172 | BB18: 0.4375 | BC18: 0.3125 | BD18: 0.3594 | BE18: 0.3528 | BF18: 0.2156 | BG18: 0.2453 | BH18: 0.2037 | BI18: No | BJ18: No | BK18: 0.4194 | BL18: 0.1813 | BM18: 0.0027 | BN18: 0.1 | BO18: 0.3214 | BP18: 0.3 | BQ18: 0.43 | BR18: 0.3714 | BS18: 0.45 | BT18: 0 | BU18: 0 | BV18: 0 | BW18: 0.8383 | BX18: 0.474 | BY18: 0.8218 | BZ18: 0.5107 | CA18: 0.8115 | CB18: 0.5688 | CC18: 0.8333 | CD18: No | CE18: No | CF18: 0.8085 | CG18: 0.6048 | CH18: 0.85 | CI18: 0.1406 | CJ18: 0.4217 | CK18: 0.8514 | CL18: 0.6389 | CM18: 42
A19: Calhoun | B19: 125 Herlong Avenue | C19: St Matthews | D19: SC | E19: 29135 | F19: 3 | G19: 3 | H19: 3 | I19: 3 | J19: 3 | K19: 3 | L19: 3 | M19: 0 | N19: 0.625 | O19: 0.5217 | P19: 0 | Q19: NA | R19: 0 | S19: 0 | T19: NA | U19: 0 | V19: 0 | W19: 0.2897 | X19: 0.3306 | Y19: 3 | Z19: 0.2083 | AA19: 0.125 | AB19: 3 | AC19: 0.1232 | AD19: 0.0313 | AE19: 3 | AF19: NA | AG19: 0.263 | AH19: 2 | AI19: 0.625 | AJ19: 0 | AK19: 0.7647 | AL19: 0.6786 | AM19: 0.8667 | AN19: 0.7647 | AO19: 0.6786 | AP19: 0.6538 | AQ19: 0 | AR19: 0 | AS19: 0.7778 | AT19: 0 | AU19: 0 | AV19: 0.2308 | AW19: NA | AX19: 1 | AY19: 0.25 | AZ19: NA | BA19: 1 | BB19: 0.5 | BC19: 0.24 | BD19: 0.25 | BE19: 0.0776 | BF19: 0.1818 | BG19: 0.1299 | BH19: 0.0497 | BI19: No | BJ19: No | BK19: 0.4556 | BL19: 0.3306 | BM19: 0.0242 | BN19: 0.5 | BO19: 0.25 | BP19: 1 | BQ19: NA | BR19: 0.25 | BS19: NA | BT19: NA | BU19: NA | BV19: NA | BW19: 0.7 | BX19: 0.7222 | BY19: 0.7273 | BZ19: 0.7778 | CA19: 0.75 | CB19: 0.8333 | CC19: 1 | CD19: No | CE19: No | CF19: 0.9024 | CG19: 1 | CH19: 1 | CI19: 0 | CJ19: 0.25 | CK19: 0.375 | CL19: 0.7222 | CM19: 42
A20: Charleston | B20: 75 Calhoun St | C20: Charleston | D20: SC | E20: 29401 | F20: 3 | G20: 3 | H20: 3 | I20: 3 | J20: 2 | K20: 3 | L20: 2 | M20: 0 | N20: 0.6779 | O20: 0.545 | P20: 1 | Q20: NA | R20: 0.1099 | S20: 1 | T20: NA | U20: 0.114 | V20: 3 | W20: 0.121 | X20: 0.1053 | Y20: 3 | Z20: 0.1776 | AA20: 0.2833 | AB20: 3 | AC20: 0.0992 | AD20: 0.0755 | AE20: 1 | AF20: NA | AG20: 0.205 | AH20: 0 | AI20: 0.6779 | AJ20: 0.2953 | AK20: 0.9556 | AL20: 0.8599 | AM20: 0.9116 | AN20: 0.9556 | AO20: 0.8596 | AP20: 0.8264 | AQ20: 0.1327 | AR20: 0.0795 | AS20: 0.3546 | AT20: 0.1442 | AU20: 0.0736 | AV20: 0.2722 | AW20: 0.4167 | AX20: 0.3448 | AY20: 0.3542 | AZ20: 0.4167 | BA20: 0.2414 | BB20: 0.3137 | BC20: 0.3825 | BD20: 0.4248 | BE20: 0.4914 | BF20: 0.3623 | BG20: 0.3386 | BH20: 0.3233 | BI20: No | BJ20: No | BK20: 0.6299 | BL20: 0.1053 | BM20: 0.013 | BN20: 0.1429 | BO20: 0.5229 | BP20: 0.7143 | BQ20: 0.3193 | BR20: 0.268 | BS20: 0.2143 | BT20: 0.0084 | BU20: 0.0065 | BV20: 0 | BW20: 0.871 | BX20: 0.449 | BY20: 0.8299 | BZ20: 0.5102 | CA20: 0.8516 | CB20: 0.6531 | CC20: 0.8968 | CD20: No | CE20: Yes | CF20: 0.8367 | CG20: 0.4923 | CH20: 0.9 | CI20: 0.0833 | CJ20: 0.4583 | CK20: 0.75 | CL20: 0.7222 | CM20: 42
A21: Charter Erskine | B21: 1201 Main Street Suite 300 | C21: Columbia | D21: SC | E21: 29201 | F21: 3 | G21: 3 | H21: 2 | I21: 3 | J21: 3 | K21: 3 | L21: 3 | M21: 3 | N21: 0.65 | O21: 0.8173 | P21: 3 | Q21: NA | R21: 0.1768 | S21: 3 | T21: NA | U21: 0.1222 | V21: 3 | W21: 0.0616 | X21: 0.0862 | Y21: 0 | Z21: 0.0909 | AA21: 0 | AB21: 3 | AC21: 0.047 | AD21: 0.0235 | AE21: 3 | AF21: NA | AG21: 0.284 | AH21: 0 | AI21: 0.65 | AJ21: 0.275 | AK21: 0.5026 | AL21: 0.386 | AM21: 0.4409 | AN21: 0.5 | AO21: 0.386 | AP21: 0.3967 | AQ21: 0.2234 | AR21: 0.1264 | AS21: 0.5773 | AT21: 0.172 | AU21: 0.069 | AV21: 0.3263 | AW21: 1 | AX21: 0 | AY21: NA | AZ21: 1 | BA21: 0 | BB21: 1 | BC21: 0.2571 | BD21: 0.3095 | BE21: 0.3311 | BF21: 0.2177 | BG21: 0.1675 | BH21: 0.2759 | BI21: No | BJ21: No | BK21: 0.8346 | BL21: 0.0862 | BM21: 0.0012 | BN21: NA | BO21: 1 | BP21: NA | BQ21: NA | BR21: NA | BS21: NA | BT21: NA | BU21: NA | BV21: NA | BW21: 0.9048 | BX21: 0.6867 | BY21: 0.8889 | BZ21: 0.7108 | CA21: 0.9167 | CB21: 0.747 | CC21: 0.8467 | CD21: No | CE21: No | CF21: 0.9419 | CG21: NA | CH21: 1 | CI21: 0.3333 | CJ21: 0.5833 | CK21: 0.6667 | CL21: 0.9722 | CM21: 42
A22: Cherokee | B22: PO Box 460 | C22: Gaffney | D22: SC | E22: 29342 | F22: 3 | G22: 3 | H22: 3 | I22: 3 | J22: 3 | K22: 3 | L22: 3 | M22: 3 | N22: 0.6765 | O22: 0.6047 | P22: 1 | Q22: NA | R22: 0.0833 | S22: 1 | T22: NA | U22: 0.0714 | V22: 3 | W22: 0.1469 | X22: 0.1524 | Y22: 3 | Z22: 0.2661 | AA22: 0.2037 | AB22: 0 | AC22: 0.1094 | AD22: 0.1163 | AE22: 3 | AF22: NA | AG22: 0.299 | AH22: 2 | AI22: 0.6765 | AJ22: 0.25 | AK22: 1 | AL22: 0.9186 | AM22: 0.9231 | AN22: 0.9897 | AO22: 0.9302 | AP22: 1 | AQ22: 0.1413 | AR22: 0.0132 | AS22: 0.3594 | AT22: 0.1319 | AU22: 0 | AV22: 0.1806 | AW22: 0.6 | AX22: 0 | AY22: 0.625 | AZ22: 0 | BA22: 0.3333 | BB22: 0.75 | BC22: 0.2082 | BD22: 0.3457 | BE22: 0.4281 | BF22: 0.1818 | BG22: 0.2871 | BH22: 0.2167 | BI22: No | BJ22: Yes | BK22: 0.6175 | BL22: 0.1524 | BM22: 0.007 | BN22: 0.0588 | BO22: 0.7308 | BP22: 0.9091 | BQ22: 0.2941 | BR22: 0.1923 | BS22: 0.0909 | BT22: 0.0588 | BU22: 0 | BV22: 0 | BW22: 0.75 | BX22: 0.4923 | BY22: 0.7273 | BZ22: 0.4923 | CA22: 0.7073 | CB22: 0.6 | CC22: 0.9459 | CD22: No | CE22: No | CF22: 0.8889 | CG22: 0.7692 | CH22: 1 | CI22: 0.1475 | CJ22: 0.3934 | CK22: 0.9016 | CL22: 0.8611 | CM22: 42
A23: Chester | B23: 509 District Office Drive | C23: Chester | D23: SC | E23: 29706 | F23: 3 | G23: 3 | H23: 3 | I23: 3 | J23: 3 | K23: 3 | L23: 3 | M23: 3 | N23: 0.3684 | O23: 0.6154 | P23: 1 | Q23: NA | R23: 0.0328 | S23: 1 | T23: NA | U23: 0.0407 | V23: 3 | W23: 0.0605 | X23: 0.0489 | Y23: 3 | Z23: 0.1304 | AA23: 0.1818 | AB23: 3 | AC23: 0.1176 | AD23: 0.0265 | AE23: 3 | AF23: NA | AG23: 0.273 | AH23: 2 | AI23: 0.3684 | AJ23: 0.5789 | AK23: 0.8889 | AL23: 0.8871 | AM23: 0.9216 | AN23: 0.9012 | AO23: 0.8871 | AP23: 0.9388 | AQ23: 0.058 | AR23: 0 | AS23: 0.6 | AT23: 0.0714 | AU23: 0 | AV23: 0.2308 | AW23: 0.6667 | AX23: 0.5 | AY23: 0.1429 | AZ23: 0.3333 | BA23: 0.5 | BB23: 0.2857 | BC23: 0.2403 | BD23: 0.2688 | BE23: 0.2065 | BF23: 0.2459 | BG23: 0.0976 | BH23: 0.1432 | BI23: No | BJ23: No | BK23: 0.8075 | BL23: 0.0489 | BM23: 0.0072 | BN23: 0.25 | BO23: 0.9333 | BP23: 1 | BQ23: 0.75 | BR23: 0.0667 | BS23: NA | BT23: NA | BU23: 0 | BV23: NA | BW23: 0.898 | BX23: 0.4706 | BY23: 0.9412 | BZ23: 0.3333 | CA23: 0.925 | CB23: 0.7059 | CC23: 1 | CD23: No | CE23: No | CF23: 0.9921 | CG23: 0.8571 | CH23: 1 | CI23: 0.4483 | CJ23: 0.8621 | CK23: 0.8966 | CL23: 0.9444 | CM23: 42
A24: Chesterfield | B24: 401 West Blvd. | C24: Chesterfield | D24: SC | E24: 29709 | F24: 3 | G24: 3 | H24: 2 | I24: 3 | J24: 3 | K24: 3 | L24: 3 | M24: 0 | N24: 0.619 | O24: 0.4865 | P24: 1 | Q24: NA | R24: 0.0847 | S24: 1 | T24: NA | U24: 0.0924 | V24: 0 | W24: 0.2176 | X24: 0.2228 | Y24: 3 | Z24: 0.0182 | AA24: 0 | AB24: 1 | AC24: 0.1606 | AD24: 0.0925 | AE24: 3 | AF24: NA | AG24: 0.345 | AH24: 2 | AI24: 0.619 | AJ24: 0.3571 | AK24: 0.9211 | AL24: 0.9333 | AM24: 0.9184 | AN24: 0.9211 | AO24: 0.95 | AP24: 0.84 | AQ24: 0.1385 | AR24: 0.0189 | AS24: 0.4063 | AT24: 0.1385 | AU24: 0.037 | AV24: 0.1389 | AW24: 0.4 | AX24: 0.3333 | AY24: 0.4615 | AZ24: 0.6 | BA24: 0 | BB24: 0.3333 | BC24: 0.1764 | BD24: 0.2433 | BE24: 0.3806 | BF24: 0.1308 | BG24: 0.1051 | BH24: 0.2229 | BI24: No | BJ24: No | BK24: 0.5978 | BL24: 0.2228 | BM24: 0 | BN24: 0.9 | BO24: 1 | BP24: NA | BQ24: NA | BR24: 0 | BS24: NA | BT24: NA | BU24: 0 | BV24: NA | BW24: 0.9189 | BX24: 0.4474 | BY24: 0.9459 | BZ24: 0.3684 | CA24: 1 | CB24: 0.6053 | CC24: 0.8182 | CD24: No | CE24: No | CF24: 0.9402 | CG24: 0.375 | CH24: 1 | CI24: 0.129 | CJ24: 0.5806 | CK24: 0.8387 | CL24: 0.6944 | CM24: 42
A25: Clarendon 1 | B25: 12 South Church Street | C25: Summerton | D25: SC | E25: 29148 | F25: 3 | G25: 3 | H25: 3 | I25: 3 | J25: 3 | K25: 3 | L25: 2 | M25: 3 | N25: 0.8182 | O25: 1 | P25: 1 | Q25: NA | R25: 0.0556 | S25: 1 | T25: NA | U25: 0.1111 | V25: 1 | W25: 0.2339 | X25: 0.2059 | Y25: 0 | Z25: 0 | AA25: 0 | AB25: 3 | AC25: 0.1905 | AD25: 0.0095 | AE25: 0 | AF25: NA | AG25: 0 | AH25: 2 | AI25: 0.8182 | AJ25: 0 | AK25: 0.8462 | AL25: 0.7143 | AM25: 1 | AN25: 0.8462 | AO25: 0.7857 | AP25: 0.7143 | AQ25: 0.1111 | AR25: 0 | AS25: 0 | AT25: 0.1111 | AU25: 0.1111 | AV25: 0 | AW25: 0.5 | AX25: 1 | AY25: NA | AZ25: 0 | BA25: 0.5 | BB25: NA | BC25: 0.1639 | BD25: 0.1944 | BE25: 0.8158 | BF25: 0.0352 | BG25: -0.0833 | BH25: 0.4286 | BI25: Yes | BJ25: No | BK25: 0.4902 | BL25: 0.2059 | BM25: 0.0098 | BN25: 0.5 | BO25: 1 | BP25: NA | BQ25: NA | BR25: NA | BS25: NA | BT25: NA | BU25: NA | BV25: NA | BW25: 1 | BX25: 0.75 | BY25: 1 | BZ25: 0.5 | CA25: NA | CB25: 1 | CC25: NA | CD25: No | CE25: Yes | CF25: 0.6875 | CG25: 0 | CH25: 1 | CI25: 0 | CJ25: 0.2308 | CK25: 1 | CL25: 0.8056 | CM25: 42
A26: Clarendon 2 | B26: 10 Weinberg Street | C26: Manning | D26: SC | E26: 29102 | F26: 3 | G26: 3 | H26: 3 | I26: 3 | J26: 3 | K26: 3 | L26: 3 | M26: 3 | N26: 0.1429 | O26: 0.6087 | P26: 3 | Q26: NA | R26: 0.25 | S26: 0 | T26: NA | U26: 0 | V26: 1 | W26: 0.2265 | X26: 0.1897 | Y26: 0 | Z26: 0.0256 | AA26: 0 | AB26: 3 | AC26: 0.1569 | AD26: 0 | AE26: 1 | AF26: NA | AG26: 0.03 | AH26: 2 | AI26: 0.1429 | AJ26: 0.4286 | AK26: 0.1944 | AL26: 0.0625 | AM26: 0.5862 | AN26: 0.1944 | AO26: 0.0625 | AP26: 0.0952 | AQ26: 0.3333 | AR26: 0 | AS26: 0.1333 | AT26: 0 | AU26: 0 | AV26: NA | AW26: 0 | AX26: 1 | AY26: 0 | AZ26: 0.3333 | BA26: 0 | BB26: 0 | BC26: 0.2167 | BD26: 0.5254 | BE26: 0.5199 | BF26: 0.45 | BG26: 0.4068 | BH26: NA | BI26: No | BJ26: No | BK26: 0.67 | BL26: 0.1897 | BM26: 0.0025 | BN26: 1 | BO26: 1 | BP26: 1 | BQ26: NA | BR26: NA | BS26: NA | BT26: NA | BU26: NA | BV26: NA | BW26: 0.8667 | BX26: 0.6875 | BY26: 0.9375 | BZ26: 0.5625 | CA26: 0.6364 | CB26: 0.5625 | CC26: 0.8548 | CD26: No | CE26: No | CF26: 0.7895 | CG26: 1 | CH26: 0.7333 | CI26: 0 | CJ26: 0 | CK26: 1 | CL26: 0.8611 | CM26: 42
A27: Clarendon 3 | B27: PO Drawer 270 | C27: Turbeville | D27: SC | E27: 29162 | F27: 3 | G27: 3 | H27: 3 | I27: 3 | J27: 3 | K27: 3 | L27: 3 | M27: 3 | N27: 0.625 | O27: 0.7692 | P27: 1 | Q27: NA | R27: 0.1212 | S27: 3 | T27: NA | U27: 0.1515 | V27: 3 | W27: 0.0915 | X27: 0.0667 | Y27: 0 | Z27: 0 | AA27: 0 | AB27: 3 | AC27: 0.1236 | AD27: 0.0651 | AE27: 2 | AF27: NA | AG27: 0.214 | AH27: 2 | AI27: 0.625 | AJ27: 0.125 | AK27: 1 | AL27: 0.8182 | AM27: 0.875 | AN27: 1 | AO27: 0.8182 | AP27: 0.8889 | AQ27: 0.1875 | AR27: 0.0588 | AS27: 0.4286 | AT27: 0.3125 | AU27: 0 | AV27: 0.2 | AW27: NA | AX27: 1 | AY27: NA | AZ27: NA | BA27: 0 | BB27: 0.3333 | BC27: 0.2838 | BD27: 0.1783 | BE27: 0.4319 | BF27: 0.1013 | BG27: 0.1134 | BH27: 0.3625 | BI27: No | BJ27: No | BK27: 0.8121 | BL27: 0.0667 | BM27: 0 | BN27: 1 | BO27: 1 | BP27: NA | BQ27: NA | BR27: NA | BS27: NA | BT27: NA | BU27: NA | BV27: NA | BW27: 0.9 | BX27: 0.5333 | BY27: 0.7857 | BZ27: 0.4667 | CA27: 0.8 | CB27: 0.6 | CC27: 1 | CD27: No | CE27: No | CF27: 1 | CG27: 0.8 | CH27: 1 | CI27: 0.0667 | CJ27: 1 | CK27: 1 | CL27: 0.9722 | CM27: 42
A28: Colleton | B28: 611 Colleton Loop | C28: Walterboro | D28: SC | E28: 29488 | F28: 3 | G28: 3 | H28: 3 | I28: 3 | J28: 3 | K28: 3 | L28: 3 | M28: 0 | N28: 0.5208 | O28: 0.0263 | P28: 1 | Q28: NA | R28: 0.0603 | S28: 1 | T28: NA | U28: 0.0339 | V28: 3 | W28: 0.1227 | X28: 0.1245 | Y28: 0 | Z28: 0.3243 | AA28: 0.4143 | AB28: 3 | AC28: 0.2127 | AD28: 0.0545 | AE28: 1 | AF28: NA | AG28: 0.131 | AH28: 2 | AI28: 0.5208 | AJ28: 0.3125 | AK28: 0.9571 | AL28: 0.7024 | AM28: 0.7381 | AN28: 0.9714 | AO28: 0.7143 | AP28: 0.8525 | AQ28: 0.0781 | AR28: 0.0385 | AS28: 0.3478 | AT28: 0.0462 | AU28: 0.0189 | AV28: 0.1458 | AW28: 0.3333 | AX28: 0.2857 | AY28: 0.25 | AZ28: 0 | BA28: 0.1429 | BB28: 0.25 | BC28: 0.1471 | BD28: 0.1324 | BE28: 0.4747 | BF28: 0.0905 | BG28: 0.0533 | BH28: 0.1312 | BI28: No | BJ28: Yes | BK28: 0.5684 | BL28: 0.1245 | BM28: 0.0086 | BN28: 0.1765 | BO28: 0.5581 | BP28: 0.9 | BQ28: 0.7647 | BR28: 0.3721 | BS28: NA | BT28: 0 | BU28: 0 | BV28: NA | BW28: 0.8056 | BX28: 0.678 | BY28: 0.7931 | BZ28: 0.7119 | CA28: 0.7586 | CB28: 0.7458 | CC28: 0.8929 | CD28: No | CE28: No | CF28: 0.8583 | CG28: 1 | CH28: 0.81 | CI28: 0.1739 | CJ28: 0.6087 | CK28: 0.7609 | CL28: 0.7222 | CM28: 42
A29: Darlington | B29: 120 E. Smith Ave. | C29: Darlington | D29: SC | E29: 29532 | F29: 3 | G29: 3 | H29: 2 | I29: 3 | J29: 2 | K29: 3 | L29: 3 | M29: 3 | N29: 0.7872 | O29: 0.6575 | P29: 1 | Q29: NA | R29: 0.0864 | S29: 1 | T29: NA | U29: 0.0541 | V29: 1 | W29: 0.165 | X29: 0.1645 | Y29: 0 | Z29: 0.2992 | AA29: 0.4583 | AB29: 3 | AC29: 0.163 | AD29: 0.0806 | AE29: 1 | AF29: NA | AG29: 0.187 | AH29: 0 | AI29: 0.7872 | AJ29: 0.1277 | AK29: 0.9237 | AL29: 0.9149 | AM29: 0.881 | AN29: 0.9322 | AO29: 0.922 | AP29: 0.8017 | AQ29: 0.1048 | AR29: 0.0696 | AS29: 0.3868 | AT29: 0.0857 | AU29: 0.0256 | AV29: 0.3059 | AW29: 0.5 | AX29: 0.3571 | AY29: 0.6 | AZ29: 0.4 | BA29: 0.4615 | BB29: 0.25 | BC29: 0.1776 | BD29: 0.2089 | BE29: 0.4204 | BF29: 0.1549 | BG29: 0.1591 | BH29: 0.185 | BI29: No | BJ29: No | BK29: 0.6624 | BL29: 0.1645 | BM29: 0.0136 | BN29: 0.0909 | BO29: 0.4595 | BP29: 0.3846 | BQ29: 0.7273 | BR29: 0.3514 | BS29: 0.3077 | BT29: 0.0455 | BU29: 0 | BV29: 0 | BW29: 0.875 | BX29: 0.5342 | BY29: 0.8824 | BZ29: 0.5205 | CA29: 0.8704 | CB29: 0.6027 | CC29: 0.8571 | CD29: No | CE29: No | CF29: 0.8458 | CG29: 0.4737 | CH29: 1 | CI29: 0.2 | CJ29: 0.6 | CK29: 0.7 | CL29: 0.6389 | CM29: 42
A30: Dillon 3 | B30: 205 King Street | C30: Latta | D30: SC | E30: 29565 | F30: 3 | G30: 3 | H30: 3 | I30: 3 | J30: 3 | K30: 3 | L30: 3 | M30: 1 | N30: 0.4286 | O30: 0.6 | P30: 1 | Q30: NA | R30: 0.0714 | S30: 3 | T30: NA | U30: 0.2143 | V30: 3 | W30: 0.118 | X30: 0.1205 | Y30: 0 | Z30: 0 | AA30: 0 | AB30: 3 | AC30: 0.2733 | AD30: 0.0592 | AE30: 1 | AF30: NA | AG30: 0.182 | AH30: 2 | AI30: 0.4286 | AJ30: 0.5714 | AK30: 0.7692 | AL30: 0.6429 | AM30: 0.625 | AN30: 0.7692 | AO30: 0.6429 | AP30: 1 | AQ30: 0.125 | AR30: 0 | AS30: 0.6 | AT30: 0.375 | AU30: 0 | AV30: 0.3333 | AW30: 1 | AX30: 0.6667 | AY30: NA | AZ30: 1 | BA30: 0.6667 | BB30: NA | BC30: 0.4107 | BD30: 0.5172 | BE30: 0.3048 | BF30: 0.1369 | BG30: 0.3218 | BH30: 0.1149 | BI30: Yes | BJ30: No | BK30: 0.8554 | BL30: 0.1205 | BM30: 0 | BN30: NA | BO30: 1 | BP30: NA | BQ30: NA | BR30: NA | BS30: NA | BT30: NA | BU30: NA | BV30: NA | BW30: 0.8 | BX30: 0.6 | BY30: 0.9 | BZ30: 0.6 | CA30: 0.8889 | CB30: 0.6 | CC30: 0.75 | CD30: No | CE30: No | CF30: 0.9333 | CG30: 1 | CH30: 1 | CI30: 0 | CJ30: 0.2857 | CK30: 0.8571 | CL30: 0.8889 | CM30: 42
A31: Dillon 4 | B31: 1738 Hwy 301 North | C31: Dillon | D31: SC | E31: 29536 | F31: 3 | G31: 3 | H31: 3 | I31: 3 | J31: 3 | K31: 3 | L31: 3 | M31: 1 | N31: 0.4583 | O31: 0.5 | P31: 0 | Q31: NA | R31: 0 | S31: 1 | T31: NA | U31: 0.0417 | V31: 3 | W31: 0.104 | X31: 0.0806 | Y31: 3 | Z31: 0.2083 | AA31: 0.3125 | AB31: 3 | AC31: 0.118 | AD31: 0.0276 | AE31: 1 | AF31: NA | AG31: 0.053 | AH31: 2 | AI31: 0.4583 | AJ31: 0.5417 | AK31: 1 | AL31: 1 | AM31: 0.8286 | AN31: 1 | AO31: 1 | AP31: 0.7805 | AQ31: 0 | AR31: 0 | AS31: 0.3 | AT31: 0.0435 | AU31: 0.04 | AV31: 0 | AW31: 0.6 | AX31: 1 | AY31: 0.2222 | AZ31: 0.8 | BA31: 1 | BB31: 0.8571 | BC31: 0.1985 | BD31: 0.1734 | BE31: 0.4319 | BF31: 0.1098 | BG31: 0.0451 | BH31: 0.0876 | BI31: No | BJ31: No | BK31: 0.7774 | BL31: 0.0806 | BM31: 0.0129 | BN31: 0.1667 | BO31: 0.7143 | BP31: 0.6667 | BQ31: 0.5 | BR31: 0.1429 | BS31: 0.3333 | BT31: NA | BU31: NA | BV31: NA | BW31: 1 | BX31: 0.7333 | BY31: 1 | BZ31: 0.7333 | CA31: 1 | CB31: 0.8 | CC31: 1 | CD31: No | CE31: No | CF31: 0.9231 | CG31: 1 | CH31: 1 | CI31: 0.0909 | CJ31: 0.5455 | CK31: 0.5455 | CL31: 0.8056 | CM31: 42
A32: Dorchester 2 | B32: 1325-C Boone Hill Road | C32: Summerville | D32: SC | E32: 29483 | F32: 3 | G32: 3 | H32: 2 | I32: 3 | J32: 2 | K32: 3 | L32: 3 | M32: 0 | N32: 0.6829 | O32: 0.4819 | P32: 3 | Q32: NA | R32: 0.1486 | S32: 3 | T32: NA | U32: 0.135 | V32: 3 | W32: 0.1371 | X32: 0.1327 | Y32: 0 | Z32: 0.2544 | AA32: 0.4153 | AB32: 3 | AC32: 0.1391 | AD32: 0.0717 | AE32: 3 | AF32: NA | AG32: 0.259 | AH32: 0 | AI32: 0.6829 | AJ32: 0.2683 | AK32: 0.9562 | AL32: 0.8458 | AM32: 0.9372 | AN32: 0.9603 | AO32: 0.8502 | AP32: 0.7425 | AQ32: 0.2133 | AR32: 0.064 | AS32: 0.5503 | AT32: 0.1894 | AU32: 0.0636 | AV32: 0.227 | AW32: 0.4 | AX32: 0.4 | AY32: 0.4 | AZ32: 0.5333 | BA32: 0.2 | BB32: 0.0714 | BC32: 0.307 | BD32: 0.4088 | BE32: 0.3608 | BF32: 0.2401 | BG32: 0.281 | BH32: 0.413 | BI32: No | BJ32: Yes | BK32: 0.5606 | BL32: 0.1327 | BM32: 0.0132 | BN32: 0.0175 | BO32: 0.2642 | BP32: 0.5 | BQ32: 0.5088 | BR32: 0.4057 | BS32: 0.2 | BT32: 0.0175 | BU32: 0.0094 | BV32: 0 | BW32: 0.8723 | BX32: 0.5219 | BY32: 0.9072 | BZ32: 0.5365 | CA32: 0.8984 | CB32: 0.6934 | CC32: 0.8598 | CD32: No | CE32: No | CF32: 0.9003 | CG32: 0.75 | CH32: 1 | CI32: 0.0833 | CJ32: 0.5417 | CK32: 0.75 | CL32: 0.7778 | CM32: 42
A33: Dorchester 4 | B33: 810 Schoolhous;e Rd | C33: Dorchester | D33: SC | E33: 29437 | F33: 3 | G33: 3 | H33: 3 | I33: 3 | J33: 3 | K33: 3 | L33: 3 | M33: 3 | N33: 0.7727 | O33: 0.7 | P33: 1 | Q33: NA | R33: 0.0597 | S33: 1 | T33: NA | U33: 0.0455 | V33: 3 | W33: 0.1448 | X33: 0.1534 | Y33: 3 | Z33: 0.1579 | AA33: 0.1875 | AB33: 3 | AC33: 0.073 | AD33: 0.0217 | AE33: 3 | AF33: NA | AG33: 0.269 | AH33: 2 | AI33: 0.7727 | AJ33: 0.2273 | AK33: 0.9143 | AL33: 0.95 | AM33: 0.2 | AN33: 0.9143 | AO33: 0.95 | AP33: 0.4815 | AQ33: 0.1333 | AR33: 0 | AS33: 0.5 | AT33: 0.1 | AU33: 0 | AV33: 0 | AW33: 0.5 | AX33: 1 | AY33: NA | AZ33: 0 | BA33: 0.5 | BB33: NA | BC33: 0.1713 | BD33: 0.2547 | BE33: 0.359 | BF33: 0.1185 | BG33: 0.0491 | BH33: 0.0667 | BI33: No | BJ33: No | BK33: 0.608 | BL33: 0.1534 | BM33: 0 | BN33: 0.5 | BO33: 0.3333 | BP33: 1 | BQ33: 0.3333 | BR33: 0.1667 | BS33: NA | BT33: 0.1667 | BU33: NA | BV33: NA | BW33: 0.7333 | BX33: 0.4706 | BY33: 0.5 | BZ33: 0.4706 | CA33: 0.7333 | CB33: 0.7059 | CC33: 0.8837 | CD33: No | CE33: No | CF33: 0.9318 | CG33: 1 | CH33: 0.6 | CI33: 0.3636 | CJ33: 0.6818 | CK33: 0.8636 | CL33: 0.9444 | CM33: 42
A34: Edgefield | B34: 3 Par Drive | C34: Johnston | D34: SC | E34: 29824 | F34: 3 | G34: 3 | H34: 2 | I34: 3 | J34: 3 | K34: 3 | L34: 3 | M34: 0 | N34: 0.6765 | O34: 0.5455 | P34: 1 | Q34: NA | R34: 0.0882 | S34: 1 | T34: NA | U34: 0.0588 | V34: 0 | W34: 0.149 | X34: 0.1563 | Y34: 0 | Z34: 0.3056 | AA34: 0.4375 | AB34: 3 | AC34: 0.1273 | AD34: 0.0592 | AE34: 3 | AF34: NA | AG34: 0.276 | AH34: 2 | AI34: 0.6765 | AJ34: 0.1765 | AK34: 0.8095 | AL34: 0.9474 | AM34: 0.8235 | AN34: 0.8095 | AO34: 0.9474 | AP34: 0.8421 | AQ34: 0.125 | AR34: 0.0556 | AS34: 0.3571 | AT34: 0.0625 | AU34: 0.0556 | AV34: 0.0667 | AW34: 1 | AX34: NA | AY34: NA | AZ34: 0 | BA34: NA | BB34: 0 | BC34: 0.2715 | BD34: 0.346 | BE34: 0.3794 | BF34: 0.3119 | BG34: 0.1618 | BH34: 0.2179 | BI34: No | BJ34: No | BK34: 0.6136 | BL34: 0.1563 | BM34: 0.0029 | BN34: 0.5 | BO34: 0.4444 | BP34: 0.4 | BQ34: NA | BR34: 0.5556 | BS34: 0.4 | BT34: NA | BU34: NA | BV34: NA | BW34: 0.75 | BX34: 0.6842 | BY34: 0.8462 | BZ34: 0.6316 | CA34: 0.7 | CB34: 0.8421 | CC34: 0.8889 | CD34: No | CE34: No | CF34: 0.8636 | CG34: 0.5 | CH34: 1 | CI34: 0.1212 | CJ34: 0.2727 | CK34: 1 | CL34: 0.6667 | CM34: 42
A35: Fairfield | B35: PO Drawer 622 | C35: Winnsboro | D35: SC | E35: 29180 | F35: 3 | G35: 3 | H35: 3 | I35: 3 | J35: 3 | K35: 3 | L35: 3 | M35: 0 | N35: 0.625 | O35: 0.5294 | P35: 1 | Q35: NA | R35: 0.0889 | S35: 1 | T35: NA | U35: 0.0227 | V35: 0 | W35: 0.2374 | X35: 0.2534 | Y35: 3 | Z35: 0.2273 | AA35: 0.3077 | AB35: 3 | AC35: 0.1915 | AD35: 0.0483 | AE35: 1 | AF35: NA | AG35: 0.15 | AH35: 0 | AI35: 0.625 | AJ35: 0.3333 | AK35: 0.7447 | AL35: 0.85 | AM35: 0.7778 | AN35: 0.7447 | AO35: 0.8 | AP35: 0.5 | AQ35: 0.1 | AR35: 0.0667 | AS35: 0.4286 | AT35: 0.0333 | AU35: 0 | AV35: 0.0667 | AW35: 0.8 | AX35: 0.5 | AY35: NA | AZ35: 0.2 | BA35: 0.5 | BB35: NA | BC35: 0.2379 | BD35: 0.1772 | BE35: 0.3392 | BF35: 0.208 | BG35: 0.187 | BH35: 0.3026 | BI35: No | BJ35: No | BK35: 0.6676 | BL35: 0.2534 | BM35: 0.0082 | BN35: NA | BO35: 0 | BP35: NA | BQ35: 0.6 | BR35: 0.2381 | BS35: NA | BT35: NA | BU35: 0 | BV35: NA | BW35: 0.6 | BX35: 0.8696 | BY35: 0.913 | BZ35: 0.7391 | CA35: 0.75 | CB35: 0.913 | CC35: 0.925 | CD35: No | CE35: No | CF35: 0.9615 | CG35: 0.3333 | CH35: 0.8 | CI35: 0.1 | CJ35: 0.6 | CK35: 0.9 | CL35: 0.6667 | CM35: 42
A36: Florence 1 | B36: 319 South Dargan Street | C36: FLorence | D36: SC | E36: 29501 | F36: 3 | G36: 3 | H36: 3 | I36: 3 | J36: 3 | K36: 3 | L36: 3 | M36: 0 | N36: 0.4845 | O36: 0.3415 | P36: 1 | Q36: NA | R36: 0.0745 | S36: 1 | T36: NA | U36: 0.0423 | V36: 0 | W36: 0.229 | X36: 0.2472 | Y36: 0 | Z36: 0.3348 | AA36: 0.4397 | AB36: 3 | AC36: 0.2013 | AD36: 0.0787 | AE36: 1 | AF36: NA | AG36: 0.179 | AH36: 0 | AI36: 0.4845 | AJ36: 0.2981 | AK36: 0.8868 | AL36: 0.8722 | AM36: 0.8879 | AN36: 0.8938 | AO36: 0.882 | AP36: 0.9007 | AQ36: 0.1053 | AR36: 0.047 | AS36: 0.5098 | AT36: 0.0667 | AU36: 0.0201 | AV36: 0.4087 | AW36: 0.625 | AX36: 0.375 | AY36: 0 | AZ36: 0.125 | BA36: 0.25 | BB36: 0.1667 | BC36: 0.3165 | BD36: 0.3612 | BE36: 0.3314 | BF36: 0.2226 | BG36: 0.158 | BH36: 0.1665 | BI36: No | BJ36: Yes | BK36: 0.5517 | BL36: 0.2472 | BM36: 0.0118 | BN36: 0.0435 | BO36: 0.4576 | BP36: 0.4545 | BQ36: 0.7174 | BR36: 0.2542 | BS36: 0.2727 | BT36: 0 | BU36: 0 | BV36: 0 | BW36: 0.7407 | BX36: 0.4444 | BY36: 0.7451 | BZ36: 0.4074 | CA36: 0.76 | CB36: 0.4259 | CC36: 0.9167 | CD36: No | CE36: No | CF36: 0.9391 | CG36: 0.5849 | CH36: 0.95 | CI36: 0.0882 | CJ36: 0.3824 | CK36: 0.5882 | CL36: 0.5833 | CM36: 42
A37: Florence 2 | B37: 2121 South Pamplico Highway | C37: Pamplico | D37: SC | E37: 29583 | F37: 3 | G37: 3 | H37: 3 | I37: 3 | J37: 3 | K37: 3 | L37: 3 | M37: 0 | N37: 0.7778 | O37: 0.25 | P37: 1 | Q37: NA | R37: 0.0417 | S37: 1 | T37: NA | U37: 0.0417 | V37: 3 | W37: 0.1307 | X37: 0.0887 | Y37: 3 | Z37: 0 | AA37: 0.1111 | AB37: 3 | AC37: 0.1263 | AD37: 0.0802 | AE37: 1 | AF37: NA | AG37: 0.2 | AH37: 2 | AI37: 0.7778 | AJ37: 0.1111 | AK37: 0.8333 | AL37: 0.8571 | AM37: 0.5 | AN37: 0.8333 | AO37: 0.8571 | AP37: 0.125 | AQ37: 0.0714 | AR37: 0 | AS37: 1 | AT37: 0.0714 | AU37: 0 | AV37: 1 | AW37: 0 | AX37: 0 | AY37: 1 | AZ37: 1 | BA37: 0.5 | BB37: 1 | BC37: 0.2384 | BD37: 0.3293 | BE37: -0.1071 | BF37: 0.1143 | BG37: 0.1463 | BH37: -0.4 | BI37: No | BJ37: No | BK37: 0.6749 | BL37: 0.0887 | BM37: 0.0099 | BN37: 0.4 | BO37: 0.25 | BP37: NA | BQ37: 0.2 | BR37: NA | BS37: NA | BT37: 0.2 | BU37: 0.75 | BV37: NA | BW37: 0.9 | BX37: 0.5833 | BY37: 0.8889 | BZ37: 0.4167 | CA37: 1 | CB37: 0.9167 | CC37: 0.8 | CD37: No | CE37: No | CF37: 0.8857 | CG37: 1 | CH37: 1 | CI37: 0 | CJ37: 0.1111 | CK37: 0.3333 | CL37: 0.8056 | CM37: 42
A38: Florence 3 | B38: 209 Graham Road | C38: Florence | D38: SC | E38: 29560 | F38: 3 | G38: 3 | H38: 3 | I38: 3 | J38: 3 | K38: 3 | L38: 3 | M38: 0 | N38: 0.6923 | O38: 0.0333 | P38: 1 | Q38: NA | R38: 0.0174 | S38: 1 | T38: NA | U38: 0.0348 | V38: 3 | W38: 0.0823 | X38: 0.0801 | Y38: 3 | Z38: 0.0323 | AA38: 0 | AB38: 3 | AC38: 0.2394 | AD38: 0.0574 | AE38: 1 | AF38: NA | AG38: 0.06 | AH38: 2 | AI38: 0.6923 | AJ38: 0.1026 | AK38: 0.9692 | AL38: 0.9833 | AM38: 0.8 | AN38: 0.9692 | AO38: 0.9833 | AP38: 0.8548 | AQ38: 0.0169 | AR38: 0.0179 | AS38: 0.2564 | AT38: 0.0678 | AU38: 0 | AV38: 0.12 | AW38: 0.5 | AX38: 0 | AY38: 1 | AZ38: 0.5 | BA38: 0 | BB38: 1 | BC38: 0.1767 | BD38: 0.1947 | BE38: 0.3913 | BF38: 0.083 | BG38: 0.0588 | BH38: 0.1211 | BI38: No | BJ38: No | BK38: 0.7224 | BL38: 0.0801 | BM38: 0.0089 | BN38: 0.75 | BO38: 0.3333 | BP38: 0.3333 | BQ38: NA | BR38: NA | BS38: NA | BT38: NA | BU38: NA | BV38: 0.3333 | BW38: 1 | BX38: 0.8636 | BY38: 1 | BZ38: 0.8182 | CA38: 1 | CB38: 0.8636 | CC38: 0.8462 | CD38: No | CE38: No | CF38: 0.9907 | CG38: 0.5 | CH38: 1 | CI38: 0.0952 | CJ38: 0.3571 | CK38: 0.9762 | CL38: 0.8056 | CM38: 42
A39: Florence 4 | B39: 304 Kemper Street | C39: Timmonsville | D39: SC | E39: 29161 | F39: 3 | G39: 3 | H39: 3 | I39: 3 | J39: 3 | K39: 3 | L39: 3 | M39: 0 | N39: 0.5385 | O39: 0.2308 | P39: 1 | Q39: NA | R39: 0.0625 | S39: 0 | T39: NA | U39: 0 | V39: 1 | W39: 0.1797 | X39: 0.1792 | Y39: 3 | Z39: 0.625 | AA39: 0.1429 | AB39: 3 | AC39: 0.25 | AD39: 0 | AE39: 0 | AF39: NA | AG39: 0 | AH39: 2 | AI39: 0.5385 | AJ39: 0.4615 | AK39: 1 | AL39: 0.9167 | AM39: 1 | AN39: 0.8333 | AO39: 0.9167 | AP39: 0.6154 | AQ39: 0 | AR39: 0.1 | AS39: 0.1429 | AT39: 0 | AU39: 0 | AV39: 0.2 | AW39: NA | AX39: 0 | AY39: NA | AZ39: NA | BA39: 0 | BB39: 0.6667 | BC39: 0.1132 | BD39: 0.0231 | BE39: 0.1475 | BF39: 0.0385 | BG39: 0.0313 | BH39: -0.0125 | BI39: Yes | BJ39: Yes | BK39: 0.566 | BL39: 0.1792 | BM39: 0 | BN39: NA | BO39: 0.5 | BP39: NA | BQ39: NA | BR39: 0.25 | BS39: NA | BT39: NA | BU39: 0.25 | BV39: NA | BW39: 0.8333 | BX39: 0.8182 | BY39: 0.75 | BZ39: 0.7273 | CA39: 0.6 | CB39: 0.8182 | CC39: 1 | CD39: No | CE39: No | CF39: 1 | CG39: 1 | CH39: 1 | CI39: 0.25 | CJ39: 0.6667 | CK39: 1 | CL39: 0.6944 | CM39: 42
A40: Florence 5 | B40: P.O. Box 98 | C40: Johnsonville | D40: SC | E40: 29555 | F40: 3 | G40: 3 | H40: 3 | I40: 3 | J40: 3 | K40: 3 | L40: 3 | M40: 1 | N40: 0 | O40: 0.3333 | P40: 1 | Q40: NA | R40: 0.1176 | S40: 1 | T40: NA | U40: 0.0784 | V40: 3 | W40: 0.0996 | X40: 0.1055 | Y40: 0 | Z40: 0.0625 | AA40: 0 | AB40: 3 | AC40: 0.166 | AD40: 0.083 | AE40: 1 | AF40: NA | AG40: 0.077 | AH40: 2 | AI40: 0 | AJ40: 0.6667 | AK40: 0.8409 | AL40: 0.9048 | AM40: 0.9091 | AN40: 0.8409 | AO40: 0.9048 | AP40: 1 | AQ40: 0.125 | AR40: 0.1053 | AS40: 0.2 | AT40: 0.0938 | AU40: 0.0526 | AV40: 0.5 | AW40: 0.6 | AX40: NA | AY40: NA | AZ40: 0.2 | BA40: NA | BB40: NA | BC40: 0.1902 | BD40: 0.2173 | BE40: 0.5733 | BF40: 0.2867 | BG40: 0.2316 | BH40: 0.18 | BI40: No | BJ40: No | BK40: 0.8203 | BL40: 0.1055 | BM40: 0.0039 | BN40: 1 | BO40: 0.5714 | BP40: NA | BQ40: NA | BR40: NA | BS40: NA | BT40: NA | BU40: 0.1429 | BV40: 1 | BW40: 1 | BX40: 0.3125 | BY40: 1 | BZ40: 0.375 | CA40: 1 | CB40: 0.5 | CC40: 0.9048 | CD40: No | CE40: No | CF40: 0.814 | CG40: 1 | CH40: 0.9 | CI40: 0 | CJ40: 0.2857 | CK40: 0.2857 | CL40: 0.8333 | CM40: 42
...
