Workbook
Name _2020: [1]COMBINED!$B$536:$Q$1075
Name _2021: [1]COMBINED!$B$1076:$Q$1602

Sheet Information
A1: LEA Profile Information
A2: The Office of Special Education Programs (OSEP) requires states to publicly report how the Local Education Agency (LEA) compares (profiles) to the state’s State Performance Plan (SPP)/Annual Performance Report. The data used are from the 2022-23 reporting year for all indicators except Indicators 1, 2, and 4 which use 2021-22 lag data. Data include the LEA’s results on Indicators 1-14 on the SPP. LEA indicator results are compared to the state target. There are no points or levels. There are simply results on the indicators. The profile provides stakeholders with information about the LEA on the requirements of IDEA. In this document, you will find your LEA Data Profile (Indicators 1-14) for the 2022-23 reporting year. A score of “0” will automatically result in Targeted Assistance in the area of deficiency.
A3: LEA Determination Information
A4: The LEA determinations are required by OSEP and do not include all indicators. The determinations use of indicators are 1) required by OSEP to be included and 2) identified by the Office of Special Education Services (OSES) as the most influential to outcomes. Results are grouped into two factors - Compliance Factors (CF) and Performance Factors (PF). The State will publish district determinations annually. The OSEP requires the OSES to make a “determination” or rank the LEA on a specific level that determines assistance or Technical Assistance (TA) for the LEA. OSES uses the determinations to inform the LEA’s of their tier level. In this document, you will find your LEA Determination for the 2022-23 reporting year. The Office of Special Education Programs (OSEP) requires each State Education Agency (SEA) to consider the following information in annual Local Education Agency (LEA) determinations: performance on specific Part B State Performance Plan (SPP) compliance indicators (4B, 9, 10, 11, 12, and 13), valid and reliable data, correction of identified noncompliance, and other relevant data available to the state that reflects on LEA implementation of the IDEA. For South Carolina, the factors for LEA determinations are grouped into two categories – Compliance (CF) and Performance (PF). Pursuant to the IDEA, each LEA determination will indicate a level of assistance required for the LEA: • Meets the requirements and purposes of IDEA (Tier 1); • Needs assistance in implementing the requirements of IDEA (Tier 2); • Needs intervention in implementing the requirements of IDEA (Tier 3); or • Needs substantial intervention in implementing the requirements of IDEA (Tier 4). This year, LEAs received two versions of the LEA Annual Determinations, one based on the system that has been in place for several years and one based on the modified system that was discussed with LEAs in May and June. The tier/technical assistance designation for each LEA is based on the version that yields the highest result for the LEA. Requirements for the designated tiers will be forthcoming.
A5: Compliance
A6: Compliance Factor 1: Data | C6: 2 = no findings of non-compliance 1 = findings of non-compliance in the current year 0 = 2 or more consecutive years of findings of non-compliance (current year and previous year(s))
A7: Compliance Factor 2: Finance | C7: 2 = no findings of non-compliance 1 = findings of non-compliance in the current year 0 = 2 or more consecutive years of findings of non-compliance (current year and previous year(s))
A8: Compliance Factor 3: Post-Secondary Planning & Services (Indicator 13) | C8: 2 = no findings of non-compliance 1 = findings of non-compliance in the current year 0 = 2 or more consecutive years of findings of non-compliance (current year and previous year(s))
A9: Compliance Factor 4: Timely Corrections of Non-Compliance | C9: 2 = no findings of noncompliance or all findings of noncompliance are corrected within one calendar year 1 = any areas of noncompliance that go over the one-year timeline 0 = any area of noncompliance that goes over two years for corrections
A10: Compliance Factor 5: 60 Day Timeline (Indicator 11) | C10: 2 = no findings of non-compliance 1 = findings of non-compliance in the current year 0 = 2 or more consecutive years of findings of non-compliance (current year and previous year(s))
A11: Compliance Factor 6: C to B Transition (Indicator 12) | C11: 2 = no findings of non-compliance 1 = findings of non-compliance in the current year 0 = 2 or more consecutive years of findings of non-compliance (current year and previous year(s))
A12: Compliance Factor 7: SWD Suspension Rate > 10 Days by Race/Ethnicity (Indicator 4B) | C12: 2 = no findings of non-compliance 1 = findings of non-compliance in the current year 0 = 2 or more consecutive years of findings of non-compliance (current year and previous year(s))
A13: Compliance Factor 8: Disproportionate Representation (Indicators 9) | C13: 2 = no findings of non-compliance 1 = findings of non-compliance in the current year 0 = 2 or more consecutive years of findings of non-compliance (current year and previous year(s))
A14: Compliance Factor 9: Disproportionate Representation by Race/Ethnicity and Disability (Indicators 10) | C14: 2 = no findings of non-compliance 1 = findings of non-compliance in the current year 0 = 2 or more consecutive years of findings of non-compliance (current year and previous year(s))
A15: Performance
A16: Factor | B16: Numerator | C16: Denominator | D16: Target
A17: Performance Factor 1: Graduation Rate | B17: Graduated w High School Diploma | C17: Graduated with a regular HS Diploma, Received a Certificate/SC HS Credential, Reached Maximum Age, Dropped Out | D17: Increase from the target
A18: Performance Factor 2: ELA Assessment (3B - 4th grade) | B18: Sum of SWD Number Proficient (Regular and Alternate Assessment) | C18: Sum of SWD Number Tested (Regular and Alternate Assessment) | D18: Increase from the target
A19: Performance Factor 3: ELA Assessment (3B - 8th grade) | B19: Sum of SWD Number Proficient (Regular and Alternate Assessment) | C19: Sum of SWD Number Tested (Regular and Alternate Assessment) | D19: Increase from the target
A20: Performance Factor 4: Math Assessment (3B - 4th grade) | B20: Sum of SWD Number Proficient (Regular and Alternate Assessment) | C20: Sum of SWD Number Tested (Regular and Alternate Assessment) | D20: Increase from the target
A21: Performance Factor 5: Math Assessment (3B - 8th grade) | B21: Sum of SWD Number Proficient (Regular and Alternate Assessment) | C21: Sum of SWD Number Tested (Regular and Alternate Assessment) | D21: Increase from the target
A22: Performance Factor 6: School Aged LRE | B22: # of children with IEPs aged 5 who are enrolled in kindergarten and aged 6 through 21 served inside Regular Class and activities 80% or more of the day | C22: total # of students aged 5 who are enrolled in kindergarten and aged 6 through 21 with IEPs | D22: Increase from the target
A23: Performance Factor 7: Early Childhood LRE | B23: Total # of children ages 3, 4, and 5 not in Kindergarten with entry and exit scores served at least 180 days | C23: Total # of children ages 3, 4, and 5 not in Kindergarten with entry and exit scores served at least 180 days | D23: Increase from the target
A24: Performance Factor 8: SWD Suspensions | B24: # of children with Out of School Suspension | C24: Total # of children on ages 3 - 21 with IEPs | D24: Decrease from the target
A25: Performance Factor 9: Career Readiness | B25: # of children are Career Readiness | C25: Total # of children 1. Is a CTE completer and earns a national or state industry credential as determined by the business community; or, 2. Earns a Silver, Gold or Platinum National Career Readiness Certificate on the state-approved career readiness assessment; or 3. Earns a scale score of 31 or higher on the ASVAB; or 4. Successfully completes a state-approved work-based learning program and 5. SC High School Employability Credential | D25: Increase from the target

Sheet Profile
A1: 2022-2023 Special Education Profile
A3: Dorchester 4
A4: =VLOOKUP(A3,Data!A:CN,2,FALSE) -> 500 Ridge Street
A5: =VLOOKUP(A3,Data!A:CN,3,FALSE) -> St. George | G5: =VLOOKUP(A3,Data!A:CN,4,FALSE) -> SC | I5: =VLOOKUP(A3,Data!A:CN,5,FALSE) -> 29477
A7: Indicators
A8: Indicator 1
A9: Indicator 1: Graduation
A10: Percent of youth with IEPs graduating with a high school diploma
A11: Target | B11: >= | C11: 0.6338 | D11: State | E11: 0.5555 | F11: Score | G11: =+VLOOKUP(A3,Data!A:CN,6,FALSE) -> 0.7619 | H11: Status | I11: =IF(OR(G11="NA",G11="**"),"NA",IF(G11<C11,"Not Met","Met")) -> Met
A12: Indicator 2
A13: Indicator 2: Dropout
A14: Percent of youth with IEPs dropping out of high school
A15: Target | B15: <= | C15: 0.2246 | D15: State | E15: 0.3149 | F15: Score | G15: =+VLOOKUP(A3,Data!A:CN,7,FALSE) -> 0.2381 | H15: Status | I15: =IF(OR(G15="NA",G15="**"),"NA",IF(G15>C15,"Not Met","Met")) -> Not Met
A16: Indicator 3
A17: Indicator 3A, ELA 4th Grade
A18: Participation rate of children with IEPs in a 4th grade setting for ELA
A19: Target | B19: >= | C19: 0.95 | D19: State | E19: 0.9916 | F19: Score | G19: =+VLOOKUP(A3,Data!A:CN,8,FALSE) -> 1 | H19: Status | I19: =IF(OR(G19="NA",G19="**"),"NA",IF(G19<C19,"Not Met","Met")) -> Met
A20: Indicator 3A, ELA 8th Grade
A21: Participation rate of children with IEPs in an 8th grade setting for ELA
A22: Target | B22: >= | C22: 0.95 | D22: State | E22: 0.973 | F22: Score | G22: =+VLOOKUP(A3,Data!A:CN,9,FALSE) -> 1 | H22: Status | I22: =IF(OR(G22="NA",G22="**"),"NA",IF(G22<C22,"Not Met","Met")) -> Met
A23: Indicator 3A, ELA HS
A24: Participation rate of children with IEPs in a High School setting for ELA
A25: Target | B25: >= | C25: 0.95 | D25: State | E25: 0.9485 | F25: Score | G25: =+VLOOKUP(A3,Data!A:CN,10,FALSE) -> 0.973 | H25: Status | I25: =IF(OR(G25="NA",G25="**"),"NA",IF(G25<C25,"Not Met","Met")) -> Met
A26: Indicator 3A, Math 4th Grade
A27: Participation rate of children with IEPs in a 4th grade setting for Math
A28: Target | B28: >= | C28: 0.95 | D28: State | E28: 0.9919 | F28: Score | G28: =+VLOOKUP(A3,Data!A:CN,11,FALSE) -> 1 | H28: Status | I28: =IF(OR(G28="NA",G28="**"),"NA",IF(G28<C28,"Not Met","Met")) -> Met
A29: Indicator 3A, Math 8th Grade
A30: Participation rate of children with IEPs in an 8th grade setting for Math
A31: Target | B31: >= | C31: 0.95 | D31: State | E31: 0.975 | F31: Score | G31: =+VLOOKUP(A3,Data!A:CN,12,FALSE) -> 0.96 | H31: Status | I31: =IF(OR(G31="NA",G31="**"),"NA",IF(G31<C31,"Not Met","Met")) -> Met
A32: Indicator 3A, HS Math
A33: Participation rate of children with IEPs in a High School setting for Math
A34: Target | B34: >= | C34: 0.95 | D34: State | E34: 0.9216 | F34: Score | G34: =+VLOOKUP(A3,Data!A:CN,13,FALSE) -> 0.9737 | H34: Status | I34: =IF(OR(G34="NA",G34="**"),"NA",IF(G34<C34,"Not Met","Met")) -> Met
A35: Indicator 3B, ELA 4th Grade
A36: Profiency rate of children with IEPs in a 4th grade setting against grade level academic standards for ELA
A37: Target | B37: >= | C37: 0.2091 | D37: State | E37: 0.2161 | F37: Score | G37: =+VLOOKUP(A3,Data!A:CN,14,FALSE) -> 0.0625 | H37: Status | I37: =IF(OR(G37="NA",G37="**"),"NA",IF(G37<C37,"Not Met","Met")) -> Not Met
A38: Indicator 3B, ELA 8th Grade
A39: Profiency rate of children with IEPs in an 8th grade setting against grade level academic standards for ELA
A40: Target | B40: >= | C40: 0.1154 | D40: State | E40: 0.126 | F40: Score | G40: =+VLOOKUP(A3,Data!A:CN,15,FALSE) -> 0 | H40: Status | I40: =IF(OR(G40="NA",G40="**"),"NA",IF(G40<C40,"Not Met","Met")) -> Not Met
A41: Indicator 3B, ELA HS
A42: Profiency rate of children with IEPs in a High School setting against grade level academic standards for ELA
...

Sheet Determination
A1: 2022-2023 Special Education Determination
A3: Dorchester 4
A4: =VLOOKUP(A3,Data!A:CN,2,FALSE) -> 500 Ridge Street
A5: =VLOOKUP(A3,Data!A:CN,3,FALSE) -> St. George | C5: =VLOOKUP(A3,Data!A:CN,4,FALSE) -> SC | D5: =VLOOKUP(A3,Data!A:CN,5,FALSE) -> 29477
A7: Compliance and Performance
A8: Compliance Scoring
A9: Compliance Factor 1 - Data
A10: Score | B10: =VLOOKUP(A3,Data!A:CN,55,FALSE) -> 2 | C10: =IF(B10=0,"2 or more consecutive years of findings of non-compliance (current year and previous year(s))", IF(B10=1,"Findings of non-compliance in the current year", IF(B10=2,"No findings of non-compliance",""))) -> No findings of non-compliance
A11: Compliance Factor 2 - Finance
A12: Score | B12: =VLOOKUP(A3,Data!A:CN,56,FALSE) -> 2 | C12: =IF(B12=0,"2 or more consecutive years of findings of non-compliance (current year and previous year(s))", IF(B12=1,"Findings of non-compliance in the current year", IF(B12=2,"No findings of non-compliance",""))) -> No findings of non-compliance
A13: Compliance Factor 3 - Post-Secondary Planning and Services (Indicator 13)
A14: Score | B14: =VLOOKUP(A3,Data!A:CN,57,FALSE) -> 1 | C14: =IF(B14=0,"2 or more consecutive years of findings of non-compliance (current year and previous year(s))", IF(B14=1,"Findings of non-compliance in the current year", IF(B14=2,"No findings of non-compliance",""))) -> Findings of non-compliance in the current year
A15: Compliance Factor 4 - Timely Corrections of Non-Compliance
A16: Score | B16: =VLOOKUP(A3,Data!A:CN,58,FALSE) -> 2 | C16: =IF(B16=0,"Findings not corrected within 2 years", IF(B16=1,"Findings not corrected within 1 year", IF(B16=2,"No findings/All finding timely corrected",""))) -> No findings/All finding timely corrected
A17: Compliance Factor 5 - 60 Day Timeline (Indicator 11)
A18: Score | B18: =VLOOKUP(A3,Data!A:CN,59,FALSE) -> 2 | C18: =IF(B18=0,"2 or more consecutive years of findings of non-compliance (current year and previous year(s))", IF(B18=1,"Findings of non-compliance in the current year", IF(B18=2,"No findings of non-compliance",""))) -> No findings of non-compliance
A19: Compliance Factor 6 - C to B Transition (Indicator 12)
A20: Score | B20: =VLOOKUP(A3,Data!A:CN,60,FALSE) -> 2 | C20: =IF(B20=0,"2 or more consecutive years of findings of non-compliance (current year and previous year(s))", IF(B20=1,"Findings of non-compliance in the current year", IF(B20=2,"No findings of non-compliance",""))) -> No findings of non-compliance
A21: Compliance Factor 7 - SWD Suspension Rate > 10 Days by Race/Ethnicity (Indicator 4b)
A22: Score | B22: =VLOOKUP(A3,Data!A:CN,61,FALSE) -> 2 | C22: =IF(B22=0,"2 or more consecutive years of findings of non-compliance (current year and previous year(s))", IF(B22=1,"Findings of non-compliance in the current year", IF(B22=2,"No findings of non-compliance",""))) -> No findings of non-compliance
A23: Compliance Factor 8 - Disproportionate Representation (Indicator 9)
A24: Score | B24: =VLOOKUP(A3,Data!A:CN,62,FALSE) -> 2 | C24: =IF(B24=0,"2 or more consecutive years of findings of non-compliance (current year and previous year(s))", IF(B24=1,"Findings of non-compliance in the current year", IF(B24=2,"No findings of non-compliance",""))) -> No findings of non-compliance
A25: Compliance Factor 9 - Disproportionate Representation by Race/Ethnicity (Indicator 10)
A26: Score | B26: =VLOOKUP(A3,Data!A:CN,63,FALSE) -> 2 | C26: =IF(B26=0,"2 or more consecutive years of findings of non-compliance (current year and previous year(s))", IF(B26=1,"Findings of non-compliance in the current year", IF(B26=2,"No findings of non-compliance",""))) -> No findings of non-compliance
A27: Total | B27: =SUM(B10,B12,B14,B16,B18,B20,B22,B24,B26) -> 17
A28: Performance Scoring
A29: Performance Factor 1 - Graduation Rate
A30: Score | B30: =VLOOKUP(A3,Data!A:CN,64,FALSE) -> 2 | C30: =IF(B30=0,"Does not meet prior year’s state performance and did not improve", IF(B30=1,"Does not meet prior year’s state performance but improved since last year", IF(B30=2,"Meets or exceeds current year’s state performance", IF(B30=3,"Meets or exceeds current state target","")))) -> Meets or exceeds current year’s state performance
B32: >= Target | C32: 0.7
B33: State | C33: 0.5617
B34: LEA 21-22 | C34: =VLOOKUP(A3,Data!A:CN,65,FALSE) -> 0.7619
B35: LEA 22-23 | C35: =VLOOKUP(A3,Data!A:CN,66,FALSE) -> 0.5926
A37: Performance Factor 2 - ELA 4th Grade
A38: Score | B38: =VLOOKUP(A3,Data!A:CN,67,FALSE) -> 0 | C38: =IF(B38=0,"Does not meet prior year’s state performance and did not improve", IF(AND(B38>0,B38<=0.5),"Does not meet prior year’s state performance but improved since last year", IF(AND(B38>0.5,B38<=1),"Meets or exceeds current year’s state performance", IF(AND(B38>1,B38<=1.5),"Meets or exceeds current state target","")))) -> Does not meet prior year’s state performance and did not improve
B40: >= Target | C40: 0.25
B41: State | C41: 0.2271
B42: LEA 21-22 | C42: =VLOOKUP(A3,Data!A:CN,68,FALSE) -> 0.0909
B43: LEA 22-23 | C43: =VLOOKUP(A3,Data!A:CN,69,FALSE) -> 0.0588
A45: Performance Factor 3 - ELA 8th Grade
A46: Score | B46: =VLOOKUP(A3,Data!A:CN,70,FALSE) -> 0 | C46: =IF(B46=0,"Does not meet prior year’s state performance and did not improve", IF(AND(B46>0,B46<=0.5),"Does not meet prior year’s state performance but improved since last year", IF(AND(B46>0.5,B46<=1),"Meets or exceeds current year’s state performance", IF(AND(B46>1,B46<=1.5),"Meets or exceeds current state target","")))) -> Does not meet prior year’s state performance and did not improve
...

Sheet Data
A1: Districts | B1: Primary Mailing Address | C1: Primary City | D1: Primary State | E1: Primary Zip | F1: Indicator 1 | G1: Indicator 2 | H1: Indicator 3A - ELA 4GR | I1: Indicator 3A - ELA 8GR | J1: Indicator 3A - ELA HS | K1: Indicator 3A - Math 4GR | L1: Indicator 3A - Math 8GR | M1: Indicator 3A - Math HS | N1: Indicator 3B - ELA 4GR | O1: Indicator 3B - ELA 8GR | P1: Indicator 3B - ELA HS | Q1: Indicator 3B - Math 4GR | R1: Indicator 3B - Math 8GR | S1: Indicator 3B - Math HS | T1: Indicator 3C - ELA 4GR | U1: Indicator 3C - ELA 8GR | V1: Indicator 3C - ELA HS | W1: Indicator 3C - Math 4GR | X1: Indicator 3C - Math 8GR | Y1: Indicator 3C - Math HS | Z1: Indicator 3D - ELA 4GR | AA1: Indicator 3D - ELA 8GR | AB1: Indicator 3D - ELA HS | AC1: Indicator 3D - Math 4GR | AD1: Indicator 3D - Math 8GR | AE1: Indicator 3D - Math HS | AF1: Indicator 4A | AG1: Indicator 4B | AH1: Indicator 5A | AI1: Indicator 5B | AJ1: Indicator 5C | AK1: Indicator 6A | AL1: Indicator 6B | AM1: Indicator 6C | AN1: Indicator 7 A1 | AO1: Indicator 7 A2 | AP1: Indicator 7 B1 | AQ1: Indicator 7 B2 | AR1: Indicator 7 C1 | AS1: Indicator 7 C2 | AT1: Indicator 8 | AU1: Indicator 9 | AV1: Indicator 10 | AW1: Indicator 11 | AX1: Indicator 12 | AY1: Indicator 13 | AZ1: Indicator 14 A | BA1: Indicator 14 B | BB1: Indicator 14 C | BC1: CF1 | BD1: CF2 | BE1: CF3 | BF1: CF4 | BG1: CF5 | BH1: CF6 | BI1: CF7 | BJ1: CF8 | BK1: CF9 | BL1: PF1 | BM1: PF1 21-22 | BN1: PF1 22-23 | BO1: PF2 | BP1: PF2 21-22 | BQ1: PF2 22-23 | BR1: PF3 | BS1: PF3 21-22 | BT1: PF3 22-23 | BU1: PF4 | BV1: PF4 21-22 | BW1: PF4 22-23 | BX1: PF5 | BY1: PF5 21-22 | BZ1: PF5 22-23 | CA1: PF6 | CB1: PF6 21-22 | CC1: PF6 22-23 | CD1: PF7 | CE1: PF7 21-22 | CF1: PF7 22-23 | CG1: PF8 | CH1: PF8 21-22 | CI1: PF8 22-23 | CJ1: PF9 | CK1: PF9 7 21-22 | CL1: PF9 22-23 | CM1: Opt-In Bonus | CN1: Total Possible Score | CO1: Determinations
A2: aaaTarget | B2: 1919 Blanding St | C2: Columbia | D2: SC | E2: 29201 | F2: 0.6338 | G2: 0.2246 | H2: 0.95 | I2: 0.95 | J2: 0.95 | K2: 0.95 | L2: 0.95 | M2: 0.95 | N2: 0.2091 | O2: 0.1154 | P2: 0.4581 | Q2: 0.1978 | R2: 0.0778 | S2: 0.2657 | T2: 0.5546 | U2: 0.3826 | V2: 0.4953 | W2: 0.437 | X2: 0.3898 | Y2: 0.4016 | Z2: 0.2753 | AA2: 0.3281 | AB2: 0.3568 | AC2: 0.2326 | AD2: 0.2377 | AE2: 0.2468 | AF2: Yes | AG2: No | AH2: 0.6418 | AI2: 0.1406 | AJ2: 0.0117 | AK2: 0.3488 | AL2: 0.3085 | AM2: 0.0345 | AN2: 0.8698 | AO2: 0.6005 | AP2: 0.8595 | AQ2: 0.582 | AR2: 0.8914 | AS2: 0.746 | AT2: 0.86 | AU2: No | AV2: No | AW2: 1 | AX2: 1 | AY2: 1 | AZ2: 0.1156 | BA2: 0.4239 | BB2: 0.8546 | BC2: 2 | BD2: 2 | BE2: 2 | BF2: 2 | BG2: 2 | BH2: 2 | BI2: 2 | BJ2: 2 | BK2: 1 | BL2: 3 | BM2: NA | BN2: NA | BO2: 3 | BP2: NA | BQ2: NA | BR2: 3 | BS2: NA | BT2: NA | BU2: 3 | BV2: NA | BW2: NA | BX2: NA | BY2: NA | BZ2: NA | CA2: 3 | CB2: NA | CC2: NA | CD2: 3 | CE2: NA | CF2: NA | CG2: NA | CH2: NA | CI2: NA | CJ2: 3 | CK2: NA | CL2: NA | CM2: NA | CN2: 40 | CO2: NA
A3: aaState | B3: 1919 Blanding St | C3: Columbia | D3: SC | E3: 29201 | F3: 0.5555 | G3: 0.3149 | H3: 0.9916 | I3: 0.973 | J3: 0.9485 | K3: 0.9919 | L3: 0.975 | M3: 0.9216 | N3: 0.2161 | O3: 0.126 | P3: 0.4848 | Q3: 0.1831 | R3: 0.0519 | S3: 0.3264 | T3: 0.4135 | U3: 0.3256 | V3: 0.4159 | W3: 0.3657 | X3: 0.3803 | Y3: 0.3454 | Z3: 0.3552 | AA3: 0.4048 | AB3: 0.3606 | AC3: 0.2868 | AD3: 0.2643 | AE3: 0.2782 | AF3: Yes | AG3: Yes | AH3: 0.6404 | AI3: 0.1517 | AJ3: 0.0141 | AK3: 0.3218 | AL3: 0.4605 | AM3: 0.0104 | AN3: 0.8635 | AO3: 0.4642 | AP3: 0.847 | AQ3: 0.4967 | AR3: 0.8484 | AS3: 0.6007 | AT3: 0.9779 | AU3: No | AV3: Yes | AW3: 0.9938 | AX3: 0.9933 | AY3: 0.8119 | AZ3: 0.2096 | BA3: 0.68 | BB3: 0.7579 | BC3: 2 | BD3: 2 | BE3: 1 | BF3: 2 | BG3: 1 | BH3: 1 | BI3: 1 | BJ3: 2 | BK3: 1 | BL3: 2 | BM3: 0.5555 | BN3: 0.5617 | BO3: 1 | BP3: 0.1931 | BQ3: 0.2271 | BR3: 1 | BS3: 0.0961 | BT3: 0.1392 | BU3: 1 | BV3: 0.1836 | BW3: 0.1934 | BX3: 1 | BY3: 0.0656 | BZ3: 0.074 | CA3: 2 | CB3: 0.6407 | CC3: 0.6404 | CD3: 3 | CE3: 1 | CF3: 1 | CG3: 2 | CH3: 0.156 | CI3: 0.1722 | CJ3: 2 | CK3: 0.296 | CL3: 0.303 | CM3: 1 | CN3: 40 | CO3: Needs Assistance
A4: Abbeville | B4: 400 Greenville St | C4: Abbeville | D4: SC | E4: 29620 | F4: 0.7083 | G4: 0.2917 | H4: 1 | I4: 1 | J4: 1 | K4: 1 | L4: 1 | M4: 0.9667 | N4: 0.2941 | O4: 0.2 | P4: 0.5455 | Q4: 0.2286 | R4: 0.25 | S4: 0.75 | T4: 1 | U4: 0.6667 | V4: 0.5 | W4: 0 | X4: 0.3333 | Y4: 0.4 | Z4: 0.3298 | AA4: 0.3701 | AB4: 0.3424 | AC4: 0.3265 | AD4: 0.2313 | AE4: -0.0304 | AF4: No | AG4: No | AH4: 0.619 | AI4: 0.084 | AJ4: 0.0056 | AK4: 0.3889 | AL4: 0.3333 | AM4: 0 | AN4: 1 | AO4: 0.4545 | AP4: 1 | AQ4: 0.1818 | AR4: 1 | AS4: 0.4545 | AT4: 1 | AU4: No | AV4: No | AW4: 1 | AX4: 0.9091 | AY4: 1 | AZ4: 0.2667 | BA4: 0.5333 | BB4: 0.6 | BC4: 2 | BD4: 2 | BE4: 2 | BF4: 2 | BG4: 2 | BH4: 1 | BI4: 2 | BJ4: 2 | BK4: 2 | BL4: 3 | BM4: 0.7083 | BN4: 0.76 | BO4: 1.5 | BP4: 0.4242 | BQ4: 0.3143 | BR4: 1.5 | BS4: 0.0769 | BT4: 0.2609 | BU4: 1.5 | BV4: 0.3636 | BW4: 0.2222 | BX4: 1.5 | BY4: 0.2692 | BZ4: 0.2609 | CA4: 0 | CB4: 0.6483 | CC4: 0.619 | CD4: 3 | CE4: 1 | CF4: 1 | CG4: 2 | CH4: 0.1392 | CI4: 0.128 | CJ4: 2 | CK4: 0.238 | CL4: 0.346 | CM4: 1 | CN4: 40 | CO4: Meets Requirement
A5: Aiken | B5: 1000 Brookhaven Drive | C5: Aiken | D5: SC | E5: 29803 | F5: 0.0952 | G5: 0.8651 | H5: 1 | I5: 0.9644 | J5: 0.8905 | K5: 1 | L5: 0.9689 | M5: 0.7843 | N5: 0.1295 | O5: 0.0891 | P5: 0.4624 | Q5: 0.1244 | R5: 0.0246 | S5: 0.1892 | T5: 0.3182 | U5: 0.1333 | V5: 0.3571 | W5: 0.3182 | X5: 0.3333 | Y5: 0.2222 | Z5: 0.4082 | AA5: 0.4115 | AB5: 0.4011 | AC5: 0.2824 | AD5: 0.2232 | AE5: 0.3273 | AF5: No | AG5: No | AH5: 0.67 | AI5: 0.1237 | AJ5: 0.0106 | AK5: 0.405 | AL5: 0.438 | AM5: 0 | AN5: 0.7531 | AO5: 0.4333 | AP5: 0.6951 | AQ5: 0.3889 | AR5: 0.7647 | AS5: 0.5667 | AT5: 0.913 | AU5: No | AV5: No | AW5: 0.9978 | AX5: 1 | AY5: 1 | AZ5: 0.1772 | BA5: 0.6835 | BB5: 0.7595 | BC5: 2 | BD5: 2 | BE5: 2 | BF5: 2 | BG5: 1 | BH5: 2 | BI5: 2 | BJ5: 2 | BK5: 2 | BL5: 1 | BM5: 0.0952 | BN5: 0.3651 | BO5: 0.5 | BP5: 0.125 | BQ5: 0.1488 | BR5: 0.5 | BS5: 0.0714 | BT5: 0.0922 | BU5: 0.5 | BV5: 0.1364 | BW5: 0.1442 | BX5: 0 | BY5: 0.0586 | BZ5: 0.0459 | CA5: 2 | CB5: 0.6919 | CC5: 0.67 | CD5: 3 | CE5: 1 | CF5: 1 | CG5: 3 | CH5: 0.1224 | CI5: 0.0799 | CJ5: 1 | CK5: 0.252 | CL5: 0.261 | CM5: 1 | CN5: 40 | CO5: Needs Assistance
A6: Allendale | B6: P.O. Box 458 | C6: Allendale | D6: SC | E6: 29810 | F6: 0.2 | G6: 0.6 | H6: 1 | I6: 1 | J6: 0.9 | K6: 1 | L6: 1 | M6: 1 | N6: 0 | O6: 0.25 | P6: 0.1111 | Q6: 0 | R6: 0 | S6: 0.4444 | T6: 0 | U6: 0 | V6: 0 | W6: 0 | X6: 0 | Y6: 0 | Z6: 0.3485 | AA6: 0.121 | AB6: 0.5272 | AC6: 0.3182 | AD6: 0.129 | AE6: 0.0084 | AF6: No | AG6: No | AH6: 0.6136 | AI6: 0.0227 | AJ6: 0 | AK6: 0.4286 | AL6: 0 | AM6: 0 | AN6: 0.75 | AO6: 0.5 | AP6: 0.75 | AQ6: 0.5 | AR6: 1 | AS6: 1 | AT6: NA | AU6: No | AV6: No | AW6: 1 | AX6: 1 | AY6: 1 | AZ6: 0 | BA6: 1 | BB6: 1 | BC6: 2 | BD6: 2 | BE6: 2 | BF6: 2 | BG6: 2 | BH6: 2 | BI6: 2 | BJ6: 2 | BK6: 2 | BL6: 2 | BM6: 0.2 | BN6: 0.6364 | BO6: 0 | BP6: 0 | BQ6: 0 | BR6: 1.5 | BS6: 0.1667 | BT6: 0.25 | BU6: 0 | BV6: 0 | BW6: 0 | BX6: 0 | BY6: 0 | BZ6: 0 | CA6: 0 | CB6: 0.6632 | CC6: 0.6136 | CD6: 3 | CE6: 1 | CF6: 1 | CG6: 0 | CH6: 0.29 | CI6: 0.3579 | CJ6: 1 | CK6: 0.2 | CL6: 0.273 | CM6: 1 | CN6: 40 | CO6: Needs Assistance
A7: Anderson 1 | B7: P.O. Box 99 | C7: Williamston | D7: SC | E7: 29697 | F7: 0.6559 | G7: 0.1183 | H7: 0.9744 | I7: 1 | J7: 0.9832 | K7: 0.9744 | L7: 1 | M7: 0.9746 | N7: 0.4173 | O7: 0.2403 | P7: 0.6364 | Q7: 0.3885 | R7: 0.124 | S7: 0.3333 | T7: 0.4615 | U7: 0.5 | V7: 0.4286 | W7: 0.3077 | X7: 0.3333 | Y7: 0.5714 | Z7: 0.3456 | AA7: 0.4426 | AB7: 0.2679 | AC7: 0.3201 | AD7: 0.3667 | AE7: 0.3327 | AF7: No | AG7: No | AH7: 0.6885 | AI7: 0.2106 | AJ7: 0.0112 | AK7: 0.3117 | AL7: 0.6883 | AM7: 0 | AN7: 0.9444 | AO7: 0.4211 | AP7: 0.9355 | AQ7: 0.4211 | AR7: 0.7308 | AS7: 0.6053 | AT7: 0.9362 | AU7: No | AV7: No | AW7: 1 | AX7: 1 | AY7: 1 | AZ7: 0.3529 | BA7: 0.7059 | BB7: 0.8235 | BC7: 2 | BD7: 2 | BE7: 2 | BF7: 2 | BG7: 2 | BH7: 2 | BI7: 2 | BJ7: 2 | BK7: 2 | BL7: 3 | BM7: 0.6559 | BN7: 0.7011 | BO7: 1.5 | BP7: 0.3403 | BQ7: 0.4211 | BR7: 1.5 | BS7: 0.1385 | BT7: 0.2624 | BU7: 1.5 | BV7: 0.3958 | BW7: 0.3816 | BX7: 1.5 | BY7: 0.1308 | BZ7: 0.1418 | CA7: 2 | CB7: 0.6969 | CC7: 0.6885 | CD7: 3 | CE7: 1 | CF7: 1 | CG7: 2 | CH7: 0.0867 | CI7: 0.104 | CJ7: 3 | CK7: 0.529 | CL7: 0.447 | CM7: 0 | CN7: 40 | CO7: Meets Requirement
A8: Anderson 2 | B8: 10990 Belton-Honea Path Highway | C8: Honea Path | D8: SC | E8: 29654 | F8: 0.5909 | G8: 0.4091 | H8: 1 | I8: 0.9737 | J8: 0.9487 | K8: 1 | L8: 0.9737 | M8: 0.9677 | N8: 0.3585 | O8: 0.25 | P8: 0.4848 | Q8: 0.3585 | R8: 0.0938 | S8: 0.5714 | T8: 0 | U8: 0.4 | V8: 0.75 | W8: 0 | X8: 1 | Y8: 1 | Z8: 0.296 | AA8: 0.3763 | AB8: 0.4159 | AC8: 0.2497 | AD8: 0.2093 | AE8: 0.1999 | AF8: No | AG8: No | AH8: 0.7735 | AI8: 0.1097 | AJ8: 0.0071 | AK8: 0.2222 | AL8: 0.7222 | AM8: 0 | AN8: 0.9545 | AO8: 0.5833 | AP8: 0.95 | AQ8: 0.6667 | AR8: 1 | AS8: 0.8333 | AT8: 1 | AU8: No | AV8: No | AW8: 0.9896 | AX8: 0.8889 | AY8: 0.6429 | AZ8: 0.1667 | BA8: 0.8333 | BB8: 0.9444 | BC8: 2 | BD8: 2 | BE8: 1 | BF8: 2 | BG8: 1 | BH8: 1 | BI8: 2 | BJ8: 2 | BK8: 2 | BL8: 2 | BM8: 0.5909 | BN8: 0.6563 | BO8: 1.5 | BP8: 0.3871 | BQ8: 0.3393 | BR8: 1.5 | BS8: 0.1212 | BT8: 0.2703 | BU8: 1.5 | BV8: 0.3226 | BW8: 0.3393 | BX8: 1.5 | BY8: 0.1515 | BZ8: 0.2162 | CA8: 3 | CB8: 0.7768 | CC8: 0.7735 | CD8: 3 | CE8: 1 | CF8: 1 | CG8: 2 | CH8: 0.1281 | CI8: 0.1544 | CJ8: 3 | CK8: 0.385 | CL8: 0.39 | CM8: 1 | CN8: 40 | CO8: Meets Requirement
A9: Anderson 3 | B9: P.O. Box 118 | C9: Iva | D9: SC | E9: 29655 | F9: 0.5385 | G9: 0.1538 | H9: 1 | I9: 1 | J9: 1 | K9: 1 | L9: 1 | M9: 1 | N9: 0.2222 | O9: 0.069 | P9: 0.5 | Q9: 0.3333 | R9: 0 | S9: 0.3103 | T9: 0 | U9: 0.3333 | V9: 0.5 | W9: 0 | X9: 0 | Y9: 0 | Z9: 0.5083 | AA9: 0.51 | AB9: 0.3732 | AC9: 0.3506 | AD9: 0.3421 | AE9: 0.3378 | AF9: No | AG9: No | AH9: 0.713 | AI9: 0.2348 | AJ9: 0.0029 | AK9: 0.5 | AL9: 0.25 | AM9: 0.25 | AN9: 0.875 | AO9: 0.7 | AP9: 0.5556 | AQ9: 0.6 | AR9: 0.8333 | AS9: 0.8 | AT9: 1 | AU9: No | AV9: No | AW9: 0.9878 | AX9: 1 | AY9: 1 | AZ9: 0.1667 | BA9: 0.3333 | BB9: 0.3333 | BC9: 2 | BD9: 2 | BE9: 2 | BF9: 2 | BG9: 1 | BH9: 2 | BI9: 2 | BJ9: 2 | BK9: 2 | BL9: 2 | BM9: 0.5385 | BN9: 0.6667 | BO9: 0 | BP9: 0.3448 | BQ9: 0.2222 | BR9: 0 | BS9: 0.0938 | BT9: 0.0938 | BU9: 1.5 | BV9: 0.3448 | BW9: 0.3333 | BX9: 0 | BY9: 0.0938 | BZ9: 0 | CA9: 3 | CB9: 0.719 | CC9: 0.713 | CD9: 3 | CE9: 1 | CF9: 1 | CG9: 2 | CH9: 0.1568 | CI9: 0.1425 | CJ9: 0 | CK9: 0.5 | CL9: 0.28 | CM9: 1 | CN9: 40 | CO9: Needs Assistance
A10: Anderson 4 | B10: P.O. Box 545 | C10: Pendleton | D10: SC | E10: 29670 | F10: 0.6364 | G10: 0.303 | H10: 1 | I10: 1 | J10: 1 | K10: 1 | L10: 1 | M10: 0.9474 | N10: 0.3778 | O10: 0.2353 | P10: 0.7 | Q10: 0.3333 | R10: 0.1765 | S10: 0.6875 | T10: 0.875 | U10: 0.75 | V10: 0 | W10: 0.875 | X10: 0.75 | Y10: 1 | Z10: 0.3604 | AA10: 0.4197 | AB10: 0.2395 | AC10: 0.2933 | AD10: 0.2709 | AE10: 0.1634 | AF10: No | AG10: No | AH10: 0.7751 | AI10: 0.1359 | AJ10: 0.0067 | AK10: 0.2759 | AL10: 0.3448 | AM10: 0.069 | AN10: 0.9 | AO10: 0.6923 | AP10: 0.8125 | AQ10: 0.6538 | AR10: 0.8824 | AS10: 0.7692 | AT10: 1 | AU10: No | AV10: No | AW10: 1 | AX10: 1 | AY10: 1 | AZ10: 0.25 | BA10: 0.75 | BB10: 0.875 | BC10: 2 | BD10: 2 | BE10: 2 | BF10: 2 | BG10: 2 | BH10: 2 | BI10: 2 | BJ10: 2 | BK10: 2 | BL10: 2 | BM10: 0.6364 | BN10: 0.6087 | BO10: 1.5 | BP10: 0.2647 | BQ10: 0.4528 | BR10: 1.5 | BS10: 0.1071 | BT10: 0.2895 | BU10: 1.5 | BV10: 0.2059 | BW10: 0.4151 | BX10: 1.5 | BY10: 0.0357 | BZ10: 0.2368 | CA10: 3 | CB10: 0.7571 | CC10: 0.7751 | CD10: 3 | CE10: 1 | CF10: 1 | CG10: 3 | CH10: 0.0475 | CI10: 0.0565 | CJ10: 0 | CK10: 0.323 | CL10: 0.16 | CM10: 0 | CN10: 40 | CO10: Meets Requirement
A11: Anderson 5 | B11: 400 Pearman Dairy Road | C11: Anderson | D11: SC | E11: 29625 | F11: 0.4554 | G11: 0.375 | H11: 0.9834 | I11: 0.9412 | J11: 0.9746 | K11: 0.9834 | L11: 0.9412 | M11: 0.9833 | N11: 0.2455 | O11: 0.1017 | P11: 0.4775 | Q11: 0.1976 | R11: 0.0424 | S11: 0.3894 | T11: 0.1818 | U11: 0.3 | V11: 0.5 | W11: 0.5455 | X11: 0.6 | Y11: 0.4 | Z11: 0.3452 | AA11: 0.4848 | AB11: 0.3393 | AC11: 0.288 | AD11: 0.3616 | AE11: 0.256 | AF11: No | AG11: No | AH11: 0.7111 | AI11: 0.1801 | AJ11: 0.0052 | AK11: 0.2979 | AL11: 0.6383 | AM11: 0 | AN11: 0.8913 | AO11: 0.6308 | AP11: 0.8679 | AQ11: 0.5846 | AR11: 0.8333 | AS11: 0.6615 | AT11: 0.9286 | AU11: No | AV11: No | AW11: 0.9966 | AX11: 1 | AY11: 1 | AZ11: 0.1538 | BA11: 0.6154 | BB11: 0.6923 | BC11: 2 | BD11: 2 | BE11: 2 | BF11: 2 | BG11: 1 | BH11: 2 | BI11: 2 | BJ11: 2 | BK11: 2 | BL11: 1 | BM11: 0.4554 | BN11: 0.4587 | BO11: 1 | BP11: 0.2444 | BQ11: 0.2416 | BR11: 0.5 | BS11: 0.0696 | BT11: 0.1172 | BU11: 1 | BV11: 0.2111 | BW11: 0.2191 | BX11: 1 | BY11: 0.0696 | BZ11: 0.0859 | CA11: 3 | CB11: 0.7124 | CC11: 0.7111 | CD11: 3 | CE11: 1 | CF11: 1 | CG11: 2 | CH11: 0.146 | CI11: 0.134 | CJ11: 1 | CK11: 0.232 | CL11: 0.279 | CM11: 1 | CN11: 40 | CO11: Meets Requirement
A12: Bamberg | B12: 62 S Holly Avenue | C12: Denmark | D12: SC | E12: 29042 | F12: 0.4444 | G12: 0.1667 | H12: 1 | I12: 0.9286 | J12: 0.9091 | K12: 1 | L12: 1 | M12: 0.8636 | N12: 0.0588 | O12: 0 | P12: 0.1053 | Q12: 0.0588 | R12: 0 | S12: 0.1111 | T12: 0.3333 | U12: 0 | V12: 0 | W12: 0 | X12: 0 | Y12: 0 | Z12: 0.3305 | AA12: 0.4242 | AB12: 0.609 | AC12: 0.216 | AD12: 0.3358 | AE12: 0.6086 | AF12: No | AG12: No | AH12: 0.5437 | AI12: 0.0777 | AJ12: 0.0097 | AK12: 0 | AL12: 0.6667 | AM12: 0.1667 | AN12: 1 | AO12: 1 | AP12: 1 | AQ12: 1 | AR12: 1 | AS12: 1 | AT12: 1 | AU12: No | AV12: No | AW12: 1 | AX12: 1 | AY12: 1 | AZ12: 0.0667 | BA12: 0.5333 | BB12: 0.6 | BC12: 2 | BD12: 2 | BE12: 2 | BF12: 2 | BG12: 2 | BH12: 2 | BI12: 2 | BJ12: 2 | BK12: 2 | BL12: 1 | BM12: 0.4444 | BN12: 0.5455 | BO12: 0.5 | BP12: NA | BQ12: 0.1 | BR12: 0 | BS12: NA | BT12: 0 | BU12: 0.5 | BV12: NA | BW12: 0.05 | BX12: 0 | BY12: NA | BZ12: 0 | CA12: 0 | CB12: 0.5494 | CC12: 0.5437 | CD12: 3 | CE12: 1 | CF12: 1 | CG12: 2 | CH12: 0.1646 | CI12: 0.1698 | CJ12: 1 | CK12: 0.1665 | CL12: 0.176 | CM12: 1 | CN12: 40 | CO12: Needs Assistance
A13: Barnwell 45 | B13: 770 Hagood Avenue | C13: Barnwell | D13: SC | E13: 29812 | F13: 0.6875 | G13: 0.1875 | H13: 1 | I13: 0.6452 | J13: 0.95 | K13: 1 | L13: 0.7419 | M13: 1 | N13: 0.1 | O13: 0.2105 | P13: 0.2632 | Q13: 0.35 | R13: 0.0526 | S13: 0.1765 | T13: 0 | U13: 1 | V13: 0 | W13: 0 | X13: 0.25 | Y13: 0 | Z13: 0.2778 | AA13: 0.2895 | AB13: 0.4436 | AC13: 0.0352 | AD13: 0.1858 | AE13: 0.4511 | AF13: No | AG13: No | AH13: 0.67 | AI13: 0.23 | AJ13: 0 | AK13: 0.7333 | AL13: 0.2 | AM13: 0 | AN13: 1 | AO13: 0.4167 | AP13: 1 | AQ13: 0.4167 | AR13: 1 | AS13: 0.4167 | AT13: 1 | AU13: No | AV13: No | AW13: 1 | AX13: 1 | AY13: 1 | AZ13: 0.0952 | BA13: 0.619 | BB13: 0.619 | BC13: 2 | BD13: 2 | BE13: 2 | BF13: 2 | BG13: 2 | BH13: 2 | BI13: 2 | BJ13: 2 | BK13: 2 | BL13: 0 | BM13: 0.6875 | BN13: 0.5 | BO13: 0 | BP13: 0.1351 | BQ13: 0.0909 | BR13: 1.5 | BS13: 0.2308 | BT13: 0.25 | BU13: 1.5 | BV13: 0.1892 | BW13: 0.3182 | BX13: 1 | BY13: 0.087 | BZ13: 0.087 | CA13: 2 | CB13: 0.6364 | CC13: 0.67 | CD13: 3 | CE13: 1 | CF13: 1 | CG13: 0 | CH13: 0.1508 | CI13: 0.1841 | CJ13: 2 | CK13: 0.276 | CL13: 0.333 | CM13: 1 | CN13: 40 | CO13: Needs Assistance
A14: Barnwell 48 | B14: 12255 Main Street | C14: Williston | D14: SC | E14: 29853 | F14: 0.4 | G14: 0.6 | H14: 1 | I14: 1 | J14: 1 | K14: 1 | L14: 1 | M14: 1 | N14: 0.1667 | O14: 0 | P14: 0.2143 | Q14: 0 | R14: 0.0667 | S14: 0.2083 | T14: 0 | U14: 0 | V14: 0 | W14: 0 | X14: 0 | Y14: 0 | Z14: 0.2471 | AA14: 0.3535 | AB14: 0.5457 | AC14: 0.3563 | AD14: 0.1253 | AE14: 0.0893 | AF14: No | AG14: No | AH14: 0.8 | AI14: 0.0941 | AJ14: 0.0176 | AK14: 0.75 | AL14: 0.25 | AM14: 0 | AN14: 0.6667 | AO14: 0.7143 | AP14: 0.5 | AQ14: 0.5714 | AR14: 0.8 | AS14: 0.5714 | AT14: NA | AU14: No | AV14: No | AW14: 1 | AX14: 1 | AY14: 1 | AZ14: 0 | BA14: 0.25 | BB14: 0.75 | BC14: 2 | BD14: 2 | BE14: 2 | BF14: 2 | BG14: 2 | BH14: 2 | BI14: 2 | BJ14: 2 | BK14: 2 | BL14: 2 | BM14: 0.4 | BN14: 0.5714 | BO14: 0.5 | BP14: NA | BQ14: 0.1667 | BR14: 0 | BS14: NA | BT14: 0 | BU14: 0 | BV14: NA | BW14: 0 | BX14: 0.5 | BY14: NA | BZ14: 0.0667 | CA14: 3 | CB14: 0.8428 | CC14: 0.8 | CD14: 3 | CE14: 1 | CF14: 1 | CG14: 1 | CH14: 0.2683 | CI14: 0.2416 | CJ14: 3 | CK14: 0.6 | CL14: 0.353 | CM14: 1 | CN14: 40 | CO14: Meets Requirement
A15: Beaufort | B15: P.O. Drawer 309 | C15: Beaufort | D15: SC | E15: 29901 | F15: 0.7522 | G15: 0.1504 | H15: 0.9906 | I15: 0.9648 | J15: 0.9362 | K15: 0.9906 | L15: 0.9849 | M15: 0.9368 | N15: 0.1465 | O15: 0.0862 | P15: 0.5 | Q15: 0.1313 | R15: 0.0227 | S15: 0.2867 | T15: 0.5 | U15: 0.3889 | V15: 0.5 | W15: 0.5833 | X15: 0.35 | Y15: 0.35 | Z15: 0.4098 | AA15: 0.4215 | AB15: 0.3613 | AC15: 0.3363 | AD15: 0.2605 | AE15: 0.3759 | AF15: No | AG15: No | AH15: 0.621 | AI15: 0.1741 | AJ15: 0.0063 | AK15: 0.3286 | AL15: 0.5143 | AM15: 0 | AN15: 0.8585 | AO15: 0.5362 | AP15: 0.8627 | AQ15: 0.5915 | AR15: 0.8231 | AS15: 0.7489 | AT15: 1 | AU15: No | AV15: No | AW15: 1 | AX15: 1 | AY15: 1 | AZ15: 0.2692 | BA15: 0.7308 | BB15: 0.8654 | BC15: 2 | BD15: 2 | BE15: 2 | BF15: 2 | BG15: 2 | BH15: 2 | BI15: 2 | BJ15: 2 | BK15: 2 | BL15: 2 | BM15: 0.7522 | BN15: 0.6491 | BO15: 0 | BP15: 0.21 | BQ15: 0.1667 | BR15: 0.5 | BS15: 0.1077 | BT15: 0.1146 | BU15: 0 | BV15: 0.2443 | BW15: 0.1571 | BX15: 0 | BY15: 0.0872 | BZ15: 0.0561 | CA15: 0 | CB15: 0.6378 | CC15: 0.621 | CD15: 3 | CE15: 1 | CF15: 1 | CG15: 2 | CH15: 0.1603 | CI15: 0.1346 | CJ15: 3 | CK15: 0.395 | CL15: 0.396 | CM15: 1 | CN15: 40 | CO15: Needs Assistance
A16: Berkeley | B16: P.O. Box 608 | C16: Monks Corner | D16: SC | E16: 29461 | F16: 0.5348 | G16: 0.2184 | H16: 0.9957 | I16: 0.9794 | J16: 0.9687 | K16: 0.9914 | L16: 0.9748 | M16: 0.9495 | N16: 0.1694 | O16: 0.1276 | P16: 0.5372 | Q16: 0.1166 | R16: 0.0256 | S16: 0.2857 | T16: 0.4412 | U16: 0.3714 | V16: 0.5484 | W16: 0.3824 | X16: 0.2857 | Y16: 0.3871 | Z16: 0.37 | AA16: 0.3671 | AB16: 0.3054 | AC16: 0.2626 | AD16: 0.1889 | AE16: 0.2372 | AF16: No | AG16: No | AH16: 0.4987 | AI16: 0.1706 | AJ16: 0.0071 | AK16: 0.1579 | AL16: 0.7416 | AM16: 0.0024 | AN16: 0.95 | AO16: 0.4488 | AP16: 0.9459 | AQ16: 0.4921 | AR16: 0.9461 | AS16: 0.5945 | AT16: 0.973 | AU16: No | AV16: No | AW16: 0.9964 | AX16: 1 | AY16: 1 | AZ16: 0.1769 | BA16: 0.6308 | BB16: 0.7154 | BC16: 2 | BD16: 2 | BE16: 2 | BF16: 2 | BG16: 1 | BH16: 2 | BI16: 2 | BJ16: 2 | BK16: 2 | BL16: 2 | BM16: 0.5348 | BN16: 0.5749 | BO16: 0.5 | BP16: 0.1655 | BQ16: 0.1892 | BR16: 1 | BS16: 0.133 | BT16: 0.1475 | BU16: 0 | BV16: 0.1362 | BW16: 0.1361 | BX16: 0 | BY16: 0.0718 | BZ16: 0.0471 | CA16: 1 | CB16: 0.4726 | CC16: 0.4987 | CD16: 3 | CE16: 1 | CF16: 1 | CG16: 2 | CH16: 0.163 | CI16: 0.163 | CJ16: 0 | CK16: 0.137 | CL16: 0.123 | CM16: 0 | CN16: 40 | CO16: Needs Assistance
A17: Calhoun | B17: P.O. Box 215 | C17: St. Matthews | D17: SC | E17: 29135 | F17: 0.6667 | G17: 0 | H17: 1 | I17: 1 | J17: 1 | K17: 1 | L17: 1 | M17: 0.9091 | N17: 0.1667 | O17: 0 | P17: 0.2632 | Q17: 0 | R17: 0 | S17: 0.15 | T17: 0 | U17: 0.5 | V17: 0 | W17: 0 | X17: 1 | Y17: 0 | Z17: 0.3091 | AA17: 0.3659 | AB17: 0.4067 | AC17: 0.2816 | AD17: 0.2439 | AE17: 0.5106 | AF17: No | AG17: Yes | AH17: 0.3827 | AI17: 0.2593 | AJ17: 0.0123 | AK17: 0.6 | AL17: 0.1 | AM17: 0 | AN17: 1 | AO17: 0.8 | AP17: 0.8 | AQ17: 0.7 | AR17: 0.6667 | AS17: 0.8 | AT17: 0.5 | AU17: No | AV17: No | AW17: 1 | AX17: 1 | AY17: 1 | AZ17: 0 | BA17: 0.6667 | BB17: 0.6667 | BC17: 2 | BD17: 2 | BE17: 2 | BF17: 2 | BG17: 2 | BH17: 2 | BI17: 1 | BJ17: 2 | BK17: 2 | BL17: 0 | BM17: 0.6667 | BN17: 0.3 | BO17: 0.5 | BP17: 0.0833 | BQ17: 0.1579 | BR17: 0.5 | BS17: 0.0455 | BT17: 0.0476 | BU17: 0 | BV17: 0.0417 | BW17: 0 | BX17: 1 | BY17: 0.0909 | BZ17: 0.0952 | CA17: 0 | CB17: 0.4043 | CC17: 0.3827 | CD17: 3 | CE17: 1 | CF17: 1 | CG17: 0 | CH17: 0.1583 | CI17: 0.2134 | CJ17: 0 | CK17: 0.333 | CL17: 0.167 | CM17: 1 | CN17: 40 | CO17: Needs Assistance
A18: Charleston | B18: 75 Calhoun Street | C18: Charleston | D18: SC | E18: 29401 | F18: 0.3836 | G18: 0.5205 | H18: 0.9913 | I18: 0.963 | J18: 0.951 | K18: 0.9935 | L18: 0.9585 | M18: 0.925 | N18: 0.234 | O18: 0.1508 | P18: 0.4157 | Q18: 0.1797 | R18: 0.068 | S18: 0.3861 | T18: 0.4 | U18: 0.3158 | V18: 0.36 | W18: 0.2778 | X18: 0.2632 | Y18: 0.2353 | Z18: 0.3968 | AA18: 0.4351 | AB18: 0.4379 | AC18: 0.3617 | AD18: 0.3344 | AE18: 0.3211 | AF18: No | AG18: No | AH18: 0.6668 | AI18: 0.0923 | AJ18: 0.0149 | AK18: 0.3077 | AL18: 0.4888 | AM18: 0.005 | AN18: 0.9495 | AO18: 0.4484 | AP18: 0.8851 | AQ18: 0.529 | AR18: 0.8967 | AS18: 0.671 | AT18: 0.9474 | AU18: No | AV18: Yes | AW18: 0.9992 | AX18: 1 | AY18: 1 | AZ18: 0.3514 | BA18: 0.6892 | BB18: 0.7297 | BC18: 2 | BD18: 2 | BE18: 2 | BF18: 2 | BG18: 1 | BH18: 2 | BI18: 2 | BJ18: 2 | BK18: 1 | BL18: 2 | BM18: 0.3836 | BN18: 0.6745 | BO18: 1 | BP18: 0.1584 | BQ18: 0.2467 | BR18: 1.5 | BS18: 0.0893 | BT18: 0.1583 | BU18: 0.5 | BV18: 0.1631 | BW18: 0.1874 | BX18: 1 | BY18: 0.0612 | BZ18: 0.0769 | CA18: 2 | CB18: 0.6356 | CC18: 0.6668 | CD18: 3 | CE18: 1 | CF18: 1 | CG18: 2 | CH18: 0.1411 | CI18: 0.129 | CJ18: 3 | CK18: 0.305 | CL18: 0.35 | CM18: 0 | CN18: 40 | CO18: Meets Requirement
A19: Charter Erskine | B19: 1201 Main Street, Suite 300 | C19: Columbia | D19: SC | E19: 29201 | F19: 0.8571 | G19: 0.1345 | H19: 0.9911 | I19: 0.9714 | J19: 0.9373 | K19: 0.9911 | L19: 0.975 | M19: 0.9085 | N19: 0.1784 | O19: 0.2085 | P19: 0.5331 | Q19: 0.1174 | R19: 0.0538 | S19: 0.233 | T19: 0.4 | U19: 0.5385 | V19: 0.3333 | W19: 0.4 | X19: 0.4615 | Y19: 0.6667 | Z19: 0.3136 | AA19: 0.3809 | AB19: 0.3413 | AC19: 0.1833 | AD19: 0.1763 | AE19: 0.2615 | AF19: No | AG19: No | AH19: 0.7757 | AI19: 0.1255 | AJ19: 0.0021 | AK19: 1 | AL19: 0 | AM19: 0 | AN19: 0.8333 | AO19: 0.375 | AP19: 1 | AQ19: 0.375 | AR19: 1 | AS19: 0.75 | AT19: 0.9855 | AU19: No | AV19: No | AW19: 0.9881 | AX19: NA | AY19: 1 | AZ19: 0.2059 | BA19: 0.6765 | BB19: 0.75 | BC19: 2 | BD19: 2 | BE19: 2 | BF19: 2 | BG19: 1 | BH19: NA | BI19: 2 | BJ19: 2 | BK19: 2 | BL19: 3 | BM19: 0.8571 | BN19: 0.7368 | BO19: 0.5 | BP19: 0.1712 | BQ19: 0.1883 | BR19: 1.5 | BS19: 0.1316 | BT19: 0.2243 | BU19: 0.5 | BV19: 0.1036 | BW19: 0.13 | BX19: 0.5 | BY19: 0.056 | BZ19: 0.0733 | CA19: 3 | CB19: 0.7983 | CC19: 0.7757 | CD19: 3 | CE19: 1 | CF19: 1 | CG19: 3 | CH19: 0.0363 | CI19: 0.0456 | CJ19: 0 | CK19: 0.293 | CL19: 0.289 | CM19: 0 | CN19: 38 | CO19: Meets Requirement
A20: Cherokee | B20: P.O. Box 460 | C20: Gaffney | D20: SC | E20: 29342 | F20: 0.5147 | G20: 0.4118 | H20: 1 | I20: 0.989 | J20: 0.9028 | K20: 1 | L20: 0.989 | M20: 0.9494 | N20: 0.1471 | O20: 0.1341 | P20: 0.4098 | Q20: 0.1078 | R20: 0.061 | S20: 0.3944 | T20: 0 | U20: 0.625 | V20: 0.25 | W20: 0.3333 | X20: 0.625 | Y20: 0.5 | Z20: 0.2619 | AA20: 0.3057 | AB20: 0.324 | AC20: 0.1603 | AD20: 0.1253 | AE20: 0.0804 | AF20: Yes | AG20: No | AH20: 0.6409 | AI20: 0.1276 | AJ20: 0.0069 | AK20: 0.3492 | AL20: 0.3968 | AM20: 0 | AN20: 0.6098 | AO20: 0.4 | AP20: 0.6875 | AQ20: 0.5778 | AR20: 0.6667 | AS20: 0.5111 | AT20: 1 | AU20: No | AV20: No | AW20: 1 | AX20: 1 | AY20: 1 | AZ20: 0.1739 | BA20: 0.6957 | BB20: 0.7826 | BC20: 2 | BD20: 2 | BE20: 2 | BF20: 2 | BG20: 2 | BH20: 2 | BI20: 2 | BJ20: 2 | BK20: 2 | BL20: 0 | BM20: 0.5147 | BN20: 0.3671 | BO20: 0 | BP20: 0.2 | BQ20: 0.1429 | BR20: 1.5 | BS20: 0.0488 | BT20: 0.1778 | BU20: 0.5 | BV20: 0.1099 | BW20: 0.1143 | BX20: 1.5 | BY20: 0.0366 | BZ20: 0.1111 | CA20: 2 | CB20: 0.6231 | CC20: 0.6409 | CD20: 3 | CE20: 1 | CF20: 1 | CG20: 1 | CH20: 0.197 | CI20: 0.1881 | CJ20: 3 | CK20: 0.319 | CL20: 0.359 | CM20: 0 | CN20: 40 | CO20: Needs Assistance
A21: Chester | B21: 509 District Office Drive | C21: Chester | D21: SC | E21: 29706 | F21: 0.6852 | G21: 0.1852 | H21: 0.9853 | I21: 1 | J21: 1 | K21: 0.9853 | L21: 1 | M21: 0.9688 | N21: 0.1639 | O21: 0.0769 | P21: 0.5283 | Q21: 0.1148 | R21: 0.0192 | S21: 0.3448 | T21: 0.3333 | U21: 1 | V21: 0.75 | W21: 0.3333 | X21: 0 | Y21: 0.25 | Z21: 0.3256 | AA21: 0.3867 | AB21: 0.2887 | AC21: 0.2972 | AD21: 0.1775 | AE21: 0.2528 | AF21: No | AG21: No | AH21: 0.8125 | AI21: 0.0554 | AJ21: 0.0099 | AK21: 0.359 | AL21: 0.3846 | AM21: 0 | AN21: 1 | AO21: 0.6071 | AP21: 1 | AQ21: 0.5357 | AR21: 1 | AS21: 0.8214 | AT21: NA | AU21: No | AV21: No | AW21: 1 | AX21: 1 | AY21: 1 | AZ21: 0.2549 | BA21: 0.8235 | BB21: 0.8235 | BC21: 2 | BD21: 2 | BE21: 2 | BF21: 2 | BG21: 2 | BH21: 2 | BI21: 2 | BJ21: 2 | BK21: 2 | BL21: 2 | BM21: 0.6852 | BN21: 0.6889 | BO21: 0.5 | BP21: 0.1159 | BQ21: 0.1791 | BR21: 0.5 | BS21: 0.0526 | BT21: 0.1111 | BU21: 0 | BV21: 0.1739 | BW21: 0.1343 | BX21: 0 | BY21: 0.0345 | BZ21: 0.0185 | CA21: 3 | CB21: 0.825 | CC21: 0.8125 | CD21: 3 | CE21: 1 | CF21: 1 | CG21: 2 | CH21: 0.0872 | CI21: 0.0996 | CJ21: 0 | CK21: 0.208 | CL21: 0.188 | CM21: 1 | CN21: 40 | CO21: Needs Assistance
A22: Chesterfield | B22: 401 West Boulevard | C22: Chesterfield | D22: SC | E22: 29709 | F22: 0.4186 | G22: 0.5581 | H22: 1 | I22: 0.9867 | J22: 0.9074 | K22: 1 | L22: 0.9733 | M22: 0.9655 | N22: 0.1404 | O22: 0.0694 | P22: 0.2128 | Q22: 0.0702 | R22: 0 | S22: 0.22 | T22: 0.5 | U22: 1 | V22: 0 | W22: 1 | X22: 0.5 | Y22: 0.6667 | Z22: 0.3008 | AA22: 0.3283 | AB22: 0.5926 | AC22: 0.2432 | AD22: 0.1579 | AE22: 0.2821 | AF22: No | AG22: No | AH22: 0.5065 | AI22: 0.2453 | AJ22: 0.0087 | AK22: 0.6957 | AL22: 0.2609 | AM22: 0 | AN22: 0.8889 | AO22: 0.5556 | AP22: 1 | AQ22: 0.5556 | AR22: 1 | AS22: 0.7778 | AT22: 0.9744 | AU22: No | AV22: No | AW22: 1 | AX22: 1 | AY22: 1 | AZ22: 0.3333 | BA22: 0.7778 | BB22: 0.7778 | BC22: 2 | BD22: 2 | BE22: 2 | BF22: 2 | BG22: 2 | BH22: 2 | BI22: 2 | BJ22: 2 | BK22: 2 | BL22: 1 | BM22: 0.4186 | BN22: 0.5366 | BO22: 0.5 | BP22: 0.1014 | BQ22: 0.1525 | BR22: 0 | BS22: 0.1176 | BT22: 0.0946 | BU22: 0 | BV22: 0.1159 | BW22: 0.1017 | BX22: 0 | BY22: 0.0735 | BZ22: 0.0137 | CA22: 0 | CB22: 0.5585 | CC22: 0.5065 | CD22: 3 | CE22: 1 | CF22: 1 | CG22: 0 | CH22: 0.1785 | CI22: 0.2303 | CJ22: 3 | CK22: 0.529 | CL22: 0.421 | CM22: 0 | CN22: 40 | CO22: Needs Assistance
A23: Clarendon | B23: P.O. Box 1252 | C23: Manning | D23: SC | E23: 29102 | F23: 0.6792 | G23: 0.1887 | H23: 0.9706 | I23: 0.9773 | J23: 1 | K23: 0.9706 | L23: 0.9773 | M23: 0.9259 | N23: 0.1935 | O23: 0.027 | P23: 0.2857 | Q23: 0.1613 | R23: 0 | S23: 0.1333 | T23: 0.5 | U23: 0.3333 | V23: 0.6667 | W23: 0.5 | X23: 0.5 | Y23: 0.4 | Z23: 0.2042 | AA23: 0.4493 | AB23: 0.4623 | AC23: 0.1809 | AD23: 0.3041 | AE23: 0.341 | AF23: No | AG23: No | AH23: 0.5571 | AI23: 0.1968 | AJ23: 0.0158 | AK23: 0.8621 | AL23: 0.0345 | AM23: 0 | AN23: 1 | AO23: 0.5714 | AP23: 0.9048 | AQ23: 0.4286 | AR23: 0.8889 | AS23: 0.7143 | AT23: 1 | AU23: No | AV23: No | AW23: 1 | AX23: 1 | AY23: 1 | AZ23: 0.1176 | BA23: 0.7647 | BB23: 0.8824 | BC23: 2 | BD23: 2 | BE23: 2 | BF23: 2 | BG23: 2 | BH23: 2 | BI23: 2 | BJ23: 2 | BK23: 2 | BL23: 2 | BM23: 0.6792 | BN23: 0.5897 | BO23: 0.5 | BP23: NA | BQ23: 0.2121 | BR23: 0.5 | BS23: NA | BT23: 0.0698 | BU23: 0.5 | BV23: NA | BW23: 0.1818 | BX23: 0.5 | BY23: NA | BZ23: 0.0698 | CA23: 0 | CB23: 0.5944 | CC23: 0.5571 | CD23: 3 | CE23: 1 | CF23: 1 | CG23: 2 | CH23: 0.1696 | CI23: 0.1438 | CJ23: 2 | CK23: 0.6 | CL23: 0.309 | CM23: 1 | CN23: 40 | CO23: Needs Assistance
A24: Colleton | B24: 500 Forest Circle | C24: Walterboro | D24: SC | E24: 29488 | F24: 0.4545 | G24: 0.0909 | H24: 0.9839 | I24: 0.9565 | J24: 0.9231 | K24: 1 | L24: 0.971 | M24: 0.8611 | N24: 0.0727 | O24: 0.0476 | P24: 0.3125 | Q24: 0 | R24: 0.0156 | S24: 0.1724 | T24: 0.6667 | U24: 0.3333 | V24: 0.5 | W24: 0.2857 | X24: 0 | Y24: 0.25 | Z24: 0.2146 | AA24: 0.257 | AB24: 0.4677 | AC24: 0.1547 | AD24: 0.0385 | AE24: 0.2608 | AF24: Yes | AG24: No | AH24: 0.5102 | AI24: 0.1696 | AJ24: 0.0081 | AK24: 0.2373 | AL24: 0.4576 | AM24: 0.0169 | AN24: 0.8462 | AO24: 0.5556 | AP24: 0.5714 | AQ24: 0.7222 | AR24: 0.75 | AS24: 0.6667 | AT24: 1 | AU24: No | AV24: No | AW24: 0.994 | AX24: 1 | AY24: 1 | AZ24: 0.1852 | BA24: 0.7407 | BB24: 0.7778 | BC24: 2 | BD24: 2 | BE24: 2 | BF24: 1 | BG24: 1 | BH24: 2 | BI24: 2 | BJ24: 2 | BK24: 2 | BL24: 2 | BM24: 0.4545 | BN24: 0.5909 | BO24: 0 | BP24: 0.1667 | BQ24: 0.1311 | BR24: 0.5 | BS24: 0.0533 | BT24: 0.0606 | BU24: 0.5 | BV24: 0.0208 | BW24: 0.0323 | BX24: 0.5 | BY24: 0.0132 | BZ24: 0.0149 | CA24: 0 | CB24: 0.5383 | CC24: 0.5102 | CD24: 3 | CE24: 1 | CF24: 1 | CG24: 0 | CH24: 0.2291 | CI24: 0.2563 | CJ24: 0 | CK24: 0.209 | CL24: 0.191 | CM24: 1 | CN24: 40 | CO24: Needs Assistance
A25: Darlington | B25: P.O. Box 1117 | C25: Darlington | D25: SC | E25: 29540 | F25: 0.5234 | G25: 0.4486 | H25: 0.9917 | I25: 0.9741 | J25: 0.963 | K25: 0.9917 | L25: 0.9741 | M25: 0.925 | N25: 0.1009 | O25: 0.1058 | P25: 0.4574 | Q25: 0.1193 | R25: 0.0769 | S25: 0.3465 | T25: 0.3 | U25: 0.6667 | V25: 0.5 | W25: 0.2 | X25: 0.6667 | Y25: 0.4 | Z25: 0.4191 | AA25: 0.3596 | AB25: 0.3717 | AC25: 0.2777 | AD25: 0.2144 | AE25: 0.2308 | AF25: No | AG25: No | AH25: 0.695 | AI25: 0.1718 | AJ25: 0.0105 | AK25: 0.2647 | AL25: 0.7255 | AM25: 0 | AN25: 1 | AO25: 0.5 | AP25: 0.8958 | AQ25: 0.4615 | AR25: 0.9556 | AS25: 0.5 | AT25: 0.9524 | AU25: No | AV25: No | AW25: 1 | AX25: 1 | AY25: 1 | AZ25: 0.125 | BA25: 0.5313 | BB25: 0.5938 | BC25: 2 | BD25: 2 | BE25: 2 | BF25: 2 | BG25: 2 | BH25: 2 | BI25: 2 | BJ25: 2 | BK25: 2 | BL25: 1 | BM25: 0.5234 | BN25: 0.5351 | BO25: 0.5 | BP25: 0.1111 | BQ25: 0.1176 | BR25: 1.5 | BS25: 0.1259 | BT25: 0.1504 | BU25: 0 | BV25: 0.1508 | BW25: 0.1261 | BX25: 1.5 | BY25: 0.097 | BZ25: 0.1239 | CA25: 2 | CB25: 0.6829 | CC25: 0.695 | CD25: 3 | CE25: 1 | CF25: 1 | CG25: 0 | CH25: 0.2261 | CI25: 0.2428 | CJ25: 3 | CK25: 0.4 | CL25: 0.37 | CM25: 0 | CN25: 40 | CO25: Needs Assistance
A26: Dillon 3 | B26: 205 King Street | C26: Latta | D26: SC | E26: 29565 | F26: 0.8 | G26: 0 | H26: 1 | I26: 0.875 | J26: 1 | K26: 1 | L26: 0.875 | M26: 1 | N26: 0 | O26: 0 | P26: 0.25 | Q26: 0.0714 | R26: 0 | S26: 0.2857 | T26: 0 | U26: 0 | V26: 0.3333 | W26: 0 | X26: 0 | Y26: 0.6667 | Z26: 0.5315 | AA26: 0.5175 | AB26: 0.6283 | AC26: 0.4286 | AD26: 0.3509 | AE26: 0.3095 | AF26: No | AG26: No | AH26: 0.8086 | AI26: 0.1235 | AJ26: 0.0123 | AK26: 1 | AL26: 0 | AM26: 0 | AN26: 0.6667 | AO26: 0.1667 | AP26: 1 | AQ26: 0.5 | AR26: 0.8333 | AS26: 0.3333 | AT26: 1 | AU26: No | AV26: No | AW26: 1 | AX26: 1 | AY26: 1 | AZ26: 0 | BA26: 0.4 | BB26: 0.7 | BC26: 2 | BD26: 2 | BE26: 2 | BF26: 2 | BG26: 2 | BH26: 2 | BI26: 2 | BJ26: 2 | BK26: 2 | BL26: 0 | BM26: 0.8 | BN26: 0.5 | BO26: 0 | BP26: 0.2857 | BQ26: 0 | BR26: 0 | BS26: 0 | BT26: 0 | BU26: 0 | BV26: 0.3571 | BW26: 0.0714 | BX26: 0 | BY26: 0 | BZ26: 0 | CA26: 3 | CB26: 0.8267 | CC26: 0.8086 | CD26: 3 | CE26: 1 | CF26: 1 | CG26: 0 | CH26: 0.2323 | CI26: 0.2426 | CJ26: 1 | CK26: 0 | CL26: 0.111 | CM26: 1 | CN26: 40 | CO26: Needs Assistance
A27: Dillon 4 | B27: 1738 Highway 301 North | C27: Dillon | D27: SC | E27: 29536 | F27: 0.4286 | G27: 0.5714 | H27: 1 | I27: 1 | J27: 0.9583 | K27: 1 | L27: 1 | M27: 0.8205 | N27: 0 | O27: 0.0417 | P27: 0.35 | Q27: 0 | R27: 0 | S27: 0.069 | T27: 1 | U27: 0.8 | V27: 1 | W27: 1 | X27: 0.6 | Y27: 1 | Z27: 0.3313 | AA27: 0.3511 | AB27: 0.3779 | AC27: 0.1963 | AD27: 0.2343 | AE27: 0.4727 | AF27: No | AG27: No | AH27: 0.7705 | AI27: 0.1105 | AJ27: 0.0142 | AK27: 0.3889 | AL27: 0 | AM27: 0 | AN27: 1 | AO27: 0.1667 | AP27: 1 | AQ27: 0.1667 | AR27: 1 | AS27: 0.3333 | AT27: 1 | AU27: No | AV27: No | AW27: 1 | AX27: 1 | AY27: 1 | AZ27: 0 | BA27: 0.5556 | BB27: 0.7222 | BC27: 2 | BD27: 2 | BE27: 2 | BF27: 2 | BG27: 2 | BH27: 2 | BI27: 2 | BJ27: 2 | BK27: 2 | BL27: 0 | BM27: 0.4286 | BN27: 0.4231 | BO27: 0 | BP27: 0.0909 | BQ27: 0.0313 | BR27: 1.5 | BS27: 0.037 | BT27: 0.1724 | BU27: 0 | BV27: 0.1364 | BW27: 0.0313 | BX27: 1.5 | BY27: 0.037 | BZ27: 0.1034 | CA27: 3 | CB27: 0.8062 | CC27: 0.7705 | CD27: 3 | CE27: 1 | CF27: 1 | CG27: 2 | CH27: 0.0612 | CI27: 0.1024 | CJ27: 1 | CK27: 0.077 | CL27: 0.156 | CM27: 1 | CN27: 40 | CO27: Meets Requirement
A28: Dorchester 2 | B28: 815 S. Main Street | C28: Summerville | D28: SC | E28: 29483 | F28: 0.5368 | G28: 0.2053 | H28: 0.9964 | I28: 0.9823 | J28: 0.9548 | K28: 1 | L28: 0.9778 | M28: 0.9368 | N28: 0.2957 | O28: 0.1353 | P28: 0.5621 | Q28: 0.2209 | R28: 0.0488 | S28: 0.3805 | T28: 0.3158 | U28: 0.2667 | V28: 0.2857 | W28: 0.4211 | X28: 0.3333 | Y28: 0.2727 | Z28: 0.3741 | AA28: 0.439 | AB28: 0.3502 | AC28: 0.3073 | AD28: 0.2963 | AE28: 0.3931 | AF28: No | AG28: No | AH28: 0.575 | AI28: 0.1409 | AJ28: 0.0146 | AK28: 0.1504 | AL28: 0.7073 | AM28: 0.0081 | AN28: 0.7697 | AO28: 0.4034 | AP28: 0.761 | AQ28: 0.4034 | AR28: 0.7843 | AS28: 0.517 | AT28: 1 | AU28: No | AV28: No | AW28: 0.9989 | AX28: 1 | AY28: 1 | AZ28: 0.1951 | BA28: 0.7073 | BB28: 0.7561 | BC28: 2 | BD28: 2 | BE28: 2 | BF28: 2 | BG28: 1 | BH28: 2 | BI28: 2 | BJ28: 2 | BK28: 2 | BL28: 2 | BM28: 0.5368 | BN28: 0.5734 | BO28: 1.5 | BP28: 0.2269 | BQ28: 0.2971 | BR28: 1 | BS28: 0.0909 | BT28: 0.1441 | BU28: 1.5 | BV28: 0.2154 | BW28: 0.2347 | BX28: 0 | BY28: 0.0783 | BZ28: 0.0682 | CA28: 0 | CB28: 0.5769 | CC28: 0.575 | CD28: 3 | CE28: 1 | CF28: 1 | CG28: 0 | CH28: 0.169 | CI28: 0.1986 | CJ28: 3 | CK28: 0.455 | CL28: 0.414 | CM28: 0 | CN28: 40 | CO28: Needs Assistance
A29: Dorchester 4 | B29: 500 Ridge Street | C29: St. George | D29: SC | E29: 29477 | F29: 0.7619 | G29: 0.2381 | H29: 1 | I29: 1 | J29: 0.973 | K29: 1 | L29: 0.96 | M29: 0.9737 | N29: 0.0625 | O29: 0 | P29: 0.2581 | Q29: 0.125 | R29: 0 | S29: 0.0938 | T29: 0 | U29: 0.5 | V29: 0.8 | W29: 0 | X29: 0 | Y29: 0.6 | Z29: 0.4255 | AA29: 0.4145 | AB29: 0.5056 | AC29: 0.299 | AD29: 0.1589 | AE29: 0.2828 | AF29: No | AG29: No | AH29: 0.4831 | AI29: 0.152 | AJ29: 0.0101 | AK29: 0.4444 | AL29: 0.3889 | AM29: 0.1111 | AN29: 0.8182 | AO29: 0.4167 | AP29: 0.9 | AQ29: 0.5833 | AR29: 0.9 | AS29: 0.5833 | AT29: 1 | AU29: No | AV29: No | AW29: 1 | AX29: 1 | AY29: 0.9 | AZ29: 0.25 | BA29: 0.8 | BB29: 0.9 | BC29: 2 | BD29: 2 | BE29: 1 | BF29: 2 | BG29: 2 | BH29: 2 | BI29: 2 | BJ29: 2 | BK29: 2 | BL29: 2 | BM29: 0.7619 | BN29: 0.5926 | BO29: 0 | BP29: 0.0909 | BQ29: 0.0588 | BR29: 0 | BS29: 0.1852 | BT29: 0.04 | BU29: 0.5 | BV29: 0 | BW29: 0.1176 | BX29: 0 | BY29: 0.1538 | BZ29: 0 | CA29: 0 | CB29: 0.5176 | CC29: 0.4831 | CD29: 3 | CE29: 1 | CF29: 1 | CG29: 0 | CH29: 0.108 | CI29: 0.1911 | CJ29: 3 | CK29: 0.382 | CL29: 0.72 | CM29: 1 | CN29: 40 | CO29: Needs Assistance
A30: Edgefield | B30: P.O. Box 608 | C30: Johnston | D30: SC | E30: 29832 | F30: 0.4167 | G30: 0.4583 | H30: 1 | I30: 1 | J30: 1 | K30: 1 | L30: 1 | M30: 0.9259 | N30: 0.125 | O30: 0.087 | P30: 0.2632 | Q30: 0.0625 | R30: 0 | S30: 0.2083 | T30: 0 | U30: 1 | V30: 0 | W30: 0 | X30: 1 | Y30: 0 | Z30: 0.379 | AA30: 0.3683 | AB30: 0.4774 | AC30: 0.244 | AD30: 0.25 | AE30: 0.0705 | AF30: No | AG30: No | AH30: 0.6411 | AI30: 0.1656 | AJ30: 0.0092 | AK30: 0.1905 | AL30: 0.5714 | AM30: 0 | AN30: 0.9375 | AO30: 0.3529 | AP30: 0.9333 | AQ30: 0.2941 | AR30: 0.7143 | AS30: 0.4118 | AT30: 1 | AU30: No | AV30: No | AW30: 0.9697 | AX30: 1 | AY30: 1 | AZ30: 0 | BA30: 0.5714 | BB30: 0.6429 | BC30: 2 | BD30: 2 | BE30: 2 | BF30: 2 | BG30: 1 | BH30: 2 | BI30: 2 | BJ30: 2 | BK30: 2 | BL30: 2 | BM30: 0.4167 | BN30: 0.6 | BO30: 0 | BP30: 0.1333 | BQ30: 0.125 | BR30: 0.5 | BS30: 0.0714 | BT30: 0.125 | BU30: 0 | BV30: 0.1 | BW30: 0.0625 | BX30: 0.5 | BY30: 0 | BZ30: 0.0417 | CA30: 2 | CB30: 0.5836 | CC30: 0.6411 | CD30: 3 | CE30: 1 | CF30: 1 | CG30: 0 | CH30: 0.6111 | CI30: 0.6427 | CJ30: 3 | CK30: 0.292 | CL30: 0.389 | CM30: 1 | CN30: 40 | CO30: Needs Assistance
A31: Fairfield | B31: P.O. Drawer 622 | C31: Winnsboro | D31: SC | E31: 29180 | F31: 0.5294 | G31: 0.4706 | H31: 0.9714 | I31: 0.9524 | J31: 0.9286 | K31: 1 | L31: 0.95 | M31: 1 | N31: 0.0882 | O31: 0.1765 | P31: 0.3846 | Q31: 0.0294 | R31: 0.0588 | S31: 0.4286 | T31: 0 | U31: 0.3333 | V31: 0 | W31: 0 | X31: 1 | Y31: 0 | Z31: 0.3925 | AA31: 0.3342 | AB31: 0.383 | AC31: 0.3167 | AD31: 0.1752 | AE31: 0.218 | AF31: No | AG31: No | AH31: 0.6638 | AI31: 0.2345 | AJ31: 0.0085 | AK31: 0 | AL31: 0.5 | AM31: 0 | AN31: 0.9167 | AO31: 0.3684 | AP31: 0.8947 | AQ31: 0.2632 | AR31: 0.5833 | AS31: 0.4211 | AT31: 1 | AU31: No | AV31: No | AW31: 1 | AX31: 1 | AY31: 1 | AZ31: 0.1667 | BA31: 1 | BB31: 1 | BC31: 2 | BD31: 2 | BE31: 2 | BF31: 2 | BG31: 2 | BH31: 2 | BI31: 2 | BJ31: 2 | BK31: 2 | BL31: 0 | BM31: 0.5294 | BN31: 0.4444 | BO31: 0 | BP31: 0.1944 | BQ31: 0.0882 | BR31: 1.5 | BS31: 0.1053 | BT31: 0.2 | BU31: 0 | BV31: 0.1111 | BW31: 0.0286 | BX31: 1.5 | BY31: 0.1053 | BZ31: 0.1579 | CA31: 2 | CB31: 0.673 | CC31: 0.6638 | CD31: 3 | CE31: 1 | CF31: 1 | CG31: 0 | CH31: 0.2208 | CI31: 0.2567 | CJ31: 0 | CK31: 0.28 | CL31: 0.278 | CM31: 0 | CN31: 40 | CO31: Needs Assistance
A32: Florence 1 | B32: 319 South Irby Street | C32: Florence | D32: SC | E32: 29501 | F32: 0.5192 | G32: 0.4327 | H32: 0.9847 | I32: 0.9574 | J32: 0.95 | K32: 0.9847 | L32: 0.9645 | M32: 0.8868 | N32: 0.1034 | O32: 0.0938 | P32: 0.4468 | Q32: 0.0862 | R32: 0.0388 | S32: 0.3277 | T32: 0.4615 | U32: 0 | V32: 0.1818 | W32: 0.1538 | X32: 0.1429 | Y32: 0.0909 | Z32: 0.451 | AA32: 0.4391 | AB32: 0.3846 | AC32: 0.3492 | AD32: 0.2394 | AE32: 0.3033 | AF32: No | AG32: No | AH32: 0.5205 | AI32: 0.2357 | AJ32: 0.0086 | AK32: 0.3827 | AL32: 0.4286 | AM32: 0.0051 | AN32: 0.896 | AO32: 0.5116 | AP32: 0.8727 | AQ32: 0.5504 | AR32: 0.8947 | AS32: 0.6589 | AT32: 0.9615 | AU32: No | AV32: No | AW32: 0.9977 | AX32: 1 | AY32: 1 | AZ32: 0.2069 | BA32: 0.7931 | BB32: 0.8966 | BC32: 2 | BD32: 2 | BE32: 2 | BF32: 1 | BG32: 1 | BH32: 2 | BI32: 2 | BJ32: 2 | BK32: 2 | BL32: 0 | BM32: 0.5192 | BN32: 0.4157 | BO32: 0 | BP32: 0.1631 | BQ32: 0.1395 | BR32: 0.5 | BS32: 0.0663 | BT32: 0.0889 | BU32: 0.5 | BV32: 0.0709 | BW32: 0.093 | BX32: 0.5 | BY32: 0.0417 | BZ32: 0.0441 | CA32: 0 | CB32: 0.5606 | CC32: 0.5205 | CD32: 3 | CE32: 1 | CF32: 1 | CG32: 0 | CH32: 0.1912 | CI32: 0.2493 | CJ32: 2 | CK32: 0.336 | CL32: 0.312 | CM32: 0 | CN32: 40 | CO32: Needs Intervention
A33: Florence 2 | B33: 2121 South Pamplico Highway | C33: Pamplico | D33: SC | E33: 29583 | F33: 0.5 | G33: 0.4375 | H33: 1 | I33: 0.95 | J33: 0.8421 | K33: 1 | L33: 0.95 | M33: 0.9231 | N33: 0.3636 | O33: 0.0526 | P33: 0.5 | Q33: 0.1818 | R33: 0 | S33: 0.5833 | T33: 1 | U33: 0 | V33: 1 | W33: 0.5 | X33: 0 | Y33: 0 | Z33: 0.1133 | AA33: 0.457 | AB33: 0.3632 | AC33: 0.3566 | AD33: 0.1442 | AE33: 0.2976 | AF33: No | AG33: No | AH33: 0.6459 | AI33: 0.11 | AJ33: 0 | AK33: 0.8889 | AL33: 0.0556 | AM33: 0.0556 | AN33: 1 | AO33: 0.4615 | AP33: 0.9091 | AQ33: 0.3846 | AR33: 1 | AS33: 0.3846 | AT33: 1 | AU33: No | AV33: No | AW33: 1 | AX33: 1 | AY33: 1 | AZ33: 0.2941 | BA33: 0.8824 | BB33: 0.8824 | BC33: 2 | BD33: 2 | BE33: 2 | BF33: 2 | BG33: 2 | BH33: 2 | BI33: 2 | BJ33: 2 | BK33: 2 | BL33: 0 | BM33: 0.5 | BN33: 0.2857 | BO33: 1.5 | BP33: 0.087 | BQ33: 0.5333 | BR33: 0 | BS33: 0.0588 | BT33: 0.0526 | BU33: 1.5 | BV33: 0.3043 | BW33: 0.2667 | BX33: 0 | BY33: 0.0588 | BZ33: 0 | CA33: 2 | CB33: 0.6745 | CC33: 0.6459 | CD33: 3 | CE33: 1 | CF33: 1 | CG33: 2 | CH33: 0.1404 | CI33: 0.1233 | CJ33: 0 | CK33: 0.3 | CL33: 0.182 | CM33: 1 | CN33: 40 | CO33: Needs Assistance
A34: Florence 3 | B34: P.O. Drawer 1389 | C34: Lake City | D34: SC | E34: 29560 | F34: 0.4615 | G34: 0.3333 | H34: 1 | I34: 0.9535 | J34: 0.8627 | K34: 1 | L34: 0.9767 | M34: 1 | N34: 0.075 | O34: 0.1667 | P34: 0.2791 | Q34: 0.05 | R34: 0.0811 | S34: 0.2571 | T34: 1 | U34: 0.2 | V34: 0 | W34: 0 | X34: 0.2 | Y34: 0.6667 | Z34: 0.3495 | AA34: 0.1863 | AB34: 0.4781 | AC34: 0.1953 | AD34: 0.0709 | AE34: 0.2663 | AF34: No | AG34: No | AH34: 0.697 | AI34: 0.0928 | AJ34: 0.0038 | AK34: 0.6842 | AL34: 0.3158 | AM34: 0 | AN34: 0.9333 | AO34: 0.3529 | AP34: 1 | AQ34: 0.1176 | AR34: 0.9286 | AS34: 0.4706 | AT34: 1 | AU34: No | AV34: No | AW34: 1 | AX34: 1 | AY34: 1 | AZ34: 0.2069 | BA34: 0.6207 | BB34: 0.6207 | BC34: 2 | BD34: 2 | BE34: 2 | BF34: 2 | BG34: 2 | BH34: 2 | BI34: 2 | BJ34: 2 | BK34: 2 | BL34: 2 | BM34: 0.4615 | BN34: 0.5882 | BO34: 0 | BP34: 0.1591 | BQ34: 0.0976 | BR34: 1.5 | BS34: 0.025 | BT34: 0.1707 | BU34: 0 | BV34: 0.1136 | BW34: 0.0488 | BX34: 1 | BY34: 0.0238 | BZ34: 0.0952 | CA34: 2 | CB34: 0.6884 | CC34: 0.697 | CD34: 3 | CE34: 1 | CF34: 1 | CG34: 0 | CH34: 0.194 | CI34: 0.2541 | CJ34: 0 | CK34: 0.204 | CL34: 0.094 | CM34: 1 | CN34: 40 | CO34: Needs Assistance
A35: Florence 5 | B35: P.O. Box 98 | C35: Johnsonville | D35: SC | E35: 29555 | F35: 0.25 | G35: 0.75 | H35: 0.8077 | I35: 0.9643 | J35: 1 | K35: 0.8077 | L35: 0.9643 | M35: 1 | N35: 0.1111 | O35: 0.1852 | P35: 0.2667 | Q35: 0.2778 | R35: 0.037 | S35: 0.2222 | T35: 0 | U35: 0 | V35: 0 | W35: 0.3333 | X35: 0 | Y35: 0 | Z35: 0.3415 | AA35: 0.3638 | AB35: 0.5603 | AC35: 0.1538 | AD35: 0.1885 | AE35: 0.3687 | AF35: No | AG35: No | AH35: 0.8115 | AI35: 0.1038 | AJ35: 0.0077 | AK35: 0.7857 | AL35: 0.0714 | AM35: 0 | AN35: 1 | AO35: 0.125 | AP35: 0.875 | AQ35: 0.25 | AR35: 1 | AS35: 0.375 | AT35: 1 | AU35: No | AV35: No | AW35: 1 | AX35: 1 | AY35: 1 | AZ35: 0 | BA35: 0.375 | BB35: 0.625 | BC35: 2 | BD35: 2 | BE35: 2 | BF35: 2 | BG35: 2 | BH35: 2 | BI35: 2 | BJ35: 2 | BK35: 2 | BL35: 3 | BM35: 0.25 | BN35: 0.7 | BO35: 0.5 | BP35: 0.0909 | BQ35: 0.0952 | BR35: 1.5 | BS35: 0.1818 | BT35: 0.1852 | BU35: 1.5 | BV35: 0.0909 | BW35: 0.2857 | BX35: 0 | BY35: 0.0476 | BZ35: 0.037 | CA35: 3 | CB35: 0.7757 | CC35: 0.8115 | CD35: 3 | CE35: 1 | CF35: 1 | CG35: 0 | CH35: 0.1704 | CI35: 0.2664 | CJ35: 1 | CK35: 0.154 | CL35: 0.267 | CM35: 1 | CN35: 40 | CO35: Meets Requirement
