Workbook
Name _2020: [1]COMBINED!$B$536:$Q$1075
Name _2021: [1]COMBINED!$B$1076:$Q$1602

Sheet Information
A1: LEA Profile Information
A2: The Office of Special Education Programs (OSEP) requires states to publicly report how the Local Education Agency (LEA) compares (profiles) to the state’s State Performance Plan (SPP)/Annual Performance Report. The data used are from the 2022-23 reporting year for all indicators except Indicators 1, 2, and 4 which use 2021-22 lag data. Data include the LEA’s results on Indicators 1-14 on the SPP. LEA indicator results are compared to the state target. There are no points or levels. There are simply results on the indicators. The profile provides stakeholders with information about the LEA on the requirements of IDEA. In this document, you will find your LEA Data Profile (Indicators 1-14) for the 2022-23 reporting year. A score of “0” will automatically result in Targeted Assistance in the area of deficiency.
A3: LEA Determination Information
A4: The LEA determinations are required by OSEP and do not include all indicators. The determinations use of indicators are 1) required by OSEP to be included and 2) identified by the Office of Special Education Services (OSES) as the most influential to outcomes. Results are grouped into two factors - Compliance Factors (CF) and Performance Factors (PF). The State will publish district determinations annually. The OSEP requires the OSES to make a “determination” or rank the LEA on a specific level that determines assistance or Technical Assistance (TA) for the LEA. OSES uses the determinations to inform the LEA’s of their tier level. In this document, you will find your LEA Determination for the 2022-23 reporting year. The Office of Special Education Programs (OSEP) requires each State Education Agency (SEA) to consider the following information in annual Local Education Agency (LEA) determinations: performance on specific Part B State Performance Plan (SPP) compliance indicators (4B, 9, 10, 11, 12, and 13), valid and reliable data, correction of identified noncompliance, and other relevant data available to the state that reflects on LEA implementation of the IDEA. For South Carolina, the factors for LEA determinations are grouped into two categories – Compliance (CF) and Performance (PF). Pursuant to the IDEA, each LEA determination will indicate a level of assistance required for the LEA: • Meets the requirements and purposes of IDEA (Tier 1); • Needs assistance in implementing the requirements of IDEA (Tier 2); • Needs intervention in implementing the requirements of IDEA (Tier 3); or • Needs substantial intervention in implementing the requirements of IDEA (Tier 4). This year, LEAs received two versions of the LEA Annual Determinations, one based on the system that has been in place for several years and one based on the modified system that was discussed with LEAs in May and June. The tier/technical assistance designation for each LEA is based on the version that yields the highest result for the LEA. Requirements for the designated tiers will be forthcoming.
A5: Compliance
A6: Compliance Factor 1: Data | C6: 2 = no findings of non-compliance 1 = findings of non-compliance in the current year 0 = 2 or more consecutive years of findings of non-compliance (current year and previous year(s))
A7: Compliance Factor 2: Finance | C7: 2 = no findings of non-compliance 1 = findings of non-compliance in the current year 0 = 2 or more consecutive years of findings of non-compliance (current year and previous year(s))
A8: Compliance Factor 3: Post-Secondary Planning & Services (Indicator 13) | C8: 2 = no findings of non-compliance 1 = findings of non-compliance in the current year 0 = 2 or more consecutive years of findings of non-compliance (current year and previous year(s))
A9: Compliance Factor 4: Timely Corrections of Non-Compliance | C9: 2 = no findings of noncompliance or all findings of noncompliance are corrected within one calendar year 1 = any areas of noncompliance that go over the one-year timeline 0 = any area of noncompliance that goes over two years for corrections
A10: Compliance Factor 5: 60 Day Timeline (Indicator 11) | C10: 2 = no findings of non-compliance 1 = findings of non-compliance in the current year 0 = 2 or more consecutive years of findings of non-compliance (current year and previous year(s))
A11: Compliance Factor 6: C to B Transition (Indicator 12) | C11: 2 = no findings of non-compliance 1 = findings of non-compliance in the current year 0 = 2 or more consecutive years of findings of non-compliance (current year and previous year(s))
A12: Compliance Factor 7: SWD Suspension Rate > 10 Days by Race/Ethnicity (Indicator 4B) | C12: 2 = no findings of non-compliance 1 = findings of non-compliance in the current year 0 = 2 or more consecutive years of findings of non-compliance (current year and previous year(s))
A13: Compliance Factor 8: Disproportionate Representation (Indicators 9) | C13: 2 = no findings of non-compliance 1 = findings of non-compliance in the current year 0 = 2 or more consecutive years of findings of non-compliance (current year and previous year(s))
A14: Compliance Factor 9: Disproportionate Representation by Race/Ethnicity and Disability (Indicators 10) | C14: 2 = no findings of non-compliance 1 = findings of non-compliance in the current year 0 = 2 or more consecutive years of findings of non-compliance (current year and previous year(s))
A15: Performance
A16: Factor | B16: Numerator | C16: Denominator | D16: Target
A17: Performance Factor 1: Graduation Rate | B17: Graduated w High School Diploma | C17: Graduated with a regular HS Diploma, Received a Certificate/SC HS Credential, Reached Maximum Age, Dropped Out | D17: Increase from the target
A18: Performance Factor 2: ELA Assessment (3B - 4th grade) | B18: Sum of SWD Number Proficient (Regular and Alternate Assessment) | C18: Sum of SWD Number Tested (Regular and Alternate Assessment) | D18: Increase from the target
A19: Performance Factor 3: ELA Assessment (3B - 8th grade) | B19: Sum of SWD Number Proficient (Regular and Alternate Assessment) | C19: Sum of SWD Number Tested (Regular and Alternate Assessment) | D19: Increase from the target
A20: Performance Factor 4: Math Assessment (3B - 4th grade) | B20: Sum of SWD Number Proficient (Regular and Alternate Assessment) | C20: Sum of SWD Number Tested (Regular and Alternate Assessment) | D20: Increase from the target
A21: Performance Factor 5: Math Assessment (3B - 8th grade) | B21: Sum of SWD Number Proficient (Regular and Alternate Assessment) | C21: Sum of SWD Number Tested (Regular and Alternate Assessment) | D21: Increase from the target
A22: Performance Factor 6: School Aged LRE | B22: # of children with IEPs aged 5 who are enrolled in kindergarten and aged 6 through 21 served inside Regular Class and activities 80% or more of the day | C22: total # of students aged 5 who are enrolled in kindergarten and aged 6 through 21 with IEPs | D22: Increase from the target
A23: Performance Factor 7: Early Childhood LRE | B23: Total # of children ages 3, 4, and 5 not in Kindergarten with entry and exit scores served at least 180 days | C23: Total # of children ages 3, 4, and 5 not in Kindergarten with entry and exit scores served at least 180 days | D23: Increase from the target
A24: Performance Factor 8: SWD Suspensions | B24: # of children with Out of School Suspension | C24: Total # of children on ages 3 - 21 with IEPs | D24: Decrease from the target
A25: Performance Factor 9: Career Readiness | B25: # of children are Career Readiness | C25: Total # of children 1. Is a CTE completer and earns a national or state industry credential as determined by the business community; or, 2. Earns a Silver, Gold or Platinum National Career Readiness Certificate on the state-approved career readiness assessment; or 3. Earns a scale score of 31 or higher on the ASVAB; or 4. Successfully completes a state-approved work-based learning program and 5. SC High School Employability Credential | D25: Increase from the target

Sheet Profile
A1: 2022-2023 Special Education Profile
A3: Dorchester 4
A4: =VLOOKUP(A3,Data!A:CN,2,FALSE) -> 500 Ridge Street
A5: =VLOOKUP(A3,Data!A:CN,3,FALSE) -> St. George | G5: =VLOOKUP(A3,Data!A:CN,4,FALSE) -> SC | I5: =VLOOKUP(A3,Data!A:CN,5,FALSE) -> 29477
A7: Indicators
A8: Indicator 1
A9: Indicator 1: Graduation
A10: Percent of youth with IEPs graduating with a high school diploma
A11: Target | B11: >= | C11: 0.6338 | D11: State | E11: 0.5555 | F11: Score | G11: =+VLOOKUP(A3,Data!A:CN,6,FALSE) -> 0.7619 | H11: Status | I11: =IF(OR(G11="NA",G11="**"),"NA",IF(G11<C11,"Not Met","Met")) -> Met
A12: Indicator 2
A13: Indicator 2: Dropout
A14: Percent of youth with IEPs dropping out of high school
A15: Target | B15: <= | C15: 0.2246 | D15: State | E15: 0.3149 | F15: Score | G15: =+VLOOKUP(A3,Data!A:CN,7,FALSE) -> 0.2381 | H15: Status | I15: =IF(OR(G15="NA",G15="**"),"NA",IF(G15>C15,"Not Met","Met")) -> Not Met
A16: Indicator 3
A17: Indicator 3A, ELA 4th Grade
A18: Participation rate of children with IEPs in a 4th grade setting for ELA
A19: Target | B19: >= | C19: 0.95 | D19: State | E19: 0.9916 | F19: Score | G19: =+VLOOKUP(A3,Data!A:CN,8,FALSE) -> 1 | H19: Status | I19: =IF(OR(G19="NA",G19="**"),"NA",IF(G19<C19,"Not Met","Met")) -> Met
A20: Indicator 3A, ELA 8th Grade
A21: Participation rate of children with IEPs in an 8th grade setting for ELA
A22: Target | B22: >= | C22: 0.95 | D22: State | E22: 0.973 | F22: Score | G22: =+VLOOKUP(A3,Data!A:CN,9,FALSE) -> 1 | H22: Status | I22: =IF(OR(G22="NA",G22="**"),"NA",IF(G22<C22,"Not Met","Met")) -> Met
A23: Indicator 3A, ELA HS
A24: Participation rate of children with IEPs in a High School setting for ELA
A25: Target | B25: >= | C25: 0.95 | D25: State | E25: 0.9485 | F25: Score | G25: =+VLOOKUP(A3,Data!A:CN,10,FALSE) -> 0.973 | H25: Status | I25: =IF(OR(G25="NA",G25="**"),"NA",IF(G25<C25,"Not Met","Met")) -> Met
A26: Indicator 3A, Math 4th Grade
A27: Participation rate of children with IEPs in a 4th grade setting for Math
A28: Target | B28: >= | C28: 0.95 | D28: State | E28: 0.9919 | F28: Score | G28: =+VLOOKUP(A3,Data!A:CN,11,FALSE) -> 1 | H28: Status | I28: =IF(OR(G28="NA",G28="**"),"NA",IF(G28<C28,"Not Met","Met")) -> Met
A29: Indicator 3A, Math 8th Grade
A30: Participation rate of children with IEPs in an 8th grade setting for Math
A31: Target | B31: >= | C31: 0.95 | D31: State | E31: 0.975 | F31: Score | G31: =+VLOOKUP(A3,Data!A:CN,12,FALSE) -> 0.96 | H31: Status | I31: =IF(OR(G31="NA",G31="**"),"NA",IF(G31<C31,"Not Met","Met")) -> Met
A32: Indicator 3A, HS Math
A33: Participation rate of children with IEPs in a High School setting for Math
A34: Target | B34: >= | C34: 0.95 | D34: State | E34: 0.9216 | F34: Score | G34: =+VLOOKUP(A3,Data!A:CN,13,FALSE) -> 0.9737 | H34: Status | I34: =IF(OR(G34="NA",G34="**"),"NA",IF(G34<C34,"Not Met","Met")) -> Met
A35: Indicator 3B, ELA 4th Grade
A36: Profiency rate of children with IEPs in a 4th grade setting against grade level academic standards for ELA
A37: Target | B37: >= | C37: 0.2091 | D37: State | E37: 0.2161 | F37: Score | G37: =+VLOOKUP(A3,Data!A:CN,14,FALSE) -> 0.0625 | H37: Status | I37: =IF(OR(G37="NA",G37="**"),"NA",IF(G37<C37,"Not Met","Met")) -> Not Met
A38: Indicator 3B, ELA 8th Grade
A39: Profiency rate of children with IEPs in an 8th grade setting against grade level academic standards for ELA
A40: Target | B40: >= | C40: 0.1154 | D40: State | E40: 0.126 | F40: Score | G40: =+VLOOKUP(A3,Data!A:CN,15,FALSE) -> 0 | H40: Status | I40: =IF(OR(G40="NA",G40="**"),"NA",IF(G40<C40,"Not Met","Met")) -> Not Met
A41: Indicator 3B, ELA HS
A42: Profiency rate of children with IEPs in a High School setting against grade level academic standards for ELA
A43: Target | B43: >= | C43: 0.4581 | D43: State | E43: 0.4848 | F43: Score | G43: =+VLOOKUP(A3,Data!A:CN,16,FALSE) -> 0.2581 | H43: Status | I43: =IF(OR(G43="NA",G43="**"),"NA",IF(G43<C43,"Not Met","Met")) -> Not Met
A44: Indicator 3B, Math 4th Grade
A45: Profiency rate of children with IEPs in a 4th grade setting against grade level academic standards for Math
A46: Target | B46: >= | C46: 0.1978 | D46: State | E46: 0.1831 | F46: Score | G46: =+VLOOKUP(A3,Data!A:CN,17,FALSE) -> 0.125 | H46: Status | I46: =IF(OR(G46="NA",G46="**"),"NA",IF(G46<C46,"Not Met","Met")) -> Not Met
A47: Indicator 3B, Math 8th Grade
A48: Profiency rate of children with IEPs in a 8th grade setting against grade level academic standards for Math
A49: Target | B49: >= | C49: 0.0778 | D49: State | E49: 0.0519 | F49: Score | G49: =+VLOOKUP(A3,Data!A:CN,18,FALSE) -> 0 | H49: Status | I49: =IF(OR(G49="NA",G49="**"),"NA",IF(G49<C49,"Not Met","Met")) -> Not Met
A50: Indicator 3B, Math HS
A51: Profiency rate of children with IEPs in High School setting against grade level academic standards for Math
A52: Target | B52: >= | C52: 0.2657 | D52: State | E52: 0.3264 | F52: Score | G52: =+VLOOKUP(A3,Data!A:CN,19,FALSE) -> 0.0938 | H52: Status | I52: =IF(OR(G52="NA",G52="**"),"NA",IF(G52<C52,"Not Met","Met")) -> Not Met
A53: Indicator 3C, ELA 4th Grade
A54: Profiency rate of children with IEPs in a 4th grade setting against alternate academic standards for ELA
A55: Target | B55: >= | C55: 0.5546 | D55: State | E55: 0.4135 | F55: Score | G55: =+VLOOKUP(A3,Data!A:CN,20,FALSE) -> 0 | H55: Status | I55: =IF(OR(G55="NA",G55="**"),"NA",IF(G55<C55,"Not Met","Met")) -> Not Met
A56: Indicator 3C, ELA 8th Grade
A57: Profiency rate of children with IEPs in an 8th grade setting against alternate academic standards for ELA
A58: Target | B58: >= | C58: 0.3826 | D58: State | E58: 0.3256 | F58: Score | G58: =+VLOOKUP(A3,Data!A:CN,21,FALSE) -> 0.5 | H58: Status | I58: =IF(OR(G58="NA",G58="**"),"NA",IF(G58<C58,"Not Met","Met")) -> Met
A59: Indicator 3C, ELA HS
A60: Profiency rate of children with IEPs in a High School setting against alternate academic standards for ELA
A61: Target | B61: >= | C61: 0.4953 | D61: State | E61: 0.4159 | F61: Score | G61: =+VLOOKUP(A3,Data!A:CN,22,FALSE) -> 0.8 | H61: Status | I61: =IF(OR(G61="NA",G61="**"),"NA",IF(G61<C61,"Not Met","Met")) -> Met
A62: Indicator 3C, Math 4th Grade
A63: Profiency rate of children with IEPs in a 4th grade setting against alternate academic standards for Math
A64: Target | B64: >= | C64: 0.437 | D64: State | E64: 0.3657 | F64: Score | G64: =+VLOOKUP(A3,Data!A:CN,23,FALSE) -> 0 | H64: Status | I64: =IF(OR(G64="NA",G64="**"),"NA",IF(G64<C64,"Not Met","Met")) -> Not Met
A65: Indicator 3C, Math 8th Grade
A66: Profiency rate of children with IEPs in a 8th grade setting against alternate academic standards for Math
A67: Target | B67: >= | C67: 0.3898 | D67: State | E67: 0.3803 | F67: Score | G67: =+VLOOKUP(A3,Data!A:CN,24,FALSE) -> 0 | H67: Status | I67: =IF(OR(G67="NA",G67="**"),"NA",IF(G67<C67,"Not Met","Met")) -> Not Met
A68: Indicator 3C, Math HS
A69: Profiency rate of children with IEPs in a High School setting against alternate academic standards for Math
A70: Target | B70: >= | C70: 0.4016 | D70: State | E70: 0.3454 | F70: Score | G70: =+VLOOKUP(A3,Data!A:CN,25,FALSE) -> 0.6 | H70: Status | I70: =IF(OR(G70="NA",G70="**"),"NA",IF(G70<C70,"Not Met","Met")) -> Met
A71: Indicator 3D, ELA 4th Grade
A72: Profiency rate gap of children with IEPs in a 4th grade setting against 2022-2023 grade level academic standards for ELA
A73: Target | B73: <= | C73: 0.2753 | D73: State | E73: 0.3552 | F73: Score | G73: =+VLOOKUP(A3,Data!A:CN,26,FALSE) -> 0.4255 | H73: Status | I73: =IF(OR(G73="NA",G73="**"),"NA",IF(G73>C73,"Not Met","Met")) -> Not Met
A74: Indicator 3D, ELA 8th Grade
A75: Profiency rate gap of children with IEPs in an 8th grade setting against 2022-2023 grade level academic standards for ELA
A76: Target | B76: <= | C76: 0.3281 | D76: State | E76: 0.4048 | F76: Score | G76: =+VLOOKUP(A3,Data!A:CN,27,FALSE) -> 0.4145 | H76: Status | I76: =IF(OR(G76="NA",G76="**"),"NA",IF(G76>C76,"Not Met","Met")) -> Not Met
A77: Indicator 3D, ELA HS
A78: Profiency rate gap of children with IEPs in a High School setting against 2022-2023 grade level academic standards for ELA
A79: Target | B79: <= | C79: 0.3568 | D79: State | E79: 0.3606 | F79: Score | G79: =+VLOOKUP(A3,Data!A:CN,28,FALSE) -> 0.5056 | H79: Status | I79: =IF(OR(G79="NA",G79="**"),"NA",IF(G79>C79,"Not Met","Met")) -> Not Met
A80: Indicator 3D, Math 4th Grade
A81: Profiency rate gap of children with IEPs in a 4th grade setting against 2022-2023 grade level academic standards for Math
A82: Target | B82: <= | C82: 0.2326 | D82: State | E82: 0.2868 | F82: Score | G82: =+VLOOKUP(A3,Data!A:CN,29,FALSE) -> 0.299 | H82: Status | I82: =IF(OR(G82="NA",G82="**"),"NA",IF(G82>C82,"Not Met","Met")) -> Not Met
A83: Indicator 3D, Math 8th Grade
A84: Profiency rate gap of children with IEPs in an 8th grade setting against 2022-2023 grade level academic standards for Math
A85: Target | B85: <= | C85: 0.2377 | D85: State | E85: 0.2643 | F85: Score | G85: =+VLOOKUP(A3,Data!A:CN,30,FALSE) -> 0.1589 | H85: Status | I85: =IF(OR(G85="NA",G85="**"),"NA",IF(G85>C85,"Not Met","Met")) -> Met
A86: Indicator 3D, Math HS
A87: Profiency rate gap of children with IEPs in High School setting against 2022-2023 grade level academic standards for Math
A88: Target | B88: <= | C88: 0.2468 | D88: State | E88: 0.2782 | F88: Score | G88: =+VLOOKUP(A3,Data!A:CN,31,FALSE) -> 0.2828 | H88: Status | I88: =IF(OR(G88="NA",G88="**"),"NA",IF(G88>C88,"Not Met","Met")) -> Not Met
A89: Indicator 4
A90: Indicator 4A: Suspensions
A91: Significant discrepancy in long-term expulsions of students with IEPs (Yes or No)
A92: Target | B92: = | C92: No | D92: State | E92: Yes | F92: Score | G92: =+VLOOKUP(A3,Data!A:CN,32,FALSE) -> No | H92: Status | I92: =IF(OR(G92="NA",G92="**"),"NA",IF(G92="No","Met",IF(G92="Yes","Not Met"))) -> Met
A93: Indicator 4B: Expulsions
A94: Significant discrepancy in long-term expulsions of students with IEPs by race/ethnicitiy (Yes or No)
A95: Target | B95: = | C95: No | D95: State | E95: Yes | F95: Score | G95: =+VLOOKUP(A3,Data!A:CN,33,FALSE) -> No | H95: Status | I95: =IF(OR(G95="NA",G95="**"),"NA",IF(G95="No","Met",IF(G95="Yes","Not Met"))) -> Met
A96: Indicator 5
A97: Indicator 5A: Least Restrictive Environment (LRE)
A98: Percent of children with IEPs inside the general education class 80% or more of the day
A99: Target | B99: >= | C99: 0.6418 | D99: State | E99: 0.6404 | F99: Score | G99: =+VLOOKUP(A3,Data!A:CN,34,FALSE) -> 0.4831 | H99: Status | I99: =IF(OR(G99="NA",G99="**"),"NA",IF(G99<C99,"Not Met","Met")) -> Not Met
A100: Indicator 5B: Least Restrictive Environment (LRE)
A101: Percent of children with IEPs inside the general education class less than 40% of the day
A102: Target | B102: <= | C102: 0.1406 | D102: State | E102: 0.1517 | F102: Score | G102: =+VLOOKUP(A3,Data!A:CN,35,FALSE) -> 0.152 | H102: Status | I102: =IF(OR(G102="NA",G102="**"),"NA",IF(G102>C102,"Not Met","Met")) -> Not Met
...

Sheet Determination
A1: 2022-2023 Special Education Determination
A3: Dorchester 4
A4: =VLOOKUP(A3,Data!A:CN,2,FALSE) -> 500 Ridge Street
A5: =VLOOKUP(A3,Data!A:CN,3,FALSE) -> St. George | C5: =VLOOKUP(A3,Data!A:CN,4,FALSE) -> SC | D5: =VLOOKUP(A3,Data!A:CN,5,FALSE) -> 29477
A7: Compliance and Performance
A8: Compliance Scoring
A9: Compliance Factor 1 - Data
A10: Score | B10: =VLOOKUP(A3,Data!A:CN,55,FALSE) -> 2 | C10: =IF(B10=0,"2 or more consecutive years of findings of non-compliance (current year and previous year(s))", IF(B10=1,"Findings of non-compliance in the current year", IF(B10=2,"No findings of non-compliance",""))) -> No findings of non-compliance
A11: Compliance Factor 2 - Finance
A12: Score | B12: =VLOOKUP(A3,Data!A:CN,56,FALSE) -> 2 | C12: =IF(B12=0,"2 or more consecutive years of findings of non-compliance (current year and previous year(s))", IF(B12=1,"Findings of non-compliance in the current year", IF(B12=2,"No findings of non-compliance",""))) -> No findings of non-compliance
A13: Compliance Factor 3 - Post-Secondary Planning and Services (Indicator 13)
A14: Score | B14: =VLOOKUP(A3,Data!A:CN,57,FALSE) -> 1 | C14: =IF(B14=0,"2 or more consecutive years of findings of non-compliance (current year and previous year(s))", IF(B14=1,"Findings of non-compliance in the current year", IF(B14=2,"No findings of non-compliance",""))) -> Findings of non-compliance in the current year
A15: Compliance Factor 4 - Timely Corrections of Non-Compliance
A16: Score | B16: =VLOOKUP(A3,Data!A:CN,58,FALSE) -> 2 | C16: =IF(B16=0,"Findings not corrected within 2 years", IF(B16=1,"Findings not corrected within 1 year", IF(B16=2,"No findings/All finding timely corrected",""))) -> No findings/All finding timely corrected
A17: Compliance Factor 5 - 60 Day Timeline (Indicator 11)
A18: Score | B18: =VLOOKUP(A3,Data!A:CN,59,FALSE) -> 2 | C18: =IF(B18=0,"2 or more consecutive years of findings of non-compliance (current year and previous year(s))", IF(B18=1,"Findings of non-compliance in the current year", IF(B18=2,"No findings of non-compliance",""))) -> No findings of non-compliance
A19: Compliance Factor 6 - C to B Transition (Indicator 12)
A20: Score | B20: =VLOOKUP(A3,Data!A:CN,60,FALSE) -> 2 | C20: =IF(B20=0,"2 or more consecutive years of findings of non-compliance (current year and previous year(s))", IF(B20=1,"Findings of non-compliance in the current year", IF(B20=2,"No findings of non-compliance",""))) -> No findings of non-compliance
A21: Compliance Factor 7 - SWD Suspension Rate > 10 Days by Race/Ethnicity (Indicator 4b)
A22: Score | B22: =VLOOKUP(A3,Data!A:CN,61,FALSE) -> 2 | C22: =IF(B22=0,"2 or more consecutive years of findings of non-compliance (current year and previous year(s))", IF(B22=1,"Findings of non-compliance in the current year", IF(B22=2,"No findings of non-compliance",""))) -> No findings of non-compliance
A23: Compliance Factor 8 - Disproportionate Representation (Indicator 9)
A24: Score | B24: =VLOOKUP(A3,Data!A:CN,62,FALSE) -> 2 | C24: =IF(B24=0,"2 or more consecutive years of findings of non-compliance (current year and previous year(s))", IF(B24=1,"Findings of non-compliance in the current year", IF(B24=2,"No findings of non-compliance",""))) -> No findings of non-compliance
A25: Compliance Factor 9 - Disproportionate Representation by Race/Ethnicity (Indicator 10)
A26: Score | B26: =VLOOKUP(A3,Data!A:CN,63,FALSE) -> 2 | C26: =IF(B26=0,"2 or more consecutive years of findings of non-compliance (current year and previous year(s))", IF(B26=1,"Findings of non-compliance in the current year", IF(B26=2,"No findings of non-compliance",""))) -> No findings of non-compliance
A27: Total | B27: =SUM(B10,B12,B14,B16,B18,B20,B22,B24,B26) -> 17
A28: Performance Scoring
A29: Performance Factor 1 - Graduation Rate
A30: Score | B30: =VLOOKUP(A3,Data!A:CN,64,FALSE) -> 2 | C30: =IF(B30=0,"Does not meet prior year’s state performance and did not improve", IF(B30=1,"Does not meet prior year’s state performance but improved since last year", IF(B30=2,"Meets or exceeds current year’s state performance", IF(B30=3,"Meets or exceeds current state target","")))) -> Meets or exceeds current year’s state performance
B32: >= Target | C32: 0.7
B33: State | C33: 0.5617
B34: LEA 21-22 | C34: =VLOOKUP(A3,Data!A:CN,65,FALSE) -> 0.7619
B35: LEA 22-23 | C35: =VLOOKUP(A3,Data!A:CN,66,FALSE) -> 0.5926
A37: Performance Factor 2 - ELA 4th Grade
A38: Score | B38: =VLOOKUP(A3,Data!A:CN,67,FALSE) -> 0 | C38: =IF(B38=0,"Does not meet prior year’s state performance and did not improve", IF(AND(B38>0,B38<=0.5),"Does not meet prior year’s state performance but improved since last year", IF(AND(B38>0.5,B38<=1),"Meets or exceeds current year’s state performance", IF(AND(B38>1,B38<=1.5),"Meets or exceeds current state target","")))) -> Does not meet prior year’s state performance and did not improve
B40: >= Target | C40: 0.25
B41: State | C41: 0.2271
B42: LEA 21-22 | C42: =VLOOKUP(A3,Data!A:CN,68,FALSE) -> 0.0909
B43: LEA 22-23 | C43: =VLOOKUP(A3,Data!A:CN,69,FALSE) -> 0.0588
A45: Performance Factor 3 - ELA 8th Grade
A46: Score | B46: =VLOOKUP(A3,Data!A:CN,70,FALSE) -> 0 | C46: =IF(B46=0,"Does not meet prior year’s state performance and did not improve", IF(AND(B46>0,B46<=0.5),"Does not meet prior year’s state performance but improved since last year", IF(AND(B46>0.5,B46<=1),"Meets or exceeds current year’s state performance", IF(AND(B46>1,B46<=1.5),"Meets or exceeds current state target","")))) -> Does not meet prior year’s state performance and did not improve
B48: >= Target | C48: 0.15
B49: State | C49: 0.1392
B50: LEA 21-22 | C50: =VLOOKUP(A3,Data!A:CN,71,FALSE) -> 0.1852
B51: LEA 22-23 | C51: =VLOOKUP(A3,Data!A:CN,72,FALSE) -> 0.04
A53: Performance Factor 4 - Math 4th Grade
A54: Score | B54: =VLOOKUP(A3,Data!A:CN,73,FALSE) -> 0.5 | C54: =IF(B54=0,"Does not meet prior year’s state performance and did not improve", IF(AND(B54>0,B54<=0.5),"Does not meet prior year’s state performance but improved since last year", IF(AND(B54>0.5,B54<=1),"Meets or exceeds current year’s state performance", IF(AND(B54>1,B54<=1.5),"Meets or exceeds current state target","")))) -> Does not meet prior year’s state performance but improved since last year
B56: >= Target | C56: 0.22
B57: State | C57: 0.1934
B58: LEA 21-22 | C58: =VLOOKUP(A3,Data!A:CN,74,FALSE) -> 0
B59: LEA 22-23 | C59: =VLOOKUP(A3,Data!A:CN,75,FALSE) -> 0.1176
A61: Performance Factor 5 - Math 8th Grade
A62: Score | B62: =VLOOKUP(A3,Data!A:CN,76,FALSE) -> 0 | C62: =IF(B62=0,"Does not meet prior year’s state performance and did not improve", IF(AND(B62>0,B62<=0.5),"Does not meet prior year’s state performance but improved since last year", IF(AND(B62>0.5,B62<=1),"Meets or exceeds current year’s state performance", IF(AND(B62>1,B62<=1.5),"Meets or exceeds current state target","")))) -> Does not meet prior year’s state performance and did not improve
B64: >= Target | C64: 0.1
B65: State | C65: 0.074
B66: LEA 21-22 | C66: =VLOOKUP(A3,Data!A:CN,77,FALSE) -> 0.1538
B67: LEA 22-23 | C67: =VLOOKUP(A3,Data!A:CN,78,FALSE) -> 0
A69: Performance Factor 6 - School Age LRE
A70: Score | B70: =VLOOKUP(A3,Data!A:CN,79,FALSE) -> 0 | C70: =IF(B70=0,"Does not meet prior year’s state performance and did not improve", IF(B70=1,"Does not meet prior year’s state performance but improved since last year", IF(B70=2,"Meets or exceeds current year’s state performance", IF(B70=3,"Meets or exceeds current state target","")))) -> Does not meet prior year’s state performance and did not improve
B72: >= Target | C72: 0.7
B73: State | C73: 0.6404
B74: LEA 21-22 | C74: =VLOOKUP(A3,Data!A:CN,80,FALSE) -> 0.5176
B75: LEA 22-23 | C75: =VLOOKUP(A3,Data!A:CN,81,FALSE) -> 0.4831
A77: Performance Factor 7 - Early Childhood
A78: Score | B78: =VLOOKUP(A3,Data!A:CN,82,FALSE) -> 3 | C78: =IF(B78=0,"Does not meet prior year’s state performance and did not improve", IF(B78=1,"Does not meet prior year’s state performance but improved since last year", IF(B78=2,"Meets or exceeds current year’s state performance", IF(B78=3,"Meets or exceeds current state target","")))) -> Meets or exceeds current state target
B80: >= Target | C80: 1
B81: State | C81: 1
B82: LEA 21-22 | C82: =VLOOKUP(A3,Data!A:CN,83,FALSE) -> 1
B83: LEA 22-23 | C83: =VLOOKUP(A3,Data!A:CN,84,FALSE) -> 1
A85: Performance Factor 8 - SWD Suspensions
A86: Score | B86: =VLOOKUP(A3,Data!A:CN,85,FALSE) -> 0 | C86: =IF(B86=0,"Does not meet prior year’s state performance and did not improve", IF(B86=1,"Does not meet prior year’s state performance but improved since last year", IF(B86=2,"Meets or exceeds current year’s state performance", IF(B86=3,"Meets or exceeds current state target","")))) -> Does not meet prior year’s state performance and did not improve
B88: <= Target | C88: 0.09
B89: State | C89: 0.1722
B90: LEA 21-22 | C90: =VLOOKUP(A3,Data!A:CN,86,FALSE) -> 0.108
B91: LEA 22-23 | C91: =VLOOKUP(A3,Data!A:CN,87,FALSE) -> 0.1911
A93: Performance Factor 9 - Career Readiness
A94: Score | B94: =VLOOKUP(A3,Data!A:CN,88,FALSE) -> 3 | C94: =IF(B94=0,"Does not meet prior year’s state performance and did not improve", IF(B94=1,"Does not meet prior year’s state performance but improved since last year", IF(B94=2,"Meets or exceeds current year’s state performance", IF(B94=3,"Meets or exceeds current state target","")))) -> Meets or exceeds current state target
B96: >= Target | C96: 0.35
B97: State | C97: 0.303
B98: LEA 21-22 | C98: =VLOOKUP(A3,Data!A:CN,89,FALSE) -> 0.382
B99: LEA 22-23 | C99: =VLOOKUP(A3,Data!A:CN,90,FALSE) -> 0.72
A101: Total | B101: =SUM(B30,B38,B46,B54,B62,B70,B78,B86,B94) -> 8.5
A102: Determination
A103: Compliance Score | B103: Performance Score | C103: Bonus and/or Indicator 14 | D103: Total Score | E103: Total Possible Score | F103: Total % | G103: Determination
A104: =B27 -> 17 | B104: =B101 -> 8.5 | C104: =VLOOKUP(A3,Data!A:CN,91,FALSE) + 1 -> 2 | D104: =SUM(A104:C104) -> 27.5 | E104: =VLOOKUP(A3,Data!A:CN,92,FALSE) -> 40 | F104: =D104/E104 -> 0.6875 | G104: =IF(F104>=0.8,"Meets Requirement", IF(F104>=0.6,"Needs Assistance", IF(F104>=0.3,"Needs Intervenion", IF(F104<0.3,"Needs Substantial Intervention","NA")))) -> Needs Assistance
A106: Notes
A107: NA - No students reported although possible, blanks, LEA excluded, no testing data available, or not possible/population not served

Sheet Data
A1: Districts | B1: Primary Mailing Address | C1: Primary City | D1: Primary State | E1: Primary Zip | F1: Indicator 1 | G1: Indicator 2 | H1: Indicator 3A - ELA 4GR | I1: Indicator 3A - ELA 8GR | J1: Indicator 3A - ELA HS | K1: Indicator 3A - Math 4GR | L1: Indicator 3A - Math 8GR | M1: Indicator 3A - Math HS | N1: Indicator 3B - ELA 4GR | O1: Indicator 3B - ELA 8GR | P1: Indicator 3B - ELA HS | Q1: Indicator 3B - Math 4GR | R1: Indicator 3B - Math 8GR | S1: Indicator 3B - Math HS | T1: Indicator 3C - ELA 4GR | U1: Indicator 3C - ELA 8GR | V1: Indicator 3C - ELA HS | W1: Indicator 3C - Math 4GR | X1: Indicator 3C - Math 8GR | Y1: Indicator 3C - Math HS | Z1: Indicator 3D - ELA 4GR | AA1: Indicator 3D - ELA 8GR | AB1: Indicator 3D - ELA HS | AC1: Indicator 3D - Math 4GR | AD1: Indicator 3D - Math 8GR | AE1: Indicator 3D - Math HS | AF1: Indicator 4A | AG1: Indicator 4B | AH1: Indicator 5A | AI1: Indicator 5B | AJ1: Indicator 5C | AK1: Indicator 6A | AL1: Indicator 6B | AM1: Indicator 6C | AN1: Indicator 7 A1 | AO1: Indicator 7 A2 | AP1: Indicator 7 B1 | AQ1: Indicator 7 B2 | AR1: Indicator 7 C1 | AS1: Indicator 7 C2 | AT1: Indicator 8 | AU1: Indicator 9 | AV1: Indicator 10 | AW1: Indicator 11 | AX1: Indicator 12 | AY1: Indicator 13 | AZ1: Indicator 14 A | BA1: Indicator 14 B | BB1: Indicator 14 C | BC1: CF1 | BD1: CF2 | BE1: CF3 | BF1: CF4 | BG1: CF5 | BH1: CF6 | BI1: CF7 | BJ1: CF8 | BK1: CF9 | BL1: PF1 | BM1: PF1 21-22 | BN1: PF1 22-23 | BO1: PF2 | BP1: PF2 21-22 | BQ1: PF2 22-23 | BR1: PF3 | BS1: PF3 21-22 | BT1: PF3 22-23 | BU1: PF4 | BV1: PF4 21-22 | BW1: PF4 22-23 | BX1: PF5 | BY1: PF5 21-22 | BZ1: PF5 22-23 | CA1: PF6 | CB1: PF6 21-22 | CC1: PF6 22-23 | CD1: PF7 | CE1: PF7 21-22 | CF1: PF7 22-23 | CG1: PF8 | CH1: PF8 21-22 | CI1: PF8 22-23 | CJ1: PF9 | CK1: PF9 7 21-22 | CL1: PF9 22-23 | CM1: Opt-In Bonus | CN1: Total Possible Score | CO1: Determinations
A2: aaaTarget | B2: 1919 Blanding St | C2: Columbia | D2: SC | E2: 29201 | F2: 0.6338 | G2: 0.2246 | H2: 0.95 | I2: 0.95 | J2: 0.95 | K2: 0.95 | L2: 0.95 | M2: 0.95 | N2: 0.2091 | O2: 0.1154 | P2: 0.4581 | Q2: 0.1978 | R2: 0.0778 | S2: 0.2657 | T2: 0.5546 | U2: 0.3826 | V2: 0.4953 | W2: 0.437 | X2: 0.3898 | Y2: 0.4016 | Z2: 0.2753 | AA2: 0.3281 | AB2: 0.3568 | AC2: 0.2326 | AD2: 0.2377 | AE2: 0.2468 | AF2: Yes | AG2: No | AH2: 0.6418 | AI2: 0.1406 | AJ2: 0.0117 | AK2: 0.3488 | AL2: 0.3085 | AM2: 0.0345 | AN2: 0.8698 | AO2: 0.6005 | AP2: 0.8595 | AQ2: 0.582 | AR2: 0.8914 | AS2: 0.746 | AT2: 0.86 | AU2: No | AV2: No | AW2: 1 | AX2: 1 | AY2: 1 | AZ2: 0.1156 | BA2: 0.4239 | BB2: 0.8546 | BC2: 2 | BD2: 2 | BE2: 2 | BF2: 2 | BG2: 2 | BH2: 2 | BI2: 2 | BJ2: 2 | BK2: 1 | BL2: 3 | BM2: NA | BN2: NA | BO2: 3 | BP2: NA | BQ2: NA | BR2: 3 | BS2: NA | BT2: NA | BU2: 3 | BV2: NA | BW2: NA | BX2: NA | BY2: NA | BZ2: NA | CA2: 3 | CB2: NA | CC2: NA | CD2: 3 | CE2: NA | CF2: NA | CG2: NA | CH2: NA | CI2: NA | CJ2: 3 | CK2: NA | CL2: NA | CM2: NA | CN2: 40 | CO2: NA
A3: aaState | B3: 1919 Blanding St | C3: Columbia | D3: SC | E3: 29201 | F3: 0.5555 | G3: 0.3149 | H3: 0.9916 | I3: 0.973 | J3: 0.9485 | K3: 0.9919 | L3: 0.975 | M3: 0.9216 | N3: 0.2161 | O3: 0.126 | P3: 0.4848 | Q3: 0.1831 | R3: 0.0519 | S3: 0.3264 | T3: 0.4135 | U3: 0.3256 | V3: 0.4159 | W3: 0.3657 | X3: 0.3803 | Y3: 0.3454 | Z3: 0.3552 | AA3: 0.4048 | AB3: 0.3606 | AC3: 0.2868 | AD3: 0.2643 | AE3: 0.2782 | AF3: Yes | AG3: Yes | AH3: 0.6404 | AI3: 0.1517 | AJ3: 0.0141 | AK3: 0.3218 | AL3: 0.4605 | AM3: 0.0104 | AN3: 0.8635 | AO3: 0.4642 | AP3: 0.847 | AQ3: 0.4967 | AR3: 0.8484 | AS3: 0.6007 | AT3: 0.9779 | AU3: No | AV3: Yes | AW3: 0.9938 | AX3: 0.9933 | AY3: 0.8119 | AZ3: 0.2096 | BA3: 0.68 | BB3: 0.7579 | BC3: 2 | BD3: 2 | BE3: 1 | BF3: 2 | BG3: 1 | BH3: 1 | BI3: 1 | BJ3: 2 | BK3: 1 | BL3: 2 | BM3: 0.5555 | BN3: 0.5617 | BO3: 1 | BP3: 0.1931 | BQ3: 0.2271 | BR3: 1 | BS3: 0.0961 | BT3: 0.1392 | BU3: 1 | BV3: 0.1836 | BW3: 0.1934 | BX3: 1 | BY3: 0.0656 | BZ3: 0.074 | CA3: 2 | CB3: 0.6407 | CC3: 0.6404 | CD3: 3 | CE3: 1 | CF3: 1 | CG3: 2 | CH3: 0.156 | CI3: 0.1722 | CJ3: 2 | CK3: 0.296 | CL3: 0.303 | CM3: 1 | CN3: 40 | CO3: Needs Assistance
A4: Abbeville | B4: 400 Greenville St | C4: Abbeville | D4: SC | E4: 29620 | F4: 0.7083 | G4: 0.2917 | H4: 1 | I4: 1 | J4: 1 | K4: 1 | L4: 1 | M4: 0.9667 | N4: 0.2941 | O4: 0.2 | P4: 0.5455 | Q4: 0.2286 | R4: 0.25 | S4: 0.75 | T4: 1 | U4: 0.6667 | V4: 0.5 | W4: 0 | X4: 0.3333 | Y4: 0.4 | Z4: 0.3298 | AA4: 0.3701 | AB4: 0.3424 | AC4: 0.3265 | AD4: 0.2313 | AE4: -0.0304 | AF4: No | AG4: No | AH4: 0.619 | AI4: 0.084 | AJ4: 0.0056 | AK4: 0.3889 | AL4: 0.3333 | AM4: 0 | AN4: 1 | AO4: 0.4545 | AP4: 1 | AQ4: 0.1818 | AR4: 1 | AS4: 0.4545 | AT4: 1 | AU4: No | AV4: No | AW4: 1 | AX4: 0.9091 | AY4: 1 | AZ4: 0.2667 | BA4: 0.5333 | BB4: 0.6 | BC4: 2 | BD4: 2 | BE4: 2 | BF4: 2 | BG4: 2 | BH4: 1 | BI4: 2 | BJ4: 2 | BK4: 2 | BL4: 3 | BM4: 0.7083 | BN4: 0.76 | BO4: 1.5 | BP4: 0.4242 | BQ4: 0.3143 | BR4: 1.5 | BS4: 0.0769 | BT4: 0.2609 | BU4: 1.5 | BV4: 0.3636 | BW4: 0.2222 | BX4: 1.5 | BY4: 0.2692 | BZ4: 0.2609 | CA4: 0 | CB4: 0.6483 | CC4: 0.619 | CD4: 3 | CE4: 1 | CF4: 1 | CG4: 2 | CH4: 0.1392 | CI4: 0.128 | CJ4: 2 | CK4: 0.238 | CL4: 0.346 | CM4: 1 | CN4: 40 | CO4: Meets Requirement
A5: Aiken | B5: 1000 Brookhaven Drive | C5: Aiken | D5: SC | E5: 29803 | F5: 0.0952 | G5: 0.8651 | H5: 1 | I5: 0.9644 | J5: 0.8905 | K5: 1 | L5: 0.9689 | M5: 0.7843 | N5: 0.1295 | O5: 0.0891 | P5: 0.4624 | Q5: 0.1244 | R5: 0.0246 | S5: 0.1892 | T5: 0.3182 | U5: 0.1333 | V5: 0.3571 | W5: 0.3182 | X5: 0.3333 | Y5: 0.2222 | Z5: 0.4082 | AA5: 0.4115 | AB5: 0.4011 | AC5: 0.2824 | AD5: 0.2232 | AE5: 0.3273 | AF5: No | AG5: No | AH5: 0.67 | AI5: 0.1237 | AJ5: 0.0106 | AK5: 0.405 | AL5: 0.438 | AM5: 0 | AN5: 0.7531 | AO5: 0.4333 | AP5: 0.6951 | AQ5: 0.3889 | AR5: 0.7647 | AS5: 0.5667 | AT5: 0.913 | AU5: No | AV5: No | AW5: 0.9978 | AX5: 1 | AY5: 1 | AZ5: 0.1772 | BA5: 0.6835 | BB5: 0.7595 | BC5: 2 | BD5: 2 | BE5: 2 | BF5: 2 | BG5: 1 | BH5: 2 | BI5: 2 | BJ5: 2 | BK5: 2 | BL5: 1 | BM5: 0.0952 | BN5: 0.3651 | BO5: 0.5 | BP5: 0.125 | BQ5: 0.1488 | BR5: 0.5 | BS5: 0.0714 | BT5: 0.0922 | BU5: 0.5 | BV5: 0.1364 | BW5: 0.1442 | BX5: 0 | BY5: 0.0586 | BZ5: 0.0459 | CA5: 2 | CB5: 0.6919 | CC5: 0.67 | CD5: 3 | CE5: 1 | CF5: 1 | CG5: 3 | CH5: 0.1224 | CI5: 0.0799 | CJ5: 1 | CK5: 0.252 | CL5: 0.261 | CM5: 1 | CN5: 40 | CO5: Needs Assistance
A6: Allendale | B6: P.O. Box 458 | C6: Allendale | D6: SC | E6: 29810 | F6: 0.2 | G6: 0.6 | H6: 1 | I6: 1 | J6: 0.9 | K6: 1 | L6: 1 | M6: 1 | N6: 0 | O6: 0.25 | P6: 0.1111 | Q6: 0 | R6: 0 | S6: 0.4444 | T6: 0 | U6: 0 | V6: 0 | W6: 0 | X6: 0 | Y6: 0 | Z6: 0.3485 | AA6: 0.121 | AB6: 0.5272 | AC6: 0.3182 | AD6: 0.129 | AE6: 0.0084 | AF6: No | AG6: No | AH6: 0.6136 | AI6: 0.0227 | AJ6: 0 | AK6: 0.4286 | AL6: 0 | AM6: 0 | AN6: 0.75 | AO6: 0.5 | AP6: 0.75 | AQ6: 0.5 | AR6: 1 | AS6: 1 | AT6: NA | AU6: No | AV6: No | AW6: 1 | AX6: 1 | AY6: 1 | AZ6: 0 | BA6: 1 | BB6: 1 | BC6: 2 | BD6: 2 | BE6: 2 | BF6: 2 | BG6: 2 | BH6: 2 | BI6: 2 | BJ6: 2 | BK6: 2 | BL6: 2 | BM6: 0.2 | BN6: 0.6364 | BO6: 0 | BP6: 0 | BQ6: 0 | BR6: 1.5 | BS6: 0.1667 | BT6: 0.25 | BU6: 0 | BV6: 0 | BW6: 0 | BX6: 0 | BY6: 0 | BZ6: 0 | CA6: 0 | CB6: 0.6632 | CC6: 0.6136 | CD6: 3 | CE6: 1 | CF6: 1 | CG6: 0 | CH6: 0.29 | CI6: 0.3579 | CJ6: 1 | CK6: 0.2 | CL6: 0.273 | CM6: 1 | CN6: 40 | CO6: Needs Assistance
A7: Anderson 1 | B7: P.O. Box 99 | C7: Williamston | D7: SC | E7: 29697 | F7: 0.6559 | G7: 0.1183 | H7: 0.9744 | I7: 1 | J7: 0.9832 | K7: 0.9744 | L7: 1 | M7: 0.9746 | N7: 0.4173 | O7: 0.2403 | P7: 0.6364 | Q7: 0.3885 | R7: 0.124 | S7: 0.3333 | T7: 0.4615 | U7: 0.5 | V7: 0.4286 | W7: 0.3077 | X7: 0.3333 | Y7: 0.5714 | Z7: 0.3456 | AA7: 0.4426 | AB7: 0.2679 | AC7: 0.3201 | AD7: 0.3667 | AE7: 0.3327 | AF7: No | AG7: No | AH7: 0.6885 | AI7: 0.2106 | AJ7: 0.0112 | AK7: 0.3117 | AL7: 0.6883 | AM7: 0 | AN7: 0.9444 | AO7: 0.4211 | AP7: 0.9355 | AQ7: 0.4211 | AR7: 0.7308 | AS7: 0.6053 | AT7: 0.9362 | AU7: No | AV7: No | AW7: 1 | AX7: 1 | AY7: 1 | AZ7: 0.3529 | BA7: 0.7059 | BB7: 0.8235 | BC7: 2 | BD7: 2 | BE7: 2 | BF7: 2 | BG7: 2 | BH7: 2 | BI7: 2 | BJ7: 2 | BK7: 2 | BL7: 3 | BM7: 0.6559 | BN7: 0.7011 | BO7: 1.5 | BP7: 0.3403 | BQ7: 0.4211 | BR7: 1.5 | BS7: 0.1385 | BT7: 0.2624 | BU7: 1.5 | BV7: 0.3958 | BW7: 0.3816 | BX7: 1.5 | BY7: 0.1308 | BZ7: 0.1418 | CA7: 2 | CB7: 0.6969 | CC7: 0.6885 | CD7: 3 | CE7: 1 | CF7: 1 | CG7: 2 | CH7: 0.0867 | CI7: 0.104 | CJ7: 3 | CK7: 0.529 | CL7: 0.447 | CM7: 0 | CN7: 40 | CO7: Meets Requirement
A8: Anderson 2 | B8: 10990 Belton-Honea Path Highway | C8: Honea Path | D8: SC | E8: 29654 | F8: 0.5909 | G8: 0.4091 | H8: 1 | I8: 0.9737 | J8: 0.9487 | K8: 1 | L8: 0.9737 | M8: 0.9677 | N8: 0.3585 | O8: 0.25 | P8: 0.4848 | Q8: 0.3585 | R8: 0.0938 | S8: 0.5714 | T8: 0 | U8: 0.4 | V8: 0.75 | W8: 0 | X8: 1 | Y8: 1 | Z8: 0.296 | AA8: 0.3763 | AB8: 0.4159 | AC8: 0.2497 | AD8: 0.2093 | AE8: 0.1999 | AF8: No | AG8: No | AH8: 0.7735 | AI8: 0.1097 | AJ8: 0.0071 | AK8: 0.2222 | AL8: 0.7222 | AM8: 0 | AN8: 0.9545 | AO8: 0.5833 | AP8: 0.95 | AQ8: 0.6667 | AR8: 1 | AS8: 0.8333 | AT8: 1 | AU8: No | AV8: No | AW8: 0.9896 | AX8: 0.8889 | AY8: 0.6429 | AZ8: 0.1667 | BA8: 0.8333 | BB8: 0.9444 | BC8: 2 | BD8: 2 | BE8: 1 | BF8: 2 | BG8: 1 | BH8: 1 | BI8: 2 | BJ8: 2 | BK8: 2 | BL8: 2 | BM8: 0.5909 | BN8: 0.6563 | BO8: 1.5 | BP8: 0.3871 | BQ8: 0.3393 | BR8: 1.5 | BS8: 0.1212 | BT8: 0.2703 | BU8: 1.5 | BV8: 0.3226 | BW8: 0.3393 | BX8: 1.5 | BY8: 0.1515 | BZ8: 0.2162 | CA8: 3 | CB8: 0.7768 | CC8: 0.7735 | CD8: 3 | CE8: 1 | CF8: 1 | CG8: 2 | CH8: 0.1281 | CI8: 0.1544 | CJ8: 3 | CK8: 0.385 | CL8: 0.39 | CM8: 1 | CN8: 40 | CO8: Meets Requirement
A9: Anderson 3 | B9: P.O. Box 118 | C9: Iva | D9: SC | E9: 29655 | F9: 0.5385 | G9: 0.1538 | H9: 1 | I9: 1 | J9: 1 | K9: 1 | L9: 1 | M9: 1 | N9: 0.2222 | O9: 0.069 | P9: 0.5 | Q9: 0.3333 | R9: 0 | S9: 0.3103 | T9: 0 | U9: 0.3333 | V9: 0.5 | W9: 0 | X9: 0 | Y9: 0 | Z9: 0.5083 | AA9: 0.51 | AB9: 0.3732 | AC9: 0.3506 | AD9: 0.3421 | AE9: 0.3378 | AF9: No | AG9: No | AH9: 0.713 | AI9: 0.2348 | AJ9: 0.0029 | AK9: 0.5 | AL9: 0.25 | AM9: 0.25 | AN9: 0.875 | AO9: 0.7 | AP9: 0.5556 | AQ9: 0.6 | AR9: 0.8333 | AS9: 0.8 | AT9: 1 | AU9: No | AV9: No | AW9: 0.9878 | AX9: 1 | AY9: 1 | AZ9: 0.1667 | BA9: 0.3333 | BB9: 0.3333 | BC9: 2 | BD9: 2 | BE9: 2 | BF9: 2 | BG9: 1 | BH9: 2 | BI9: 2 | BJ9: 2 | BK9: 2 | BL9: 2 | BM9: 0.5385 | BN9: 0.6667 | BO9: 0 | BP9: 0.3448 | BQ9: 0.2222 | BR9: 0 | BS9: 0.0938 | BT9: 0.0938 | BU9: 1.5 | BV9: 0.3448 | BW9: 0.3333 | BX9: 0 | BY9: 0.0938 | BZ9: 0 | CA9: 3 | CB9: 0.719 | CC9: 0.713 | CD9: 3 | CE9: 1 | CF9: 1 | CG9: 2 | CH9: 0.1568 | CI9: 0.1425 | CJ9: 0 | CK9: 0.5 | CL9: 0.28 | CM9: 1 | CN9: 40 | CO9: Needs Assistance
A10: Anderson 4 | B10: P.O. Box 545 | C10: Pendleton | D10: SC | E10: 29670 | F10: 0.6364 | G10: 0.303 | H10: 1 | I10: 1 | J10: 1 | K10: 1 | L10: 1 | M10: 0.9474 | N10: 0.3778 | O10: 0.2353 | P10: 0.7 | Q10: 0.3333 | R10: 0.1765 | S10: 0.6875 | T10: 0.875 | U10: 0.75 | V10: 0 | W10: 0.875 | X10: 0.75 | Y10: 1 | Z10: 0.3604 | AA10: 0.4197 | AB10: 0.2395 | AC10: 0.2933 | AD10: 0.2709 | AE10: 0.1634 | AF10: No | AG10: No | AH10: 0.7751 | AI10: 0.1359 | AJ10: 0.0067 | AK10: 0.2759 | AL10: 0.3448 | AM10: 0.069 | AN10: 0.9 | AO10: 0.6923 | AP10: 0.8125 | AQ10: 0.6538 | AR10: 0.8824 | AS10: 0.7692 | AT10: 1 | AU10: No | AV10: No | AW10: 1 | AX10: 1 | AY10: 1 | AZ10: 0.25 | BA10: 0.75 | BB10: 0.875 | BC10: 2 | BD10: 2 | BE10: 2 | BF10: 2 | BG10: 2 | BH10: 2 | BI10: 2 | BJ10: 2 | BK10: 2 | BL10: 2 | BM10: 0.6364 | BN10: 0.6087 | BO10: 1.5 | BP10: 0.2647 | BQ10: 0.4528 | BR10: 1.5 | BS10: 0.1071 | BT10: 0.2895 | BU10: 1.5 | BV10: 0.2059 | BW10: 0.4151 | BX10: 1.5 | BY10: 0.0357 | BZ10: 0.2368 | CA10: 3 | CB10: 0.7571 | CC10: 0.7751 | CD10: 3 | CE10: 1 | CF10: 1 | CG10: 3 | CH10: 0.0475 | CI10: 0.0565 | CJ10: 0 | CK10: 0.323 | CL10: 0.16 | CM10: 0 | CN10: 40 | CO10: Meets Requirement
A11: Anderson 5 | B11: 400 Pearman Dairy Road | C11: Anderson | D11: SC | E11: 29625 | F11: 0.4554 | G11: 0.375 | H11: 0.9834 | I11: 0.9412 | J11: 0.9746 | K11: 0.9834 | L11: 0.9412 | M11: 0.9833 | N11: 0.2455 | O11: 0.1017 | P11: 0.4775 | Q11: 0.1976 | R11: 0.0424 | S11: 0.3894 | T11: 0.1818 | U11: 0.3 | V11: 0.5 | W11: 0.5455 | X11: 0.6 | Y11: 0.4 | Z11: 0.3452 | AA11: 0.4848 | AB11: 0.3393 | AC11: 0.288 | AD11: 0.3616 | AE11: 0.256 | AF11: No | AG11: No | AH11: 0.7111 | AI11: 0.1801 | AJ11: 0.0052 | AK11: 0.2979 | AL11: 0.6383 | AM11: 0 | AN11: 0.8913 | AO11: 0.6308 | AP11: 0.8679 | AQ11: 0.5846 | AR11: 0.8333 | AS11: 0.6615 | AT11: 0.9286 | AU11: No | AV11: No | AW11: 0.9966 | AX11: 1 | AY11: 1 | AZ11: 0.1538 | BA11: 0.6154 | BB11: 0.6923 | BC11: 2 | BD11: 2 | BE11: 2 | BF11: 2 | BG11: 1 | BH11: 2 | BI11: 2 | BJ11: 2 | BK11: 2 | BL11: 1 | BM11: 0.4554 | BN11: 0.4587 | BO11: 1 | BP11: 0.2444 | BQ11: 0.2416 | BR11: 0.5 | BS11: 0.0696 | BT11: 0.1172 | BU11: 1 | BV11: 0.2111 | BW11: 0.2191 | BX11: 1 | BY11: 0.0696 | BZ11: 0.0859 | CA11: 3 | CB11: 0.7124 | CC11: 0.7111 | CD11: 3 | CE11: 1 | CF11: 1 | CG11: 2 | CH11: 0.146 | CI11: 0.134 | CJ11: 1 | CK11: 0.232 | CL11: 0.279 | CM11: 1 | CN11: 40 | CO11: Meets Requirement
A12: Bamberg | B12: 62 S Holly Avenue | C12: Denmark | D12: SC | E12: 29042 | F12: 0.4444 | G12: 0.1667 | H12: 1 | I12: 0.9286 | J12: 0.9091 | K12: 1 | L12: 1 | M12: 0.8636 | N12: 0.0588 | O12: 0 | P12: 0.1053 | Q12: 0.0588 | R12: 0 | S12: 0.1111 | T12: 0.3333 | U12: 0 | V12: 0 | W12: 0 | X12: 0 | Y12: 0 | Z12: 0.3305 | AA12: 0.4242 | AB12: 0.609 | AC12: 0.216 | AD12: 0.3358 | AE12: 0.6086 | AF12: No | AG12: No | AH12: 0.5437 | AI12: 0.0777 | AJ12: 0.0097 | AK12: 0 | AL12: 0.6667 | AM12: 0.1667 | AN12: 1 | AO12: 1 | AP12: 1 | AQ12: 1 | AR12: 1 | AS12: 1 | AT12: 1 | AU12: No | AV12: No | AW12: 1 | AX12: 1 | AY12: 1 | AZ12: 0.0667 | BA12: 0.5333 | BB12: 0.6 | BC12: 2 | BD12: 2 | BE12: 2 | BF12: 2 | BG12: 2 | BH12: 2 | BI12: 2 | BJ12: 2 | BK12: 2 | BL12: 1 | BM12: 0.4444 | BN12: 0.5455 | BO12: 0.5 | BP12: NA | BQ12: 0.1 | BR12: 0 | BS12: NA | BT12: 0 | BU12: 0.5 | BV12: NA | BW12: 0.05 | BX12: 0 | BY12: NA | BZ12: 0 | CA12: 0 | CB12: 0.5494 | CC12: 0.5437 | CD12: 3 | CE12: 1 | CF12: 1 | CG12: 2 | CH12: 0.1646 | CI12: 0.1698 | CJ12: 1 | CK12: 0.1665 | CL12: 0.176 | CM12: 1 | CN12: 40 | CO12: Needs Assistance
A13: Barnwell 45 | B13: 770 Hagood Avenue | C13: Barnwell | D13: SC | E13: 29812 | F13: 0.6875 | G13: 0.1875 | H13: 1 | I13: 0.6452 | J13: 0.95 | K13: 1 | L13: 0.7419 | M13: 1 | N13: 0.1 | O13: 0.2105 | P13: 0.2632 | Q13: 0.35 | R13: 0.0526 | S13: 0.1765 | T13: 0 | U13: 1 | V13: 0 | W13: 0 | X13: 0.25 | Y13: 0 | Z13: 0.2778 | AA13: 0.2895 | AB13: 0.4436 | AC13: 0.0352 | AD13: 0.1858 | AE13: 0.4511 | AF13: No | AG13: No | AH13: 0.67 | AI13: 0.23 | AJ13: 0 | AK13: 0.7333 | AL13: 0.2 | AM13: 0 | AN13: 1 | AO13: 0.4167 | AP13: 1 | AQ13: 0.4167 | AR13: 1 | AS13: 0.4167 | AT13: 1 | AU13: No | AV13: No | AW13: 1 | AX13: 1 | AY13: 1 | AZ13: 0.0952 | BA13: 0.619 | BB13: 0.619 | BC13: 2 | BD13: 2 | BE13: 2 | BF13: 2 | BG13: 2 | BH13: 2 | BI13: 2 | BJ13: 2 | BK13: 2 | BL13: 0 | BM13: 0.6875 | BN13: 0.5 | BO13: 0 | BP13: 0.1351 | BQ13: 0.0909 | BR13: 1.5 | BS13: 0.2308 | BT13: 0.25 | BU13: 1.5 | BV13: 0.1892 | BW13: 0.3182 | BX13: 1 | BY13: 0.087 | BZ13: 0.087 | CA13: 2 | CB13: 0.6364 | CC13: 0.67 | CD13: 3 | CE13: 1 | CF13: 1 | CG13: 0 | CH13: 0.1508 | CI13: 0.1841 | CJ13: 2 | CK13: 0.276 | CL13: 0.333 | CM13: 1 | CN13: 40 | CO13: Needs Assistance
A14: Barnwell 48 | B14: 12255 Main Street | C14: Williston | D14: SC | E14: 29853 | F14: 0.4 | G14: 0.6 | H14: 1 | I14: 1 | J14: 1 | K14: 1 | L14: 1 | M14: 1 | N14: 0.1667 | O14: 0 | P14: 0.2143 | Q14: 0 | R14: 0.0667 | S14: 0.2083 | T14: 0 | U14: 0 | V14: 0 | W14: 0 | X14: 0 | Y14: 0 | Z14: 0.2471 | AA14: 0.3535 | AB14: 0.5457 | AC14: 0.3563 | AD14: 0.1253 | AE14: 0.0893 | AF14: No | AG14: No | AH14: 0.8 | AI14: 0.0941 | AJ14: 0.0176 | AK14: 0.75 | AL14: 0.25 | AM14: 0 | AN14: 0.6667 | AO14: 0.7143 | AP14: 0.5 | AQ14: 0.5714 | AR14: 0.8 | AS14: 0.5714 | AT14: NA | AU14: No | AV14: No | AW14: 1 | AX14: 1 | AY14: 1 | AZ14: 0 | BA14: 0.25 | BB14: 0.75 | BC14: 2 | BD14: 2 | BE14: 2 | BF14: 2 | BG14: 2 | BH14: 2 | BI14: 2 | BJ14: 2 | BK14: 2 | BL14: 2 | BM14: 0.4 | BN14: 0.5714 | BO14: 0.5 | BP14: NA | BQ14: 0.1667 | BR14: 0 | BS14: NA | BT14: 0 | BU14: 0 | BV14: NA | BW14: 0 | BX14: 0.5 | BY14: NA | BZ14: 0.0667 | CA14: 3 | CB14: 0.8428 | CC14: 0.8 | CD14: 3 | CE14: 1 | CF14: 1 | CG14: 1 | CH14: 0.2683 | CI14: 0.2416 | CJ14: 3 | CK14: 0.6 | CL14: 0.353 | CM14: 1 | CN14: 40 | CO14: Meets Requirement
A15: Beaufort | B15: P.O. Drawer 309 | C15: Beaufort | D15: SC | E15: 29901 | F15: 0.7522 | G15: 0.1504 | H15: 0.9906 | I15: 0.9648 | J15: 0.9362 | K15: 0.9906 | L15: 0.9849 | M15: 0.9368 | N15: 0.1465 | O15: 0.0862 | P15: 0.5 | Q15: 0.1313 | R15: 0.0227 | S15: 0.2867 | T15: 0.5 | U15: 0.3889 | V15: 0.5 | W15: 0.5833 | X15: 0.35 | Y15: 0.35 | Z15: 0.4098 | AA15: 0.4215 | AB15: 0.3613 | AC15: 0.3363 | AD15: 0.2605 | AE15: 0.3759 | AF15: No | AG15: No | AH15: 0.621 | AI15: 0.1741 | AJ15: 0.0063 | AK15: 0.3286 | AL15: 0.5143 | AM15: 0 | AN15: 0.8585 | AO15: 0.5362 | AP15: 0.8627 | AQ15: 0.5915 | AR15: 0.8231 | AS15: 0.7489 | AT15: 1 | AU15: No | AV15: No | AW15: 1 | AX15: 1 | AY15: 1 | AZ15: 0.2692 | BA15: 0.7308 | BB15: 0.8654 | BC15: 2 | BD15: 2 | BE15: 2 | BF15: 2 | BG15: 2 | BH15: 2 | BI15: 2 | BJ15: 2 | BK15: 2 | BL15: 2 | BM15: 0.7522 | BN15: 0.6491 | BO15: 0 | BP15: 0.21 | BQ15: 0.1667 | BR15: 0.5 | BS15: 0.1077 | BT15: 0.1146 | BU15: 0 | BV15: 0.2443 | BW15: 0.1571 | BX15: 0 | BY15: 0.0872 | BZ15: 0.0561 | CA15: 0 | CB15: 0.6378 | CC15: 0.621 | CD15: 3 | CE15: 1 | CF15: 1 | CG15: 2 | CH15: 0.1603 | CI15: 0.1346 | CJ15: 3 | CK15: 0.395 | CL15: 0.396 | CM15: 1 | CN15: 40 | CO15: Needs Assistance
A16: Berkeley | B16: P.O. Box 608 | C16: Monks Corner | D16: SC | E16: 29461 | F16: 0.5348 | G16: 0.2184 | H16: 0.9957 | I16: 0.9794 | J16: 0.9687 | K16: 0.9914 | L16: 0.9748 | M16: 0.9495 | N16: 0.1694 | O16: 0.1276 | P16: 0.5372 | Q16: 0.1166 | R16: 0.0256 | S16: 0.2857 | T16: 0.4412 | U16: 0.3714 | V16: 0.5484 | W16: 0.3824 | X16: 0.2857 | Y16: 0.3871 | Z16: 0.37 | AA16: 0.3671 | AB16: 0.3054 | AC16: 0.2626 | AD16: 0.1889 | AE16: 0.2372 | AF16: No | AG16: No | AH16: 0.4987 | AI16: 0.1706 | AJ16: 0.0071 | AK16: 0.1579 | AL16: 0.7416 | AM16: 0.0024 | AN16: 0.95 | AO16: 0.4488 | AP16: 0.9459 | AQ16: 0.4921 | AR16: 0.9461 | AS16: 0.5945 | AT16: 0.973 | AU16: No | AV16: No | AW16: 0.9964 | AX16: 1 | AY16: 1 | AZ16: 0.1769 | BA16: 0.6308 | BB16: 0.7154 | BC16: 2 | BD16: 2 | BE16: 2 | BF16: 2 | BG16: 1 | BH16: 2 | BI16: 2 | BJ16: 2 | BK16: 2 | BL16: 2 | BM16: 0.5348 | BN16: 0.5749 | BO16: 0.5 | BP16: 0.1655 | BQ16: 0.1892 | BR16: 1 | BS16: 0.133 | BT16: 0.1475 | BU16: 0 | BV16: 0.1362 | BW16: 0.1361 | BX16: 0 | BY16: 0.0718 | BZ16: 0.0471 | CA16: 1 | CB16: 0.4726 | CC16: 0.4987 | CD16: 3 | CE16: 1 | CF16: 1 | CG16: 2 | CH16: 0.163 | CI16: 0.163 | CJ16: 0 | CK16: 0.137 | CL16: 0.123 | CM16: 0 | CN16: 40 | CO16: Needs Assistance
A17: Calhoun | B17: P.O. Box 215 | C17: St. Matthews | D17: SC | E17: 29135 | F17: 0.6667 | G17: 0 | H17: 1 | I17: 1 | J17: 1 | K17: 1 | L17: 1 | M17: 0.9091 | N17: 0.1667 | O17: 0 | P17: 0.2632 | Q17: 0 | R17: 0 | S17: 0.15 | T17: 0 | U17: 0.5 | V17: 0 | W17: 0 | X17: 1 | Y17: 0 | Z17: 0.3091 | AA17: 0.3659 | AB17: 0.4067 | AC17: 0.2816 | AD17: 0.2439 | AE17: 0.5106 | AF17: No | AG17: Yes | AH17: 0.3827 | AI17: 0.2593 | AJ17: 0.0123 | AK17: 0.6 | AL17: 0.1 | AM17: 0 | AN17: 1 | AO17: 0.8 | AP17: 0.8 | AQ17: 0.7 | AR17: 0.6667 | AS17: 0.8 | AT17: 0.5 | AU17: No | AV17: No | AW17: 1 | AX17: 1 | AY17: 1 | AZ17: 0 | BA17: 0.6667 | BB17: 0.6667 | BC17: 2 | BD17: 2 | BE17: 2 | BF17: 2 | BG17: 2 | BH17: 2 | BI17: 1 | BJ17: 2 | BK17: 2 | BL17: 0 | BM17: 0.6667 | BN17: 0.3 | BO17: 0.5 | BP17: 0.0833 | BQ17: 0.1579 | BR17: 0.5 | BS17: 0.0455 | BT17: 0.0476 | BU17: 0 | BV17: 0.0417 | BW17: 0 | BX17: 1 | BY17: 0.0909 | BZ17: 0.0952 | CA17: 0 | CB17: 0.4043 | CC17: 0.3827 | CD17: 3 | CE17: 1 | CF17: 1 | CG17: 0 | CH17: 0.1583 | CI17: 0.2134 | CJ17: 0 | CK17: 0.333 | CL17: 0.167 | CM17: 1 | CN17: 40 | CO17: Needs Assistance
A18: Charleston | B18: 75 Calhoun Street | C18: Charleston | D18: SC | E18: 29401 | F18: 0.3836 | G18: 0.5205 | H18: 0.9913 | I18: 0.963 | J18: 0.951 | K18: 0.9935 | L18: 0.9585 | M18: 0.925 | N18: 0.234 | O18: 0.1508 | P18: 0.4157 | Q18: 0.1797 | R18: 0.068 | S18: 0.3861 | T18: 0.4 | U18: 0.3158 | V18: 0.36 | W18: 0.2778 | X18: 0.2632 | Y18: 0.2353 | Z18: 0.3968 | AA18: 0.4351 | AB18: 0.4379 | AC18: 0.3617 | AD18: 0.3344 | AE18: 0.3211 | AF18: No | AG18: No | AH18: 0.6668 | AI18: 0.0923 | AJ18: 0.0149 | AK18: 0.3077 | AL18: 0.4888 | AM18: 0.005 | AN18: 0.9495 | AO18: 0.4484 | AP18: 0.8851 | AQ18: 0.529 | AR18: 0.8967 | AS18: 0.671 | AT18: 0.9474 | AU18: No | AV18: Yes | AW18: 0.9992 | AX18: 1 | AY18: 1 | AZ18: 0.3514 | BA18: 0.6892 | BB18: 0.7297 | BC18: 2 | BD18: 2 | BE18: 2 | BF18: 2 | BG18: 1 | BH18: 2 | BI18: 2 | BJ18: 2 | BK18: 1 | BL18: 2 | BM18: 0.3836 | BN18: 0.6745 | BO18: 1 | BP18: 0.1584 | BQ18: 0.2467 | BR18: 1.5 | BS18: 0.0893 | BT18: 0.1583 | BU18: 0.5 | BV18: 0.1631 | BW18: 0.1874 | BX18: 1 | BY18: 0.0612 | BZ18: 0.0769 | CA18: 2 | CB18: 0.6356 | CC18: 0.6668 | CD18: 3 | CE18: 1 | CF18: 1 | CG18: 2 | CH18: 0.1411 | CI18: 0.129 | CJ18: 3 | CK18: 0.305 | CL18: 0.35 | CM18: 0 | CN18: 40 | CO18: Meets Requirement
A19: Charter Erskine | B19: 1201 Main Street, Suite 300 | C19: Columbia | D19: SC | E19: 29201 | F19: 0.8571 | G19: 0.1345 | H19: 0.9911 | I19: 0.9714 | J19: 0.9373 | K19: 0.9911 | L19: 0.975 | M19: 0.9085 | N19: 0.1784 | O19: 0.2085 | P19: 0.5331 | Q19: 0.1174 | R19: 0.0538 | S19: 0.233 | T19: 0.4 | U19: 0.5385 | V19: 0.3333 | W19: 0.4 | X19: 0.4615 | Y19: 0.6667 | Z19: 0.3136 | AA19: 0.3809 | AB19: 0.3413 | AC19: 0.1833 | AD19: 0.1763 | AE19: 0.2615 | AF19: No | AG19: No | AH19: 0.7757 | AI19: 0.1255 | AJ19: 0.0021 | AK19: 1 | AL19: 0 | AM19: 0 | AN19: 0.8333 | AO19: 0.375 | AP19: 1 | AQ19: 0.375 | AR19: 1 | AS19: 0.75 | AT19: 0.9855 | AU19: No | AV19: No | AW19: 0.9881 | AX19: NA | AY19: 1 | AZ19: 0.2059 | BA19: 0.6765 | BB19: 0.75 | BC19: 2 | BD19: 2 | BE19: 2 | BF19: 2 | BG19: 1 | BH19: NA | BI19: 2 | BJ19: 2 | BK19: 2 | BL19: 3 | BM19: 0.8571 | BN19: 0.7368 | BO19: 0.5 | BP19: 0.1712 | BQ19: 0.1883 | BR19: 1.5 | BS19: 0.1316 | BT19: 0.2243 | BU19: 0.5 | BV19: 0.1036 | BW19: 0.13 | BX19: 0.5 | BY19: 0.056 | BZ19: 0.0733 | CA19: 3 | CB19: 0.7983 | CC19: 0.7757 | CD19: 3 | CE19: 1 | CF19: 1 | CG19: 3 | CH19: 0.0363 | CI19: 0.0456 | CJ19: 0 | CK19: 0.293 | CL19: 0.289 | CM19: 0 | CN19: 38 | CO19: Meets Requirement
A20: Cherokee | B20: P.O. Box 460 | C20: Gaffney | D20: SC | E20: 29342 | F20: 0.5147 | G20: 0.4118 | H20: 1 | I20: 0.989 | J20: 0.9028 | K20: 1 | L20: 0.989 | M20: 0.9494 | N20: 0.1471 | O20: 0.1341 | P20: 0.4098 | Q20: 0.1078 | R20: 0.061 | S20: 0.3944 | T20: 0 | U20: 0.625 | V20: 0.25 | W20: 0.3333 | X20: 0.625 | Y20: 0.5 | Z20: 0.2619 | AA20: 0.3057 | AB20: 0.324 | AC20: 0.1603 | AD20: 0.1253 | AE20: 0.0804 | AF20: Yes | AG20: No | AH20: 0.6409 | AI20: 0.1276 | AJ20: 0.0069 | AK20: 0.3492 | AL20: 0.3968 | AM20: 0 | AN20: 0.6098 | AO20: 0.4 | AP20: 0.6875 | AQ20: 0.5778 | AR20: 0.6667 | AS20: 0.5111 | AT20: 1 | AU20: No | AV20: No | AW20: 1 | AX20: 1 | AY20: 1 | AZ20: 0.1739 | BA20: 0.6957 | BB20: 0.7826 | BC20: 2 | BD20: 2 | BE20: 2 | BF20: 2 | BG20: 2 | BH20: 2 | BI20: 2 | BJ20: 2 | BK20: 2 | BL20: 0 | BM20: 0.5147 | BN20: 0.3671 | BO20: 0 | BP20: 0.2 | BQ20: 0.1429 | BR20: 1.5 | BS20: 0.0488 | BT20: 0.1778 | BU20: 0.5 | BV20: 0.1099 | BW20: 0.1143 | BX20: 1.5 | BY20: 0.0366 | BZ20: 0.1111 | CA20: 2 | CB20: 0.6231 | CC20: 0.6409 | CD20: 3 | CE20: 1 | CF20: 1 | CG20: 1 | CH20: 0.197 | CI20: 0.1881 | CJ20: 3 | CK20: 0.319 | CL20: 0.359 | CM20: 0 | CN20: 40 | CO20: Needs Assistance
A21: Chester | B21: 509 District Office Drive | C21: Chester | D21: SC | E21: 29706 | F21: 0.6852 | G21: 0.1852 | H21: 0.9853 | I21: 1 | J21: 1 | K21: 0.9853 | L21: 1 | M21: 0.9688 | N21: 0.1639 | O21: 0.0769 | P21: 0.5283 | Q21: 0.1148 | R21: 0.0192 | S21: 0.3448 | T21: 0.3333 | U21: 1 | V21: 0.75 | W21: 0.3333 | X21: 0 | Y21: 0.25 | Z21: 0.3256 | AA21: 0.3867 | AB21: 0.2887 | AC21: 0.2972 | AD21: 0.1775 | AE21: 0.2528 | AF21: No | AG21: No | AH21: 0.8125 | AI21: 0.0554 | AJ21: 0.0099 | AK21: 0.359 | AL21: 0.3846 | AM21: 0 | AN21: 1 | AO21: 0.6071 | AP21: 1 | AQ21: 0.5357 | AR21: 1 | AS21: 0.8214 | AT21: NA | AU21: No | AV21: No | AW21: 1 | AX21: 1 | AY21: 1 | AZ21: 0.2549 | BA21: 0.8235 | BB21: 0.8235 | BC21: 2 | BD21: 2 | BE21: 2 | BF21: 2 | BG21: 2 | BH21: 2 | BI21: 2 | BJ21: 2 | BK21: 2 | BL21: 2 | BM21: 0.6852 | BN21: 0.6889 | BO21: 0.5 | BP21: 0.1159 | BQ21: 0.1791 | BR21: 0.5 | BS21: 0.0526 | BT21: 0.1111 | BU21: 0 | BV21: 0.1739 | BW21: 0.1343 | BX21: 0 | BY21: 0.0345 | BZ21: 0.0185 | CA21: 3 | CB21: 0.825 | CC21: 0.8125 | CD21: 3 | CE21: 1 | CF21: 1 | CG21: 2 | CH21: 0.0872 | CI21: 0.0996 | CJ21: 0 | CK21: 0.208 | CL21: 0.188 | CM21: 1 | CN21: 40 | CO21: Needs Assistance
A22: Chesterfield | B22: 401 West Boulevard | C22: Chesterfield | D22: SC | E22: 29709 | F22: 0.4186 | G22: 0.5581 | H22: 1 | I22: 0.9867 | J22: 0.9074 | K22: 1 | L22: 0.9733 | M22: 0.9655 | N22: 0.1404 | O22: 0.0694 | P22: 0.2128 | Q22: 0.0702 | R22: 0 | S22: 0.22 | T22: 0.5 | U22: 1 | V22: 0 | W22: 1 | X22: 0.5 | Y22: 0.6667 | Z22: 0.3008 | AA22: 0.3283 | AB22: 0.5926 | AC22: 0.2432 | AD22: 0.1579 | AE22: 0.2821 | AF22: No | AG22: No | AH22: 0.5065 | AI22: 0.2453 | AJ22: 0.0087 | AK22: 0.6957 | AL22: 0.2609 | AM22: 0 | AN22: 0.8889 | AO22: 0.5556 | AP22: 1 | AQ22: 0.5556 | AR22: 1 | AS22: 0.7778 | AT22: 0.9744 | AU22: No | AV22: No | AW22: 1 | AX22: 1 | AY22: 1 | AZ22: 0.3333 | BA22: 0.7778 | BB22: 0.7778 | BC22: 2 | BD22: 2 | BE22: 2 | BF22: 2 | BG22: 2 | BH22: 2 | BI22: 2 | BJ22: 2 | BK22: 2 | BL22: 1 | BM22: 0.4186 | BN22: 0.5366 | BO22: 0.5 | BP22: 0.1014 | BQ22: 0.1525 | BR22: 0 | BS22: 0.1176 | BT22: 0.0946 | BU22: 0 | BV22: 0.1159 | BW22: 0.1017 | BX22: 0 | BY22: 0.0735 | BZ22: 0.0137 | CA22: 0 | CB22: 0.5585 | CC22: 0.5065 | CD22: 3 | CE22: 1 | CF22: 1 | CG22: 0 | CH22: 0.1785 | CI22: 0.2303 | CJ22: 3 | CK22: 0.529 | CL22: 0.421 | CM22: 0 | CN22: 40 | CO22: Needs Assistance
A23: Clarendon | B23: P.O. Box 1252 | C23: Manning | D23: SC | E23: 29102 | F23: 0.6792 | G23: 0.1887 | H23: 0.9706 | I23: 0.9773 | J23: 1 | K23: 0.9706 | L23: 0.9773 | M23: 0.9259 | N23: 0.1935 | O23: 0.027 | P23: 0.2857 | Q23: 0.1613 | R23: 0 | S23: 0.1333 | T23: 0.5 | U23: 0.3333 | V23: 0.6667 | W23: 0.5 | X23: 0.5 | Y23: 0.4 | Z23: 0.2042 | AA23: 0.4493 | AB23: 0.4623 | AC23: 0.1809 | AD23: 0.3041 | AE23: 0.341 | AF23: No | AG23: No | AH23: 0.5571 | AI23: 0.1968 | AJ23: 0.0158 | AK23: 0.8621 | AL23: 0.0345 | AM23: 0 | AN23: 1 | AO23: 0.5714 | AP23: 0.9048 | AQ23: 0.4286 | AR23: 0.8889 | AS23: 0.7143 | AT23: 1 | AU23: No | AV23: No | AW23: 1 | AX23: 1 | AY23: 1 | AZ23: 0.1176 | BA23: 0.7647 | BB23: 0.8824 | BC23: 2 | BD23: 2 | BE23: 2 | BF23: 2 | BG23: 2 | BH23: 2 | BI23: 2 | BJ23: 2 | BK23: 2 | BL23: 2 | BM23: 0.6792 | BN23: 0.5897 | BO23: 0.5 | BP23: NA | BQ23: 0.2121 | BR23: 0.5 | BS23: NA | BT23: 0.0698 | BU23: 0.5 | BV23: NA | BW23: 0.1818 | BX23: 0.5 | BY23: NA | BZ23: 0.0698 | CA23: 0 | CB23: 0.5944 | CC23: 0.5571 | CD23: 3 | CE23: 1 | CF23: 1 | CG23: 2 | CH23: 0.1696 | CI23: 0.1438 | CJ23: 2 | CK23: 0.6 | CL23: 0.309 | CM23: 1 | CN23: 40 | CO23: Needs Assistance
A24: Colleton | B24: 500 Forest Circle | C24: Walterboro | D24: SC | E24: 29488 | F24: 0.4545 | G24: 0.0909 | H24: 0.9839 | I24: 0.9565 | J24: 0.9231 | K24: 1 | L24: 0.971 | M24: 0.8611 | N24: 0.0727 | O24: 0.0476 | P24: 0.3125 | Q24: 0 | R24: 0.0156 | S24: 0.1724 | T24: 0.6667 | U24: 0.3333 | V24: 0.5 | W24: 0.2857 | X24: 0 | Y24: 0.25 | Z24: 0.2146 | AA24: 0.257 | AB24: 0.4677 | AC24: 0.1547 | AD24: 0.0385 | AE24: 0.2608 | AF24: Yes | AG24: No | AH24: 0.5102 | AI24: 0.1696 | AJ24: 0.0081 | AK24: 0.2373 | AL24: 0.4576 | AM24: 0.0169 | AN24: 0.8462 | AO24: 0.5556 | AP24: 0.5714 | AQ24: 0.7222 | AR24: 0.75 | AS24: 0.6667 | AT24: 1 | AU24: No | AV24: No | AW24: 0.994 | AX24: 1 | AY24: 1 | AZ24: 0.1852 | BA24: 0.7407 | BB24: 0.7778 | BC24: 2 | BD24: 2 | BE24: 2 | BF24: 1 | BG24: 1 | BH24: 2 | BI24: 2 | BJ24: 2 | BK24: 2 | BL24: 2 | BM24: 0.4545 | BN24: 0.5909 | BO24: 0 | BP24: 0.1667 | BQ24: 0.1311 | BR24: 0.5 | BS24: 0.0533 | BT24: 0.0606 | BU24: 0.5 | BV24: 0.0208 | BW24: 0.0323 | BX24: 0.5 | BY24: 0.0132 | BZ24: 0.0149 | CA24: 0 | CB24: 0.5383 | CC24: 0.5102 | CD24: 3 | CE24: 1 | CF24: 1 | CG24: 0 | CH24: 0.2291 | CI24: 0.2563 | CJ24: 0 | CK24: 0.209 | CL24: 0.191 | CM24: 1 | CN24: 40 | CO24: Needs Assistance
A25: Darlington | B25: P.O. Box 1117 | C25: Darlington | D25: SC | E25: 29540 | F25: 0.5234 | G25: 0.4486 | H25: 0.9917 | I25: 0.9741 | J25: 0.963 | K25: 0.9917 | L25: 0.9741 | M25: 0.925 | N25: 0.1009 | O25: 0.1058 | P25: 0.4574 | Q25: 0.1193 | R25: 0.0769 | S25: 0.3465 | T25: 0.3 | U25: 0.6667 | V25: 0.5 | W25: 0.2 | X25: 0.6667 | Y25: 0.4 | Z25: 0.4191 | AA25: 0.3596 | AB25: 0.3717 | AC25: 0.2777 | AD25: 0.2144 | AE25: 0.2308 | AF25: No | AG25: No | AH25: 0.695 | AI25: 0.1718 | AJ25: 0.0105 | AK25: 0.2647 | AL25: 0.7255 | AM25: 0 | AN25: 1 | AO25: 0.5 | AP25: 0.8958 | AQ25: 0.4615 | AR25: 0.9556 | AS25: 0.5 | AT25: 0.9524 | AU25: No | AV25: No | AW25: 1 | AX25: 1 | AY25: 1 | AZ25: 0.125 | BA25: 0.5313 | BB25: 0.5938 | BC25: 2 | BD25: 2 | BE25: 2 | BF25: 2 | BG25: 2 | BH25: 2 | BI25: 2 | BJ25: 2 | BK25: 2 | BL25: 1 | BM25: 0.5234 | BN25: 0.5351 | BO25: 0.5 | BP25: 0.1111 | BQ25: 0.1176 | BR25: 1.5 | BS25: 0.1259 | BT25: 0.1504 | BU25: 0 | BV25: 0.1508 | BW25: 0.1261 | BX25: 1.5 | BY25: 0.097 | BZ25: 0.1239 | CA25: 2 | CB25: 0.6829 | CC25: 0.695 | CD25: 3 | CE25: 1 | CF25: 1 | CG25: 0 | CH25: 0.2261 | CI25: 0.2428 | CJ25: 3 | CK25: 0.4 | CL25: 0.37 | CM25: 0 | CN25: 40 | CO25: Needs Assistance
A26: Dillon 3 | B26: 205 King Street | C26: Latta | D26: SC | E26: 29565 | F26: 0.8 | G26: 0 | H26: 1 | I26: 0.875 | J26: 1 | K26: 1 | L26: 0.875 | M26: 1 | N26: 0 | O26: 0 | P26: 0.25 | Q26: 0.0714 | R26: 0 | S26: 0.2857 | T26: 0 | U26: 0 | V26: 0.3333 | W26: 0 | X26: 0 | Y26: 0.6667 | Z26: 0.5315 | AA26: 0.5175 | AB26: 0.6283 | AC26: 0.4286 | AD26: 0.3509 | AE26: 0.3095 | AF26: No | AG26: No | AH26: 0.8086 | AI26: 0.1235 | AJ26: 0.0123 | AK26: 1 | AL26: 0 | AM26: 0 | AN26: 0.6667 | AO26: 0.1667 | AP26: 1 | AQ26: 0.5 | AR26: 0.8333 | AS26: 0.3333 | AT26: 1 | AU26: No | AV26: No | AW26: 1 | AX26: 1 | AY26: 1 | AZ26: 0 | BA26: 0.4 | BB26: 0.7 | BC26: 2 | BD26: 2 | BE26: 2 | BF26: 2 | BG26: 2 | BH26: 2 | BI26: 2 | BJ26: 2 | BK26: 2 | BL26: 0 | BM26: 0.8 | BN26: 0.5 | BO26: 0 | BP26: 0.2857 | BQ26: 0 | BR26: 0 | BS26: 0 | BT26: 0 | BU26: 0 | BV26: 0.3571 | BW26: 0.0714 | BX26: 0 | BY26: 0 | BZ26: 0 | CA26: 3 | CB26: 0.8267 | CC26: 0.8086 | CD26: 3 | CE26: 1 | CF26: 1 | CG26: 0 | CH26: 0.2323 | CI26: 0.2426 | CJ26: 1 | CK26: 0 | CL26: 0.111 | CM26: 1 | CN26: 40 | CO26: Needs Assistance
A27: Dillon 4 | B27: 1738 Highway 301 North | C27: Dillon | D27: SC | E27: 29536 | F27: 0.4286 | G27: 0.5714 | H27: 1 | I27: 1 | J27: 0.9583 | K27: 1 | L27: 1 | M27: 0.8205 | N27: 0 | O27: 0.0417 | P27: 0.35 | Q27: 0 | R27: 0 | S27: 0.069 | T27: 1 | U27: 0.8 | V27: 1 | W27: 1 | X27: 0.6 | Y27: 1 | Z27: 0.3313 | AA27: 0.3511 | AB27: 0.3779 | AC27: 0.1963 | AD27: 0.2343 | AE27: 0.4727 | AF27: No | AG27: No | AH27: 0.7705 | AI27: 0.1105 | AJ27: 0.0142 | AK27: 0.3889 | AL27: 0 | AM27: 0 | AN27: 1 | AO27: 0.1667 | AP27: 1 | AQ27: 0.1667 | AR27: 1 | AS27: 0.3333 | AT27: 1 | AU27: No | AV27: No | AW27: 1 | AX27: 1 | AY27: 1 | AZ27: 0 | BA27: 0.5556 | BB27: 0.7222 | BC27: 2 | BD27: 2 | BE27: 2 | BF27: 2 | BG27: 2 | BH27: 2 | BI27: 2 | BJ27: 2 | BK27: 2 | BL27: 0 | BM27: 0.4286 | BN27: 0.4231 | BO27: 0 | BP27: 0.0909 | BQ27: 0.0313 | BR27: 1.5 | BS27: 0.037 | BT27: 0.1724 | BU27: 0 | BV27: 0.1364 | BW27: 0.0313 | BX27: 1.5 | BY27: 0.037 | BZ27: 0.1034 | CA27: 3 | CB27: 0.8062 | CC27: 0.7705 | CD27: 3 | CE27: 1 | CF27: 1 | CG27: 2 | CH27: 0.0612 | CI27: 0.1024 | CJ27: 1 | CK27: 0.077 | CL27: 0.156 | CM27: 1 | CN27: 40 | CO27: Meets Requirement
A28: Dorchester 2 | B28: 815 S. Main Street | C28: Summerville | D28: SC | E28: 29483 | F28: 0.5368 | G28: 0.2053 | H28: 0.9964 | I28: 0.9823 | J28: 0.9548 | K28: 1 | L28: 0.9778 | M28: 0.9368 | N28: 0.2957 | O28: 0.1353 | P28: 0.5621 | Q28: 0.2209 | R28: 0.0488 | S28: 0.3805 | T28: 0.3158 | U28: 0.2667 | V28: 0.2857 | W28: 0.4211 | X28: 0.3333 | Y28: 0.2727 | Z28: 0.3741 | AA28: 0.439 | AB28: 0.3502 | AC28: 0.3073 | AD28: 0.2963 | AE28: 0.3931 | AF28: No | AG28: No | AH28: 0.575 | AI28: 0.1409 | AJ28: 0.0146 | AK28: 0.1504 | AL28: 0.7073 | AM28: 0.0081 | AN28: 0.7697 | AO28: 0.4034 | AP28: 0.761 | AQ28: 0.4034 | AR28: 0.7843 | AS28: 0.517 | AT28: 1 | AU28: No | AV28: No | AW28: 0.9989 | AX28: 1 | AY28: 1 | AZ28: 0.1951 | BA28: 0.7073 | BB28: 0.7561 | BC28: 2 | BD28: 2 | BE28: 2 | BF28: 2 | BG28: 1 | BH28: 2 | BI28: 2 | BJ28: 2 | BK28: 2 | BL28: 2 | BM28: 0.5368 | BN28: 0.5734 | BO28: 1.5 | BP28: 0.2269 | BQ28: 0.2971 | BR28: 1 | BS28: 0.0909 | BT28: 0.1441 | BU28: 1.5 | BV28: 0.2154 | BW28: 0.2347 | BX28: 0 | BY28: 0.0783 | BZ28: 0.0682 | CA28: 0 | CB28: 0.5769 | CC28: 0.575 | CD28: 3 | CE28: 1 | CF28: 1 | CG28: 0 | CH28: 0.169 | CI28: 0.1986 | CJ28: 3 | CK28: 0.455 | CL28: 0.414 | CM28: 0 | CN28: 40 | CO28: Needs Assistance
A29: Dorchester 4 | B29: 500 Ridge Street | C29: St. George | D29: SC | E29: 29477 | F29: 0.7619 | G29: 0.2381 | H29: 1 | I29: 1 | J29: 0.973 | K29: 1 | L29: 0.96 | M29: 0.9737 | N29: 0.0625 | O29: 0 | P29: 0.2581 | Q29: 0.125 | R29: 0 | S29: 0.0938 | T29: 0 | U29: 0.5 | V29: 0.8 | W29: 0 | X29: 0 | Y29: 0.6 | Z29: 0.4255 | AA29: 0.4145 | AB29: 0.5056 | AC29: 0.299 | AD29: 0.1589 | AE29: 0.2828 | AF29: No | AG29: No | AH29: 0.4831 | AI29: 0.152 | AJ29: 0.0101 | AK29: 0.4444 | AL29: 0.3889 | AM29: 0.1111 | AN29: 0.8182 | AO29: 0.4167 | AP29: 0.9 | AQ29: 0.5833 | AR29: 0.9 | AS29: 0.5833 | AT29: 1 | AU29: No | AV29: No | AW29: 1 | AX29: 1 | AY29: 0.9 | AZ29: 0.25 | BA29: 0.8 | BB29: 0.9 | BC29: 2 | BD29: 2 | BE29: 1 | BF29: 2 | BG29: 2 | BH29: 2 | BI29: 2 | BJ29: 2 | BK29: 2 | BL29: 2 | BM29: 0.7619 | BN29: 0.5926 | BO29: 0 | BP29: 0.0909 | BQ29: 0.0588 | BR29: 0 | BS29: 0.1852 | BT29: 0.04 | BU29: 0.5 | BV29: 0 | BW29: 0.1176 | BX29: 0 | BY29: 0.1538 | BZ29: 0 | CA29: 0 | CB29: 0.5176 | CC29: 0.4831 | CD29: 3 | CE29: 1 | CF29: 1 | CG29: 0 | CH29: 0.108 | CI29: 0.1911 | CJ29: 3 | CK29: 0.382 | CL29: 0.72 | CM29: 1 | CN29: 40 | CO29: Needs Assistance
A30: Edgefield | B30: P.O. Box 608 | C30: Johnston | D30: SC | E30: 29832 | F30: 0.4167 | G30: 0.4583 | H30: 1 | I30: 1 | J30: 1 | K30: 1 | L30: 1 | M30: 0.9259 | N30: 0.125 | O30: 0.087 | P30: 0.2632 | Q30: 0.0625 | R30: 0 | S30: 0.2083 | T30: 0 | U30: 1 | V30: 0 | W30: 0 | X30: 1 | Y30: 0 | Z30: 0.379 | AA30: 0.3683 | AB30: 0.4774 | AC30: 0.244 | AD30: 0.25 | AE30: 0.0705 | AF30: No | AG30: No | AH30: 0.6411 | AI30: 0.1656 | AJ30: 0.0092 | AK30: 0.1905 | AL30: 0.5714 | AM30: 0 | AN30: 0.9375 | AO30: 0.3529 | AP30: 0.9333 | AQ30: 0.2941 | AR30: 0.7143 | AS30: 0.4118 | AT30: 1 | AU30: No | AV30: No | AW30: 0.9697 | AX30: 1 | AY30: 1 | AZ30: 0 | BA30: 0.5714 | BB30: 0.6429 | BC30: 2 | BD30: 2 | BE30: 2 | BF30: 2 | BG30: 1 | BH30: 2 | BI30: 2 | BJ30: 2 | BK30: 2 | BL30: 2 | BM30: 0.4167 | BN30: 0.6 | BO30: 0 | BP30: 0.1333 | BQ30: 0.125 | BR30: 0.5 | BS30: 0.0714 | BT30: 0.125 | BU30: 0 | BV30: 0.1 | BW30: 0.0625 | BX30: 0.5 | BY30: 0 | BZ30: 0.0417 | CA30: 2 | CB30: 0.5836 | CC30: 0.6411 | CD30: 3 | CE30: 1 | CF30: 1 | CG30: 0 | CH30: 0.6111 | CI30: 0.6427 | CJ30: 3 | CK30: 0.292 | CL30: 0.389 | CM30: 1 | CN30: 40 | CO30: Needs Assistance
A31: Fairfield | B31: P.O. Drawer 622 | C31: Winnsboro | D31: SC | E31: 29180 | F31: 0.5294 | G31: 0.4706 | H31: 0.9714 | I31: 0.9524 | J31: 0.9286 | K31: 1 | L31: 0.95 | M31: 1 | N31: 0.0882 | O31: 0.1765 | P31: 0.3846 | Q31: 0.0294 | R31: 0.0588 | S31: 0.4286 | T31: 0 | U31: 0.3333 | V31: 0 | W31: 0 | X31: 1 | Y31: 0 | Z31: 0.3925 | AA31: 0.3342 | AB31: 0.383 | AC31: 0.3167 | AD31: 0.1752 | AE31: 0.218 | AF31: No | AG31: No | AH31: 0.6638 | AI31: 0.2345 | AJ31: 0.0085 | AK31: 0 | AL31: 0.5 | AM31: 0 | AN31: 0.9167 | AO31: 0.3684 | AP31: 0.8947 | AQ31: 0.2632 | AR31: 0.5833 | AS31: 0.4211 | AT31: 1 | AU31: No | AV31: No | AW31: 1 | AX31: 1 | AY31: 1 | AZ31: 0.1667 | BA31: 1 | BB31: 1 | BC31: 2 | BD31: 2 | BE31: 2 | BF31: 2 | BG31: 2 | BH31: 2 | BI31: 2 | BJ31: 2 | BK31: 2 | BL31: 0 | BM31: 0.5294 | BN31: 0.4444 | BO31: 0 | BP31: 0.1944 | BQ31: 0.0882 | BR31: 1.5 | BS31: 0.1053 | BT31: 0.2 | BU31: 0 | BV31: 0.1111 | BW31: 0.0286 | BX31: 1.5 | BY31: 0.1053 | BZ31: 0.1579 | CA31: 2 | CB31: 0.673 | CC31: 0.6638 | CD31: 3 | CE31: 1 | CF31: 1 | CG31: 0 | CH31: 0.2208 | CI31: 0.2567 | CJ31: 0 | CK31: 0.28 | CL31: 0.278 | CM31: 0 | CN31: 40 | CO31: Needs Assistance
A32: Florence 1 | B32: 319 South Irby Street | C32: Florence | D32: SC | E32: 29501 | F32: 0.5192 | G32: 0.4327 | H32: 0.9847 | I32: 0.9574 | J32: 0.95 | K32: 0.9847 | L32: 0.9645 | M32: 0.8868 | N32: 0.1034 | O32: 0.0938 | P32: 0.4468 | Q32: 0.0862 | R32: 0.0388 | S32: 0.3277 | T32: 0.4615 | U32: 0 | V32: 0.1818 | W32: 0.1538 | X32: 0.1429 | Y32: 0.0909 | Z32: 0.451 | AA32: 0.4391 | AB32: 0.3846 | AC32: 0.3492 | AD32: 0.2394 | AE32: 0.3033 | AF32: No | AG32: No | AH32: 0.5205 | AI32: 0.2357 | AJ32: 0.0086 | AK32: 0.3827 | AL32: 0.4286 | AM32: 0.0051 | AN32: 0.896 | AO32: 0.5116 | AP32: 0.8727 | AQ32: 0.5504 | AR32: 0.8947 | AS32: 0.6589 | AT32: 0.9615 | AU32: No | AV32: No | AW32: 0.9977 | AX32: 1 | AY32: 1 | AZ32: 0.2069 | BA32: 0.7931 | BB32: 0.8966 | BC32: 2 | BD32: 2 | BE32: 2 | BF32: 1 | BG32: 1 | BH32: 2 | BI32: 2 | BJ32: 2 | BK32: 2 | BL32: 0 | BM32: 0.5192 | BN32: 0.4157 | BO32: 0 | BP32: 0.1631 | BQ32: 0.1395 | BR32: 0.5 | BS32: 0.0663 | BT32: 0.0889 | BU32: 0.5 | BV32: 0.0709 | BW32: 0.093 | BX32: 0.5 | BY32: 0.0417 | BZ32: 0.0441 | CA32: 0 | CB32: 0.5606 | CC32: 0.5205 | CD32: 3 | CE32: 1 | CF32: 1 | CG32: 0 | CH32: 0.1912 | CI32: 0.2493 | CJ32: 2 | CK32: 0.336 | CL32: 0.312 | CM32: 0 | CN32: 40 | CO32: Needs Intervention
A33: Florence 2 | B33: 2121 South Pamplico Highway | C33: Pamplico | D33: SC | E33: 29583 | F33: 0.5 | G33: 0.4375 | H33: 1 | I33: 0.95 | J33: 0.8421 | K33: 1 | L33: 0.95 | M33: 0.9231 | N33: 0.3636 | O33: 0.0526 | P33: 0.5 | Q33: 0.1818 | R33: 0 | S33: 0.5833 | T33: 1 | U33: 0 | V33: 1 | W33: 0.5 | X33: 0 | Y33: 0 | Z33: 0.1133 | AA33: 0.457 | AB33: 0.3632 | AC33: 0.3566 | AD33: 0.1442 | AE33: 0.2976 | AF33: No | AG33: No | AH33: 0.6459 | AI33: 0.11 | AJ33: 0 | AK33: 0.8889 | AL33: 0.0556 | AM33: 0.0556 | AN33: 1 | AO33: 0.4615 | AP33: 0.9091 | AQ33: 0.3846 | AR33: 1 | AS33: 0.3846 | AT33: 1 | AU33: No | AV33: No | AW33: 1 | AX33: 1 | AY33: 1 | AZ33: 0.2941 | BA33: 0.8824 | BB33: 0.8824 | BC33: 2 | BD33: 2 | BE33: 2 | BF33: 2 | BG33: 2 | BH33: 2 | BI33: 2 | BJ33: 2 | BK33: 2 | BL33: 0 | BM33: 0.5 | BN33: 0.2857 | BO33: 1.5 | BP33: 0.087 | BQ33: 0.5333 | BR33: 0 | BS33: 0.0588 | BT33: 0.0526 | BU33: 1.5 | BV33: 0.3043 | BW33: 0.2667 | BX33: 0 | BY33: 0.0588 | BZ33: 0 | CA33: 2 | CB33: 0.6745 | CC33: 0.6459 | CD33: 3 | CE33: 1 | CF33: 1 | CG33: 2 | CH33: 0.1404 | CI33: 0.1233 | CJ33: 0 | CK33: 0.3 | CL33: 0.182 | CM33: 1 | CN33: 40 | CO33: Needs Assistance
A34: Florence 3 | B34: P.O. Drawer 1389 | C34: Lake City | D34: SC | E34: 29560 | F34: 0.4615 | G34: 0.3333 | H34: 1 | I34: 0.9535 | J34: 0.8627 | K34: 1 | L34: 0.9767 | M34: 1 | N34: 0.075 | O34: 0.1667 | P34: 0.2791 | Q34: 0.05 | R34: 0.0811 | S34: 0.2571 | T34: 1 | U34: 0.2 | V34: 0 | W34: 0 | X34: 0.2 | Y34: 0.6667 | Z34: 0.3495 | AA34: 0.1863 | AB34: 0.4781 | AC34: 0.1953 | AD34: 0.0709 | AE34: 0.2663 | AF34: No | AG34: No | AH34: 0.697 | AI34: 0.0928 | AJ34: 0.0038 | AK34: 0.6842 | AL34: 0.3158 | AM34: 0 | AN34: 0.9333 | AO34: 0.3529 | AP34: 1 | AQ34: 0.1176 | AR34: 0.9286 | AS34: 0.4706 | AT34: 1 | AU34: No | AV34: No | AW34: 1 | AX34: 1 | AY34: 1 | AZ34: 0.2069 | BA34: 0.6207 | BB34: 0.6207 | BC34: 2 | BD34: 2 | BE34: 2 | BF34: 2 | BG34: 2 | BH34: 2 | BI34: 2 | BJ34: 2 | BK34: 2 | BL34: 2 | BM34: 0.4615 | BN34: 0.5882 | BO34: 0 | BP34: 0.1591 | BQ34: 0.0976 | BR34: 1.5 | BS34: 0.025 | BT34: 0.1707 | BU34: 0 | BV34: 0.1136 | BW34: 0.0488 | BX34: 1 | BY34: 0.0238 | BZ34: 0.0952 | CA34: 2 | CB34: 0.6884 | CC34: 0.697 | CD34: 3 | CE34: 1 | CF34: 1 | CG34: 0 | CH34: 0.194 | CI34: 0.2541 | CJ34: 0 | CK34: 0.204 | CL34: 0.094 | CM34: 1 | CN34: 40 | CO34: Needs Assistance
A35: Florence 5 | B35: P.O. Box 98 | C35: Johnsonville | D35: SC | E35: 29555 | F35: 0.25 | G35: 0.75 | H35: 0.8077 | I35: 0.9643 | J35: 1 | K35: 0.8077 | L35: 0.9643 | M35: 1 | N35: 0.1111 | O35: 0.1852 | P35: 0.2667 | Q35: 0.2778 | R35: 0.037 | S35: 0.2222 | T35: 0 | U35: 0 | V35: 0 | W35: 0.3333 | X35: 0 | Y35: 0 | Z35: 0.3415 | AA35: 0.3638 | AB35: 0.5603 | AC35: 0.1538 | AD35: 0.1885 | AE35: 0.3687 | AF35: No | AG35: No | AH35: 0.8115 | AI35: 0.1038 | AJ35: 0.0077 | AK35: 0.7857 | AL35: 0.0714 | AM35: 0 | AN35: 1 | AO35: 0.125 | AP35: 0.875 | AQ35: 0.25 | AR35: 1 | AS35: 0.375 | AT35: 1 | AU35: No | AV35: No | AW35: 1 | AX35: 1 | AY35: 1 | AZ35: 0 | BA35: 0.375 | BB35: 0.625 | BC35: 2 | BD35: 2 | BE35: 2 | BF35: 2 | BG35: 2 | BH35: 2 | BI35: 2 | BJ35: 2 | BK35: 2 | BL35: 3 | BM35: 0.25 | BN35: 0.7 | BO35: 0.5 | BP35: 0.0909 | BQ35: 0.0952 | BR35: 1.5 | BS35: 0.1818 | BT35: 0.1852 | BU35: 1.5 | BV35: 0.0909 | BW35: 0.2857 | BX35: 0 | BY35: 0.0476 | BZ35: 0.037 | CA35: 3 | CB35: 0.7757 | CC35: 0.8115 | CD35: 3 | CE35: 1 | CF35: 1 | CG35: 0 | CH35: 0.1704 | CI35: 0.2664 | CJ35: 1 | CK35: 0.154 | CL35: 0.267 | CM35: 1 | CN35: 40 | CO35: Meets Requirement
A36: Georgetown | B36: 2018 Church Street | C36: Georgetown | D36: SC | E36: 29440 | F36: 0.7419 | G36: 0.2258 | H36: 1 | I36: 1 | J36: 0.9748 | K36: 1 | L36: 1 | M36: 0.929 | N36: 0.1429 | O36: 0.1284 | P36: 0.4057 | Q36: 0.1122 | R36: 0.0642 | S36: 0.1654 | T36: 0 | U36: 0 | V36: 0.3 | W36: 0 | X36: 0 | Y36: 0.3636 | Z36: 0.3555 | AA36: 0.2982 | AB36: 0.3872 | AC36: 0.2881 | AD36: 0.1376 | AE36: 0.2386 | AF36: No | AG36: No | AH36: 0.534 | AI36: 0.0911 | AJ36: 0.0052 | AK36: 0.4026 | AL36: 0.4935 | AM36: 0 | AN36: 0.8723 | AO36: 0.3878 | AP36: 0.9167 | AQ36: 0.3265 | AR36: 0.7907 | AS36: 0.4898 | AT36: 1 | AU36: No | AV36: No | AW36: 0.9957 | AX36: 1 | AY36: 1 | AZ36: 0.2881 | BA36: 0.6102 | BB36: 0.7119 | BC36: 2 | BD36: 2 | BE36: 2 | BF36: 2 | BG36: 1 | BH36: 2 | BI36: 2 | BJ36: 2 | BK36: 2 | BL36: 2 | BM36: 0.7419 | BN36: 0.6087 | BO36: 0 | BP36: 0.1429 | BQ36: 0.1373 | BR36: 0.5 | BS36: 0.0602 | BT36: 0.1228 | BU36: 0 | BV36: 0.1111 | BW36: 0.1078 | BX36: 0.5 | BY36: 0.053 | BZ36: 0.0614 | CA36: 0 | CB36: 0.5538 | CC36: 0.534 | CD36: 3 | CE36: 1 | CF36: 1 | CG36: 1 | CH36: 0.2359 | CI36: 0.2055 | CJ36: 1 | CK36: 0.179 | CL36: 0.25 | CM36: 1 | CN36: 40 | CO36: Needs Assistance
A37: Greenville | B37: P.O. Box 2848 | C37: Greenville | D37: SC | E37: 29602 | F37: 0.5989 | G37: 0.3157 | H37: 0.9954 | I37: 0.9867 | J37: 0.9382 | K37: 0.9916 | L37: 0.9857 | M37: 0.894 | N37: 0.2778 | O37: 0.1244 | P37: 0.5174 | Q37: 0.2317 | R37: 0.0438 | S37: 0.4257 | T37: 0.4211 | U37: 0.25 | V37: 0.3 | W37: 0.3158 | X37: 0.3611 | Y37: 0.2553 | Z37: 0.3841 | AA37: 0.4482 | AB37: 0.3452 | AC37: 0.3467 | AD37: 0.3305 | AE37: 0.2685 | AF37: No | AG37: No | AH37: 0.6769 | AI37: 0.1699 | AJ37: 0.0201 | AK37: 0.1558 | AL37: 0.6549 | AM37: 0.0018 | AN37: 0.7305 | AO37: 0.414 | AP37: 0.6379 | AQ37: 0.5133 | AR37: 0.5952 | AS37: 0.523 | AT37: 0.9683 | AU37: No | AV37: No | AW37: 0.9996 | AX37: 1 | AY37: 0.95 | AZ37: 0.2523 | BA37: 0.7117 | BB37: 0.8063 | BC37: 2 | BD37: 2 | BE37: 1 | BF37: 2 | BG37: 1 | BH37: 2 | BI37: 2 | BJ37: 2 | BK37: 2 | BL37: 2 | BM37: 0.5989 | BN37: 0.651 | BO37: 1.5 | BP37: 0.2377 | BQ37: 0.2854 | BR37: 0.5 | BS37: 0.1123 | BT37: 0.1338 | BU37: 1.5 | BV37: 0.2639 | BW37: 0.2362 | BX37: 0 | BY37: 0.0812 | BZ37: 0.0675 | CA37: 2 | CB37: 0.6844 | CC37: 0.6769 | CD37: 3 | CE37: 1 | CF37: 1 | CG37: 0 | CH37: 0.1605 | CI37: 0.2162 | CJ37: 3 | CK37: 0.427 | CL37: 0.494 | CM37: 1 | CN37: 40 | CO37: Needs Assistance
A38: Greenwood 50 | B38: P.O. Box 248 | C38: Greenwood | D38: SC | E38: 29649 | F38: 0.5676 | G38: 0.3378 | H38: 0.9867 | I38: 0.9125 | J38: 0.963 | K38: 0.9867 | L38: 0.9375 | M38: 0.9859 | N38: 0.2 | O38: 0.0984 | P38: 0.2297 | Q38: 0.1833 | R38: 0.0328 | S38: 0.2 | T38: 0.3571 | U38: 0.25 | V38: 0.5 | W38: 0.2143 | X38: 0.4286 | Y38: 0.5 | Z38: 0.3494 | AA38: 0.357 | AB38: 0.541 | AC38: 0.2732 | AD38: 0.1775 | AE38: 0.264 | AF38: No | AG38: No | AH38: 0.5039 | AI38: 0.1849 | AJ38: 0.0147 | AK38: 0.641 | AL38: 0.2564 | AM38: 0 | AN38: 0.8537 | AO38: 0.25 | AP38: 0.8293 | AQ38: 0.3636 | AR38: 0.825 | AS38: 0.5 | AT38: 0.9231 | AU38: No | AV38: No | AW38: 1 | AX38: 1 | AY38: 0.9333 | AZ38: 0.1818 | BA38: 0.5909 | BB38: 0.5909 | BC38: 2 | BD38: 2 | BE38: 1 | BF38: 2 | BG38: 2 | BH38: 2 | BI38: 2 | BJ38: 2 | BK38: 2 | BL38: 0 | BM38: 0.5676 | BN38: 0.4746 | BO38: 1 | BP38: 0.127 | BQ38: 0.2297 | BR38: 0.5 | BS38: 0.0625 | BT38: 0.1233 | BU38: 0.5 | BV38: 0.1746 | BW38: 0.1892 | BX38: 1.5 | BY38: 0.05 | BZ38: 0.1067 | CA38: 0 | CB38: 0.5132 | CC38: 0.5039 | CD38: 3 | CE38: 1 | CF38: 1 | CG38: 0 | CH38: 0.2035 | CI38: 0.228 | CJ38: 1 | CK38: 0.189 | CL38: 0.28 | CM38: 1 | CN38: 40 | CO38: Needs Assistance
A39: Greenwood 51 | B39: 56 South Greenwood Avenue | C39: Ware Shoals | D39: SC | E39: 29692 | F39: 0 | G39: 1 | H39: 1 | I39: 1 | J39: 0.9167 | K39: 1 | L39: 1 | M39: 1 | N39: 0.125 | O39: 0 | P39: 0.5455 | Q39: 0 | R39: 0 | S39: 0.25 | T39: 0 | U39: 0 | V39: 0 | W39: 0 | X39: 0 | Y39: 0 | Z39: 0.2785 | AA39: 0.4921 | AB39: 0.3039 | AC39: 0.3509 | AD39: 0.3651 | AE39: 0.1458 | AF39: No | AG39: No | AH39: 0.5909 | AI39: 0.1742 | AJ39: 0.0076 | AK39: 0.0909 | AL39: 0.8182 | AM39: 0.0909 | AN39: 1 | AO39: 0 | AP39: 1 | AQ39: 0 | AR39: 1 | AS39: 1 | AT39: 1 | AU39: No | AV39: No | AW39: 1 | AX39: 1 | AY39: 1 | AZ39: 0.2 | BA39: 0.8 | BB39: 0.8 | BC39: 2 | BD39: 2 | BE39: 2 | BF39: 2 | BG39: 2 | BH39: 2 | BI39: 2 | BJ39: 2 | BK39: 2 | BL39: 2 | BM39: 0 | BN39: 0.6667 | BO39: 0.5 | BP39: 0.0556 | BQ39: 0.1111 | BR39: 0 | BS39: 0.4 | BT39: 0 | BU39: 0 | BV39: 0.1111 | BW39: 0 | BX39: 0 | BY39: 0.4 | BZ39: 0 | CA39: 0 | CB39: 0.635 | CC39: 0.5909 | CD39: 3 | CE39: 1 | CF39: 1 | CG39: 0 | CH39: 0.1589 | CI39: 0.1818 | CJ39: 3 | CK39: 0.273 | CL39: 0.429 | CM39: 1 | CN39: 40 | CO39: Needs Assistance
A40: Greenwood 52 | B40: 605 Johnston Road | C40: Ninety Six | D40: SC | E40: 29666 | F40: 0.25 | G40: 0.75 | H40: 1 | I40: 0.9333 | J40: 1 | K40: 1 | L40: 0.9333 | M40: 1 | N40: 0.1429 | O40: 0 | P40: 0.6 | Q40: 0.1429 | R40: 0 | S40: 0.3571 | T40: 0 | U40: 0 | V40: 0 | W40: 0 | X40: 0 | Y40: 0 | Z40: 0.4497 | AA40: 0.6442 | AB40: 0.3328 | AC40: 0.459 | AD40: 0.5146 | AE40: 0.371 | AF40: No | AG40: No | AH40: 0.5838 | AI40: 0.0983 | AJ40: 0.0231 | AK40: 0.3333 | AL40: 0.6667 | AM40: 0 | AN40: 1 | AO40: 0.75 | AP40: 1 | AQ40: 0.5 | AR40: 1 | AS40: 0.5 | AT40: 1 | AU40: No | AV40: No | AW40: 1 | AX40: 1 | AY40: 1 | AZ40: 0.125 | BA40: 0.625 | BB40: 0.875 | BC40: 2 | BD40: 2 | BE40: 2 | BF40: 2 | BG40: 2 | BH40: 2 | BI40: 2 | BJ40: 2 | BK40: 2 | BL40: 3 | BM40: 0.25 | BN40: 0.7273 | BO40: 0 | BP40: 0.2273 | BQ40: 0.1333 | BR40: 0 | BS40: 0.0625 | BT40: 0 | BU40: 0 | BV40: 0.3636 | BW40: 0.1333 | BX40: 0 | BY40: 0 | BZ40: 0 | CA40: 1 | CB40: 0.5787 | CC40: 0.5838 | CD40: 3 | CE40: 1 | CF40: 1 | CG40: 2 | CH40: 0.2204 | CI40: 0.1676 | CJ40: 3 | CK40: 0.385 | CL40: 0.429 | CM40: 1 | CN40: 40 | CO40: Meets Requirement
A41: Hampton | B41: 372 Pine Street East | C41: Varnville | D41: SC | E41: 29944 | F41: 0.7 | G41: 0.2 | H41: 1 | I41: 1 | J41: 0.9524 | K41: 1 | L41: 1 | M41: 0.9444 | N41: 0.1429 | O41: 0.0714 | P41: 0.2 | Q41: 0.0952 | R41: 0.0714 | S41: 0.1333 | T41: 1 | U41: 0 | V41: 0.2 | W41: 0.6 | X41: 0.5 | Y41: 0 | Z41: 0.3897 | AA41: 0.3476 | AB41: 0.5989 | AC41: 0.3141 | AD41: 0.1129 | AE41: 0.3261 | AF41: No | AG41: No | AH41: 0.6911 | AI41: 0.1351 | AJ41: 0.0116 | AK41: 0.619 | AL41: 0.3333 | AM41: 0.0476 | AN41: 0.6667 | AO41: 0.7333 | AP41: 0.875 | AQ41: 0.7333 | AR41: 0.75 | AS41: 0.7333 | AT41: 1 | AU41: No | AV41: No | AW41: 0.9231 | AX41: 1 | AY41: 0.3333 | AZ41: 0.1667 | BA41: 0.5 | BB41: 0.6667 | BC41: 1 | BD41: 2 | BE41: 1 | BF41: 2 | BG41: 1 | BH41: 2 | BI41: 2 | BJ41: 2 | BK41: 2 | BL41: 2 | BM41: 0.7 | BN41: 0.5833 | BO41: 1.5 | BP41: 0.16 | BQ41: 0.3077 | BR41: 0 | BS41: 0.1818 | BT41: 0.0625 | BU41: 0 | BV41: 0.2308 | BW41: 0.1923 | BX41: 1.5 | BY41: 0.15 | BZ41: 0.125 | CA41: 2 | CB41: 0.7023 | CC41: 0.6911 | CD41: 3 | CE41: 1 | CF41: 1 | CG41: 0 | CH41: 0.1404 | CI41: 0.2071 | CJ41: 0 | CK41: 0.286 | CL41: 0.167 | CM41: 1 | CN41: 40 | CO41: Needs Assistance
A42: Horry | B42: P.O. Box 260005 | C42: Conway | D42: SC | E42: 29528 | F42: 0.5593 | G42: 0.2754 | H42: 0.9966 | I42: 0.9927 | J42: 0.9663 | K42: 0.9966 | L42: 0.9909 | M42: 0.9566 | N42: 0.2518 | O42: 0.1646 | P42: 0.5638 | Q42: 0.2536 | R42: 0.0804 | S42: 0.5029 | T42: 0.5714 | U42: 0.4035 | V42: 0.551 | W42: 0.5 | X42: 0.4737 | Y42: 0.475 | Z42: 0.3684 | AA42: 0.4253 | AB42: 0.3094 | AC42: 0.2793 | AD42: 0.3296 | AE42: 0.2345 | AF42: No | AG42: No | AH42: 0.536 | AI42: 0.157 | AJ42: 0.0096 | AK42: 0.3058 | AL42: 0.1006 | AM42: 0.008 | AN42: 0.8373 | AO42: 0.3806 | AP42: 0.8223 | AQ42: 0.3903 | AR42: 0.8262 | AS42: 0.5 | AT42: 0.9167 | AU42: No | AV42: No | AW42: 0.9983 | AX42: 1 | AY42: 1 | AZ42: 0.2361 | BA42: 0.7222 | BB42: 0.8333 | BC42: 2 | BD42: 2 | BE42: 2 | BF42: 2 | BG42: 1 | BH42: 2 | BI42: 2 | BJ42: 2 | BK42: 2 | BL42: 0 | BM42: 0.5593 | BN42: 0.552 | BO42: 1.5 | BP42: 0.2178 | BQ42: 0.2672 | BR42: 1.5 | BS42: 0.1055 | BT42: 0.1897 | BU42: 1.5 | BV42: 0.1957 | BW42: 0.2655 | BX42: 1.5 | BY42: 0.0692 | BZ42: 0.1218 | CA42: 1 | CB42: 0.5327 | CC42: 0.536 | CD42: 3 | CE42: 1 | CF42: 1 | CG42: 0 | CH42: 0.2169 | CI42: 0.2271 | CJ42: 2 | CK42: 0.369 | CL42: 0.326 | CM42: 0 | CN42: 40 | CO42: Needs Assistance
A43: Jasper | B43: 10942 North Jacob Smart Boulevard | C43: Ridgeland | D43: SC | E43: 29936 | F43: 0.8333 | G43: 0.1667 | H43: 0.9583 | I43: 0.8889 | J43: 0.8333 | K43: 0.9583 | L43: 1 | M43: 0.75 | N43: 0.0476 | O43: 0.0769 | P43: 0.5 | Q43: 0 | R43: 0 | S43: 0.25 | T43: 1 | U43: 1 | V43: 0.5714 | W43: 0.5 | X43: 0.25 | Y43: 0.6667 | Z43: 0.2262 | AA43: 0.2564 | AB43: 0.2483 | AC43: 0.1369 | AD43: 0.1484 | AE43: 0.3309 | AF43: No | AG43: No | AH43: 0.584 | AI43: 0.1639 | AJ43: 0.0294 | AK43: 0.6842 | AL43: 0.0526 | AM43: 0.2105 | AN43: 1 | AO43: 1 | AP43: 1 | AQ43: 1 | AR43: 1 | AS43: 1 | AT43: NA | AU43: No | AV43: No | AW43: 0.9589 | AX43: 1 | AY43: 1 | AZ43: 0 | BA43: 0.75 | BB43: 1 | BC43: 2 | BD43: 0 | BE43: 2 | BF43: 2 | BG43: 1 | BH43: 2 | BI43: 2 | BJ43: 2 | BK43: 2 | BL43: 2 | BM43: 0.8333 | BN43: 0.625 | BO43: 0 | BP43: 0.2381 | BQ43: 0.1304 | BR43: 1.5 | BS43: 0.1333 | BT43: 0.25 | BU43: 0 | BV43: 0.0476 | BW43: 0.0435 | BX43: 0 | BY43: 0.2857 | BZ43: 0.0556 | CA43: 1 | CB43: 0.5672 | CC43: 0.584 | CD43: 3 | CE43: 1 | CF43: 1 | CG43: 0 | CH43: 0.082 | CI43: 0.2257 | CJ43: 0 | CK43: 0.429 | CL43: 0.211 | CM43: 0 | CN43: 40 | CO43: Needs Intervention
A44: Kershaw | B44: 2029 West DeKalb Street | C44: Camden | D44: SC | E44: 29020 | F44: 0.4512 | G44: 0.4756 | H44: 0.993 | I44: 0.9769 | J44: 0.9417 | K44: 0.9859 | L44: 0.9846 | M44: 0.9103 | N44: 0.219 | O44: 0.136 | P44: 0.4881 | Q44: 0.1618 | R44: 0.0635 | S44: 0.3333 | T44: 0.75 | U44: 0 | V44: 0.2308 | W44: 0.25 | X44: 0.5 | Y44: 0.1333 | Z44: 0.3358 | AA44: 0.4177 | AB44: 0.3839 | AC44: 0.3002 | AD44: 0.2277 | AE44: 0.2627 | AF44: No | AG44: No | AH44: 0.5518 | AI44: 0.2039 | AJ44: 0.0113 | AK44: 0.427 | AL44: 0.5169 | AM44: 0.0112 | AN44: 0.9643 | AO44: 0.403 | AP44: 0.9412 | AQ44: 0.4328 | AR44: 0.9348 | AS44: 0.5224 | AT44: 1 | AU44: No | AV44: No | AW44: 0.9903 | AX44: 1 | AY44: 0.2 | AZ44: 0.0606 | BA44: 0.5152 | BB44: 0.5758 | BC44: 2 | BD44: 2 | BE44: 1 | BF44: 2 | BG44: 1 | BH44: 2 | BI44: 2 | BJ44: 2 | BK44: 2 | BL44: 2 | BM44: 0.4512 | BN44: 0.5957 | BO44: 1 | BP44: 0.2676 | BQ44: 0.234 | BR44: 0.5 | BS44: 0.1185 | BT44: 0.1339 | BU44: 0 | BV44: 0.2308 | BW44: 0.1643 | BX44: 0.5 | BY44: 0.0365 | BZ44: 0.0703 | CA44: 1 | CB44: 0.5397 | CC44: 0.5518 | CD44: 3 | CE44: 1 | CF44: 1 | CG44: 2 | CH44: 0.1357 | CI44: 0.1574 | CJ44: 0 | CK44: 0.367 | CL44: 0.256 | CM44: 0 | CN44: 40 | CO44: Needs Assistance
A45: Lancaster | B45: 300 South Catawba Street | C45: Lancaster | D45: SC | E45: 29720 | F45: 0.5105 | G45: 0.3357 | H45: 0.9839 | I45: 0.9695 | J45: 0.9766 | K45: 0.9838 | L45: 0.9746 | M45: 0.9594 | N45: 0.1807 | O45: 0.125 | P45: 0.5409 | Q45: 0.1814 | R45: 0.0703 | S45: 0.2778 | T45: 0.3333 | U45: 0 | V45: 0.625 | W45: 0.5 | X45: 0.2857 | Y45: 0.4444 | Z45: 0.4076 | AA45: 0.3581 | AB45: 0.2972 | AC45: 0.3778 | AD45: 0.2616 | AE45: 0.2339 | AF45: No | AG45: No | AH45: 0.57 | AI45: 0.2047 | AJ45: 0.0229 | AK45: 0.0538 | AL45: 0.914 | AM45: 0 | AN45: 0.8716 | AO45: 0.4809 | AP45: 0.8224 | AQ45: 0.4733 | AR45: 0.8878 | AS45: 0.626 | AT45: 0.975 | AU45: No | AV45: No | AW45: 0.9899 | AX45: 1 | AY45: 1 | AZ45: 0.2 | BA45: 0.82 | BB45: 0.82 | BC45: 2 | BD45: 2 | BE45: 2 | BF45: 2 | BG45: 1 | BH45: 2 | BI45: 2 | BJ45: 2 | BK45: 2 | BL45: 1 | BM45: 0.5105 | BN45: 0.5588 | BO45: 0.5 | BP45: 0.1768 | BQ45: 0.1844 | BR45: 0.5 | BS45: 0.12 | BT45: 0.1204 | BU45: 0 | BV45: 0.2376 | BW45: 0.1893 | BX45: 1 | BY45: 0.0867 | BZ45: 0.0781 | CA45: 1 | CB45: 0.5608 | CC45: 0.57 | CD45: 3 | CE45: 1 | CF45: 1 | CG45: 1 | CH45: 0.1838 | CI45: 0.1814 | CJ45: 2 | CK45: 0.28 | CL45: 0.333 | CM45: 0 | CN45: 40 | CO45: Needs Assistance
A46: Laurens 55 | B46: 301 Hillcrest Drive | C46: Laurens | D46: SC | E46: 29360 | F46: 0.6226 | G46: 0.2453 | H46: 0.9846 | I46: 0.8571 | J46: 1 | K46: 0.9846 | L46: 0.9762 | M46: 0.9474 | N46: 0.1864 | O46: 0.1143 | P46: 0.5 | Q46: 0.0847 | R46: 0.025 | S46: 0.1875 | T46: 0.6 | U46: 0 | V46: 0.3333 | W46: 0.6 | X46: 0 | Y46: 0.1667 | Z46: 0.225 | AA46: 0.2592 | AB46: 0.2373 | AC46: 0.2406 | AD46: 0.1341 | AE46: 0.2788 | AF46: No | AG46: No | AH46: 0.5901 | AI46: 0.1764 | AJ46: 0.0117 | AK46: 0.3556 | AL46: 0.4889 | AM46: 0 | AN46: 0.9318 | AO46: 0.5294 | AP46: 0.9545 | AQ46: 0.5686 | AR46: 1 | AS46: 0.7059 | AT46: NA | AU46: No | AV46: No | AW46: 0.9925 | AX46: 1 | AY46: 0.6667 | AZ46: 0.25 | BA46: 0.75 | BB46: 0.75 | BC46: 2 | BD46: 2 | BE46: 1 | BF46: 2 | BG46: 1 | BH46: 2 | BI46: 2 | BJ46: 2 | BK46: 2 | BL46: 2 | BM46: 0.6226 | BN46: 0.5918 | BO46: 0.5 | BP46: 0.1111 | BQ46: 0.2188 | BR46: 0.5 | BS46: 0.0615 | BT46: 0.1111 | BU46: 0.5 | BV46: 0.0769 | BW46: 0.125 | BX46: 0 | BY46: 0.0462 | BZ46: 0.0244 | CA46: 0 | CB46: 0.6097 | CC46: 0.5901 | CD46: 3 | CE46: 1 | CF46: 1 | CG46: 2 | CH46: 0.0975 | CI46: 0.1299 | CJ46: 2 | CK46: 0.257 | CL46: 0.309 | CM46: 0 | CN46: 40 | CO46: Needs Assistance
A47: Laurens 56 | B47: 100 Old Colony Road | C47: Clinton | D47: SC | E47: 29325 | F47: 0.3333 | G47: 0.4762 | H47: 1 | I47: 1 | J47: 1 | K47: 1 | L47: 0.9524 | M47: 0.9231 | N47: 0.2045 | O47: 0 | P47: 0.25 | Q47: 0.2045 | R47: 0 | S47: 0.381 | T47: 0 | U47: 0 | V47: 0.25 | W47: 1 | X47: 0 | Y47: 0 | Z47: 0.2955 | AA47: 0.4772 | AB47: 0.5611 | AC47: 0.2748 | AD47: 0.2449 | AE47: 0.3598 | AF47: No | AG47: No | AH47: 0.6625 | AI47: 0.2174 | AJ47: 0.0083 | AK47: 0.1613 | AL47: 0.5161 | AM47: 0 | AN47: 0.9643 | AO47: 0.5938 | AP47: 1 | AQ47: 0.5938 | AR47: 1 | AS47: 0.625 | AT47: 1 | AU47: No | AV47: No | AW47: 1 | AX47: 1 | AY47: 1 | AZ47: 0.1429 | BA47: 0.5714 | BB47: 0.5714 | BC47: 2 | BD47: 2 | BE47: 2 | BF47: 2 | BG47: 2 | BH47: 2 | BI47: 2 | BJ47: 2 | BK47: 2 | BL47: 1 | BM47: 0.3333 | BN47: 0.4 | BO47: 0.5 | BP47: 0.0333 | BQ47: 0.2 | BR47: 0 | BS47: 0.0556 | BT47: 0 | BU47: 1.5 | BV47: 0.1 | BW47: 0.2222 | BX47: 0 | BY47: 0.0278 | BZ47: 0 | CA47: 2 | CB47: 0.6108 | CC47: 0.6625 | CD47: 3 | CE47: 1 | CF47: 1 | CG47: 2 | CH47: 0.1928 | CI47: 0.142 | CJ47: 2 | CK47: 0.275 | CL47: 0.333 | CM47: 1 | CN47: 40 | CO47: Meets Requirement
A48: Lee | B48: P.O. Box 507 | C48: Bishopville | D48: SC | E48: 29010 | F48: 0.7778 | G48: 0 | H48: 1 | I48: 0.85 | J48: 0.9 | K48: 1 | L48: 0.9 | M48: 0.8889 | N48: 0.1429 | O48: 0.1333 | P48: 0.4444 | Q48: 0.0714 | R48: 0.0625 | S48: 0.25 | T48: 1 | U48: 0 | V48: 0 | W48: 1 | X48: 0 | Y48: 0 | Z48: 0.1981 | AA48: 0.1327 | AB48: 0.2646 | AC48: 0.2127 | AD48: 0.0096 | AE48: 0.0568 | AF48: No | AG48: No | AH48: 0.4144 | AI48: 0.2541 | AJ48: 0.0055 | AK48: 1 | AL48: 0 | AM48: 0 | AN48: 1 | AO48: 0.7 | AP48: 0.7 | AQ48: 0.5 | AR48: 0.8333 | AS48: 0.9 | AT48: 1 | AU48: No | AV48: No | AW48: 1 | AX48: 1 | AY48: 1 | AZ48: 0.3333 | BA48: 0.3333 | BB48: 0.3333 | BC48: 2 | BD48: 2 | BE48: 2 | BF48: 2 | BG48: 2 | BH48: 2 | BI48: 2 | BJ48: 2 | BK48: 2 | BL48: 3 | BM48: 0.7778 | BN48: 0.8 | BO48: 0.5 | BP48: 0.0625 | BQ48: 0.2 | BR48: 0.5 | BS48: 0.1111 | BT48: 0.1176 | BU48: 0.5 | BV48: 0 | BW48: 0.1333 | BX48: 0.5 | BY48: 0.0526 | BZ48: 0.0556 | CA48: 1 | CB48: 0.3923 | CC48: 0.4144 | CD48: 3 | CE48: 1 | CF48: 1 | CG48: 1 | CH48: 0.4332 | CI48: 0.418 | CJ48: 1 | CK48: 0.172 | CL48: 0.2 | CM48: 0 | CN48: 40 | CO48: Needs Assistance
A49: Lexington 1 | B49: P.O. Box 1869 | C49: Lexington | D49: SC | E49: 29071 | F49: 0.6136 | G49: 0.1875 | H49: 0.9857 | I49: 0.9582 | J49: 0.9618 | K49: 0.9885 | L49: 0.9547 | M49: 0.9207 | N49: 0.2246 | O49: 0.1152 | P49: 0.5145 | Q49: 0.2186 | R49: 0.0485 | S49: 0.3516 | T49: 0.4 | U49: 0.6667 | V49: 0.5455 | W49: 0.4545 | X49: 0.8333 | Y49: 0.3636 | Z49: 0.3929 | AA49: 0.4437 | AB49: 0.3623 | AC49: 0.3026 | AD49: 0.304 | AE49: 0.268 | AF49: No | AG49: No | AH49: 0.7408 | AI49: 0.1016 | AJ49: 0.005 | AK49: 0.237 | AL49: 0.4903 | AM49: 0.0032 | AN49: 0.8478 | AO49: 0.4657 | AP49: 0.8734 | AQ49: 0.5735 | AR49: 0.9096 | AS49: 0.5686 | AT49: 0.9583 | AU49: No | AV49: No | AW49: 0.9959 | AX49: 0.9877 | AY49: 1 | AZ49: 0.1757 | BA49: 0.6486 | BB49: 0.6892 | BC49: 2 | BD49: 2 | BE49: 2 | BF49: 2 | BG49: 1 | BH49: 1 | BI49: 2 | BJ49: 2 | BK49: 2 | BL49: 0 | BM49: 0.6136 | BN49: 0.5142 | BO49: 1 | BP49: 0.2082 | BQ49: 0.2297 | BR49: 0.5 | BS49: 0.0766 | BT49: 0.1273 | BU49: 1.5 | BV49: 0.1971 | BW49: 0.2261 | BX49: 0.5 | BY49: 0.0366 | BZ49: 0.0657 | CA49: 3 | CB49: 0.7408 | CC49: 0.7408 | CD49: 3 | CE49: 1 | CF49: 1 | CG49: 2 | CH49: 0.105 | CI49: 0.1088 | CJ49: 2 | CK49: 0.385 | CL49: 0.308 | CM49: 0 | CN49: 40 | CO49: Needs Assistance
A50: Lexington 2 | B50: 715 Ninth Street | C50: West Columbia | D50: SC | E50: 29169 | F50: 0.6111 | G50: 0 | H50: 1 | I50: 0.9828 | J50: 0.947 | K50: 1 | L50: 0.9828 | M50: 0.947 | N50: 0.1081 | O50: 0.0648 | P50: 0.5085 | Q50: 0.0721 | R50: 0.037 | S50: 0.2132 | T50: 0 | U50: 0.1667 | V50: 0.7143 | W50: 0.2 | X50: 0.3333 | Y50: 0.7143 | Z50: 0.3338 | AA50: 0.3307 | AB50: 0.2912 | AC50: 0.2933 | AD50: 0.2467 | AE50: 0.1916 | AF50: No | AG50: No | AH50: 0.6271 | AI50: 0.1282 | AJ50: 0.0297 | AK50: 0.3621 | AL50: 0.4483 | AM50: 0.0431 | AN50: 0.9103 | AO50: 0.4444 | AP50: 0.8767 | AQ50: 0.4444 | AR50: 0.9041 | AS50: 0.642 | AT50: 1 | AU50: No | AV50: No | AW50: 0.9887 | AX50: 1 | AY50: 0.8 | AZ50: 0.2667 | BA50: 0.6 | BB50: 0.7333 | BC50: 2 | BD50: 2 | BE50: 1 | BF50: 2 | BG50: 1 | BH50: 2 | BI50: 2 | BJ50: 2 | BK50: 2 | BL50: 3 | BM50: 0.6111 | BN50: 0.8704 | BO50: 0 | BP50: 0.1958 | BQ50: 0.1034 | BR50: 0.5 | BS50: 0.0459 | BT50: 0.0702 | BU50: 0 | BV50: 0.1806 | BW50: 0.0776 | BX50: 0 | BY50: 0.1193 | BZ50: 0.0526 | CA50: 0 | CB50: 0.6543 | CC50: 0.6271 | CD50: 3 | CE50: 1 | CF50: 1 | CG50: 0 | CH50: 0.1981 | CI50: 0.2246 | CJ50: 0 | CK50: 0.173 | CL50: 0.081 | CM50: 0 | CN50: 40 | CO50: Needs Intervention
A51: Lexington 3 | B51: 338 West Columbia Avenue | C51: Batesburg-Leesville | D51: SC | E51: 29006 | F51: 0.4 | G51: 0.4 | H51: 0.9565 | I51: 0.9565 | J51: 0.92 | K51: 0.9565 | L51: 0.9565 | M51: 0.9444 | N51: 0.0455 | O51: 0 | P51: 0.4545 | Q51: 0.0909 | R51: 0 | S51: 0.125 | T51: 0 | U51: 0 | V51: 1 | W51: 0 | X51: 0 | Y51: 1 | Z51: 0.3706 | AA51: 0.4768 | AB51: 0.3012 | AC51: 0.2449 | AD51: 0.2649 | AE51: 0.3098 | AF51: No | AG51: No | AH51: 0.7363 | AI51: 0.1511 | AJ51: 0.0257 | AK51: 0.6 | AL51: 0.4 | AM51: 0 | AN51: 1 | AO51: 0.5 | AP51: 1 | AQ51: 0.8333 | AR51: 1 | AS51: 0.8333 | AT51: 1 | AU51: No | AV51: No | AW51: 1 | AX51: 1 | AY51: 1 | AZ51: 0 | BA51: 0.6667 | BB51: 0.6667 | BC51: 2 | BD51: 2 | BE51: 2 | BF51: 2 | BG51: 2 | BH51: 2 | BI51: 2 | BJ51: 2 | BK51: 2 | BL51: 2 | BM51: 0.4 | BN51: 0.64 | BO51: 0 | BP51: 0.1935 | BQ51: 0.0455 | BR51: 0 | BS51: 0 | BT51: 0 | BU51: 0 | BV51: 0.1935 | BW51: 0.0909 | BX51: 0 | BY51: 0 | BZ51: 0 | CA51: 3 | CB51: 0.7119 | CC51: 0.7363 | CD51: 3 | CE51: 1 | CF51: 1 | CG51: 2 | CH51: 0.1371 | CI51: 0.1464 | CJ51: 3 | CK51: 0.5 | CL51: 0.455 | CM51: 1 | CN51: 40 | CO51: Meets Requirement
A52: Lexington 4 | B52: 607 East Fifth Street | C52: Swansea | D52: SC | E52: 29160 | F52: 0.4359 | G52: 0.4872 | H52: 1 | I52: 0.9778 | J52: 0.9778 | K52: 0.9841 | L52: 0.9556 | M52: 0.973 | N52: 0.1667 | O52: 0.0476 | P52: 0.2045 | Q52: 0.1017 | R52: 0.0244 | S52: 0.1389 | T52: 0.3333 | U52: 0 | V52: 0 | W52: 0.3333 | X52: 0 | Y52: 0 | Z52: 0.2213 | AA52: 0.2545 | AB52: 0.4576 | AC52: 0.1312 | AD52: 0.1055 | AE52: 0.2762 | AF52: No | AG52: No | AH52: 0.7739 | AI52: 0.1754 | AJ52: 0.0087 | AK52: 0.0847 | AL52: 0.3898 | AM52: 0 | AN52: 0.8537 | AO52: 0.5306 | AP52: 0.907 | AQ52: 0.4898 | AR52: 1 | AS52: 0.7347 | AT52: NA | AU52: No | AV52: No | AW52: 1 | AX52: 1 | AY52: 1 | AZ52: 0.0323 | BA52: 0.6452 | BB52: 0.7097 | BC52: 2 | BD52: 2 | BE52: 2 | BF52: 2 | BG52: 2 | BH52: 2 | BI52: 2 | BJ52: 2 | BK52: 2 | BL52: 1 | BM52: 0.4359 | BN52: 0.5263 | BO52: 0.5 | BP52: 0.0667 | BQ52: 0.1746 | BR52: 0.5 | BS52: 0 | BT52: 0.0455 | BU52: 0.5 | BV52: 0.05 | BW52: 0.1129 | BX52: 0.5 | BY52: 0 | BZ52: 0.0233 | CA52: 3 | CB52: 0.7547 | CC52: 0.7739 | CD52: 3 | CE52: 1 | CF52: 1 | CG52: 2 | CH52: 0.1424 | CI52: 0.1362 | CJ52: 2 | CK52: 0.059 | CL52: 0.333 | CM52: 1 | CN52: 40 | CO52: Meets Requirement
A53: Lexington 5 | B53: 1020 Dutch Fork Road | C53: Irmo | D53: SC | E53: 29063 | F53: 0.6181 | G53: 0.2708 | H53: 1 | I53: 0.9604 | J53: 0.9415 | K53: 1 | L53: 0.9653 | M53: 0.9249 | N53: 0.31 | O53: 0.123 | P53: 0.5828 | Q53: 0.2489 | R53: 0.0802 | S53: 0.3289 | T53: 0.3333 | U53: 0.1429 | V53: 0.3571 | W53: 0.3333 | X53: 0.375 | Y53: 0.4545 | Z53: 0.3286 | AA53: 0.4764 | AB53: 0.3396 | AC53: 0.3011 | AD53: 0.3086 | AE53: 0.35 | AF53: No | AG53: No | AH53: 0.7261 | AI53: 0.1219 | AJ53: 0.0046 | AK53: 0.245 | AL53: 0.48 | AM53: 0.005 | AN53: 0.9182 | AO53: 0.5366 | AP53: 0.972 | AQ53: 0.5528 | AR53: 0.9423 | AS53: 0.6423 | AT53: 0.9744 | AU53: No | AV53: No | AW53: 1 | AX53: 1 | AY53: 0.85 | AZ53: 0.2115 | BA53: 0.5962 | BB53: 0.6538 | BC53: 2 | BD53: 2 | BE53: 2 | BF53: 2 | BG53: 2 | BH53: 2 | BI53: 2 | BJ53: 2 | BK53: 2 | BL53: 2 | BM53: 0.6181 | BN53: 0.6133 | BO53: 1.5 | BP53: 0.3133 | BQ53: 0.3112 | BR53: 0 | BS53: 0.146 | BT53: 0.1237 | BU53: 1.5 | BV53: 0.2596 | BW53: 0.2531 | BX53: 1 | BY53: 0.1095 | BZ53: 0.0923 | CA53: 3 | CB53: 0.7211 | CC53: 0.7261 | CD53: 3 | CE53: 1 | CF53: 1 | CG53: 2 | CH53: 0.1349 | CI53: 0.1534 | CJ53: 3 | CK53: 0.367 | CL53: 0.5 | CM53: 0 | CN53: 40 | CO53: Meets Requirement
A54: Limestone Charter | B54: 6923 North Trenholm Road, Suite 133 | C54: Columbia | D54: SC | E54: 29206 | F54: NA | G54: NA | H54: 1 | I54: 1 | J54: 1 | K54: 1 | L54: 1 | M54: 1 | N54: 0.1 | O54: 0 | P54: 0.52 | Q54: 0.1 | R54: 0 | S54: 0.3571 | T54: 0 | U54: 0 | V54: 1 | W54: 0 | X54: 0 | Y54: 0 | Z54: 0.3623 | AA54: 0.4947 | AB54: 0.3666 | AC54: 0.1547 | AD54: 0.1474 | AE54: 0.191 | AF54: NA | AG54: NA | AH54: 0.6837 | AI54: 0.0663 | AJ54: 0.0102 | AK54: NA | AL54: NA | AM54: NA | AN54: NA | AO54: NA | AP54: NA | AQ54: NA | AR54: NA | AS54: NA | AT54: 1 | AU54: No | AV54: No | AW54: 1 | AX54: NA | AY54: NA | AZ54: NA | BA54: NA | BB54: NA | BC54: 2 | BD54: NA | BE54: NA | BF54: NA | BG54: 2 | BH54: NA | BI54: NA | BJ54: 2 | BK54: 2 | BL54: 3 | BM54: NA | BN54: 0.7692 | BO54: 0.5 | BP54: NA | BQ54: 0.1 | BR54: 0 | BS54: NA | BT54: 0 | BU54: 0.5 | BV54: NA | BW54: 0.1 | BX54: 0 | BY54: NA | BZ54: 0 | CA54: 2 | CB54: NA | CC54: 0.6837 | CD54: NA | CE54: NA | CF54: NA | CG54: 2 | CH54: NA | CI54: 0.1378 | CJ54: 1 | CK54: NA | CL54: 0.211 | CM54: 0 | CN54: 27 | CO54: Needs Assistance
A55: Marion | B55: 719 North Main Street | C55: Marion | D55: SC | E55: 29571 | F55: 0.42 | G55: 0.58 | H55: 0.9744 | I55: 1 | J55: 0.902 | K55: 0.9744 | L55: 1 | M55: 0.825 | N55: 0.0294 | O55: 0.0385 | P55: 0.3171 | Q55: 0.0588 | R55: 0.0385 | S55: 0.1563 | T55: 0.25 | U55: 1 | V55: 0.4 | W55: 0 | X55: 1 | Y55: 0 | Z55: 0.2444 | AA55: 0.2619 | AB55: 0.3907 | AC55: 0.0738 | AD55: 0.0572 | AE55: 0.2188 | AF55: Yes | AG55: No | AH55: 0.5765 | AI55: 0.102 | AJ55: 0.0085 | AK55: 0.7917 | AL55: 0 | AM55: 0 | AN55: 0.7857 | AO55: 0.2857 | AP55: 0.7143 | AQ55: 0.2857 | AR55: 0.75 | AS55: 0.2143 | AT55: NA | AU55: No | AV55: No | AW55: 0.9894 | AX55: 1 | AY55: 0.9167 | AZ55: 0.05 | BA55: 0.5 | BB55: 0.5 | BC55: 2 | BD55: 2 | BE55: 1 | BF55: 2 | BG55: 1 | BH55: 2 | BI55: 2 | BJ55: 2 | BK55: 2 | BL55: 1 | BM55: 0.42 | BN55: 0.4906 | BO55: 0.5 | BP55: 0.0455 | BQ55: 0.0526 | BR55: 0.5 | BS55: 0.0185 | BT55: 0.0741 | BU55: 0 | BV55: 0.0909 | BW55: 0.0526 | BX55: 1 | BY55: 0.037 | BZ55: 0.0741 | CA55: 0 | CB55: 0.6617 | CC55: 0.5765 | CD55: 3 | CE55: 1 | CF55: 1 | CG55: 0 | CH55: 0.2995 | CI55: 0.433 | CJ55: 0 | CK55: 0.212 | CL55: 0.155 | CM55: 0 | CN55: 40 | CO55: Needs Intervention
A56: Marlboro | B56: P.O. Box 947 | C56: Bennettsville | D56: SC | E56: 29512 | F56: 0.4375 | G56: 0.5 | H56: 0.9643 | I56: 0.9688 | J56: 0.7222 | K56: 0.9643 | L56: 0.9688 | M56: 0.7959 | N56: 0.1481 | O56: 0.1071 | P56: 0.12 | Q56: 0.0741 | R56: 0 | S56: 0.1282 | T56: 0 | U56: 0 | V56: 1 | W56: 0 | X56: 0.3333 | Y56: 0 | Z56: 0.2279 | AA56: 0.2433 | AB56: 0.5979 | AC56: 0.1855 | AD56: 0.1226 | AE56: 0.2135 | AF56: No | AG56: No | AH56: 0.5686 | AI56: 0.2965 | AJ56: 0.042 | AK56: 0.3846 | AL56: 0.5385 | AM56: 0.0256 | AN56: 0.4783 | AO56: 0.2963 | AP56: 0.5455 | AQ56: 0.2222 | AR56: 0.5263 | AS56: 0.2963 | AT56: 1 | AU56: No | AV56: No | AW56: 1 | AX56: 1 | AY56: 0.25 | AZ56: 0.2727 | BA56: 0.6364 | BB56: 0.7273 | BC56: 2 | BD56: 2 | BE56: 1 | BF56: 2 | BG56: 2 | BH56: 2 | BI56: 2 | BJ56: 2 | BK56: 2 | BL56: 1 | BM56: 0.4375 | BN56: 0.475 | BO56: 0.5 | BP56: 0.0682 | BQ56: 0.1481 | BR56: 0.5 | BS56: 0.0784 | BT56: 0.0968 | BU56: 0.5 | BV56: 0.0227 | BW56: 0.0741 | BX56: 0.5 | BY56: 0.0192 | BZ56: 0.0323 | CA56: 0 | CB56: 0.5933 | CC56: 0.5686 | CD56: 3 | CE56: 1 | CF56: 1 | CG56: 0 | CH56: 0.1302 | CI56: 0.1976 | CJ56: 0 | CK56: 0 | CL56: 0 | CM56: 0 | CN56: 40 | CO56: Needs Assistance
A57: McCormick | B57: 821 North Mine Street | C57: McCormick | D57: SC | E57: 29835 | F57: 0.8 | G57: 0.2 | H57: 1 | I57: 1 | J57: 1 | K57: 1 | L57: 1 | M57: 1 | N57: 0 | O57: 0 | P57: 0.2857 | Q57: 0 | R57: 0.1429 | S57: 0.25 | T57: 0 | U57: 0 | V57: 0 | W57: 0 | X57: 0 | Y57: 0.5 | Z57: 0.2941 | AA57: 0.2093 | AB57: 0.3908 | AC57: 0.1471 | AD57: -0.0731 | AE57: 0.1123 | AF57: No | AG57: No | AH57: 0.5263 | AI57: 0.2105 | AJ57: 0.0211 | AK57: 0.3333 | AL57: 0 | AM57: 0 | AN57: 1 | AO57: 0.3333 | AP57: 1 | AQ57: 0.6667 | AR57: 0.5 | AS57: 0.6667 | AT57: 1 | AU57: No | AV57: No | AW57: 1 | AX57: 1 | AY57: 1 | AZ57: 0.6 | BA57: 1 | BB57: 1 | BC57: 2 | BD57: 2 | BE57: 2 | BF57: 2 | BG57: 2 | BH57: 2 | BI57: 2 | BJ57: 2 | BK57: 2 | BL57: 0 | BM57: 0.8 | BN57: 0.25 | BO57: 0 | BP57: 0.2857 | BQ57: 0 | BR57: 0 | BS57: 0 | BT57: 0 | BU57: 0 | BV57: 0.2857 | BW57: 0 | BX57: 1.5 | BY57: 0 | BZ57: 0.1429 | CA57: 0 | CB57: 0.5429 | CC57: 0.5263 | CD57: 3 | CE57: 1 | CF57: 1 | CG57: 1 | CH57: 0.1944 | CI57: 0.1837 | CJ57: 1 | CK57: 0 | CL57: 0.3 | CM57: 1 | CN57: 40 | CO57: Needs Assistance
A58: Newberry | B58: P.O. Box 718 | C58: Newberry | D58: SC | E58: 29108 | F58: 0 | G58: 1 | H58: 1 | I58: 1 | J58: 0.9737 | K58: 1 | L58: 0.9792 | M58: 0.9574 | N58: 0.2319 | O58: 0.0426 | P58: 0.5135 | Q58: 0.1884 | R58: 0.0217 | S58: 0.4667 | T58: 0.25 | U58: 0 | V58: 0 | W58: 0.25 | X58: 0 | Y58: 0 | Z58: 0.1919 | AA58: 0.4537 | AB58: 0.319 | AC58: 0.172 | AD58: 0.2413 | AE58: 0.2583 | AF58: No | AG58: No | AH58: 0.6599 | AI58: 0.2075 | AJ58: 0.0144 | AK58: 0.5789 | AL58: 0.1842 | AM58: 0 | AN58: 1 | AO58: 0.5 | AP58: 0.8235 | AQ58: 0.5 | AR58: 0.9355 | AS58: 0.6111 | AT58: 1 | AU58: No | AV58: No | AW58: 1 | AX58: 1 | AY58: 1 | AZ58: 0.3636 | BA58: 1 | BB58: 1 | BC58: 2 | BD58: 2 | BE58: 2 | BF58: 2 | BG58: 2 | BH58: 2 | BI58: 2 | BJ58: 2 | BK58: 2 | BL58: 1 | BM58: 0 | BN58: 0.4444 | BO58: 1 | BP58: 0.125 | BQ58: 0.2329 | BR58: 0.5 | BS58: 0 | BT58: 0.0417 | BU58: 0.5 | BV58: 0.1071 | BW58: 0.1918 | BX58: 0 | BY58: 0.027 | BZ58: 0.0213 | CA58: 2 | CB58: 0.7031 | CC58: 0.6599 | CD58: 3 | CE58: 1 | CF58: 1 | CG58: 2 | CH58: 0.157 | CI58: 0.1585 | CJ58: 0 | CK58: 0.179 | CL58: 0.157 | CM58: 0 | CN58: 40 | CO58: Needs Assistance
A59: Oconee | B59: 414 South Pine Street | C59: Walhalla | D59: SC | E59: 29691 | F59: 0.2895 | G59: 0.4605 | H59: 0.9894 | I59: 0.9662 | J59: 0.9324 | K59: 0.9894 | L59: 0.9662 | M59: 0.8896 | N59: 0.2418 | O59: 0.0821 | P59: 0.48 | Q59: 0.2143 | R59: 0.0896 | S59: 0.3235 | T59: 0.5 | U59: 0.1111 | V59: 0.2308 | W59: 0.75 | X59: 0.3333 | Y59: 0.4444 | Z59: 0.3032 | AA59: 0.4192 | AB59: 0.3799 | AC59: 0.2053 | AD59: 0.349 | AE59: 0.3596 | AF59: No | AG59: No | AH59: 0.6234 | AI59: 0.1926 | AJ59: 0.0166 | AK59: 0.1651 | AL59: 0.4679 | AM59: 0.0092 | AN59: 0.8704 | AO59: 0.5469 | AP59: 0.9057 | AQ59: 0.5313 | AR59: 0.8958 | AS59: 0.6563 | AT59: 1 | AU59: No | AV59: No | AW59: 0.9971 | AX59: 1 | AY59: 1 | AZ59: 0.0444 | BA59: 0.5111 | BB59: 0.6444 | BC59: 2 | BD59: 2 | BE59: 2 | BF59: 2 | BG59: 1 | BH59: 2 | BI59: 2 | BJ59: 2 | BK59: 2 | BL59: 1 | BM59: 0.2895 | BN59: 0.5047 | BO59: 1 | BP59: 0.1703 | BQ59: 0.2473 | BR59: 0 | BS59: 0.1173 | BT59: 0.0839 | BU59: 1.5 | BV59: 0.1813 | BW59: 0.2258 | BX59: 1.5 | BY59: 0.0559 | BZ59: 0.1049 | CA59: 1 | CB59: 0.5976 | CC59: 0.6234 | CD59: 3 | CE59: 1 | CF59: 1 | CG59: 2 | CH59: 0.1337 | CI59: 0.1511 | CJ59: 0 | CK59: 0.281 | CL59: 0.281 | CM59: 1 | CN59: 40 | CO59: Needs Assistance
A60: Orangeburg | B60: 102 Founder's Court | C60: Orangeburg | D60: SC | E60: 29118 | F60: 0.2941 | G60: 0.4118 | H60: 0.9703 | I60: 0.9712 | J60: 0.9231 | K60: 0.9703 | L60: 0.9856 | M60: 0.9 | N60: 0.1136 | O60: 0.082 | P60: 0.3472 | Q60: 0.1136 | R60: 0.0081 | S60: 0.2143 | T60: 0.8 | U60: 0.4615 | V60: 0.25 | W60: 0.9 | X60: 0.5 | Y60: 0.5 | Z60: 0.2385 | AA60: 0.2554 | AB60: 0.3792 | AC60: 0.111 | AD60: 0.0839 | AE60: 0.2008 | AF60: No | AG60: No | AH60: 0.4579 | AI60: 0.3415 | AJ60: 0.0079 | AK60: 0.5 | AL60: 0.4219 | AM60: 0.0313 | AN60: 0.9474 | AO60: 0.5455 | AP60: 0.8 | AQ60: 0.5 | AR60: 0.8889 | AS60: 0.6364 | AT60: NA | AU60: No | AV60: No | AW60: 0.7174 | AX60: 0.5714 | AY60: 0.85 | AZ60: 0 | BA60: 0.5714 | BB60: 0.7619 | BC60: 2 | BD60: 2 | BE60: 1 | BF60: 2 | BG60: 1 | BH60: 1 | BI60: 2 | BJ60: 2 | BK60: 2 | BL60: 0 | BM60: 0.2941 | BN60: 0.25 | BO60: 0.5 | BP60: 0.1579 | BQ60: 0.1837 | BR60: 0.5 | BS60: 0.0533 | BT60: 0.1185 | BU60: 1 | BV60: 0.1158 | BW60: 0.1939 | BX60: 0.5 | BY60: 0.0267 | BZ60: 0.0584 | CA60: 0 | CB60: 0.4678 | CC60: 0.4579 | CD60: 3 | CE60: 1 | CF60: 1 | CG60: 3 | CH60: 0.0497 | CI60: 0.0255 | CJ60: 1 | CK60: 0.188 | CL60: 0.212 | CM60: 0 | CN60: 40 | CO60: Needs Assistance
A61: Palmetto Unified | B61: 1735 Haviland Circle | C61: Columbia | D61: SC | E61: 29210 | F61: NA | G61: 0.4815 | H61: NA | I61: NA | J61: NA | K61: NA | L61: NA | M61: NA | N61: NA | O61: NA | P61: NA | Q61: NA | R61: NA | S61: NA | T61: NA | U61: NA | V61: NA | W61: NA | X61: NA | Y61: NA | Z61: NA | AA61: NA | AB61: NA | AC61: NA | AD61: NA | AE61: NA | AF61: No | AG61: No | AH61: 0.037 | AI61: 0 | AJ61: 0 | AK61: NA | AL61: NA | AM61: NA | AN61: NA | AO61: NA | AP61: NA | AQ61: NA | AR61: NA | AS61: NA | AT61: NA | AU61: No | AV61: No | AW61: NA | AX61: NA | AY61: 1 | AZ61: NA | BA61: NA | BB61: NA | BC61: 2 | BD61: 2 | BE61: 2 | BF61: 2 | BG61: NA | BH61: NA | BI61: 2 | BJ61: 2 | BK61: 2 | BL61: 1 | BM61: NA | BN61: 0.069 | BO61: NA | BP61: NA | BQ61: NA | BR61: NA | BS61: NA | BT61: NA | BU61: NA | BV61: NA | BW61: NA | BX61: NA | BY61: NA | BZ61: NA | CA61: 1 | CB61: NA | CC61: 0.037 | CD61: NA | CE61: NA | CF61: NA | CG61: 3 | CH61: NA | CI61: 0 | CJ61: 0 | CK61: NA | CL61: 0 | CM61: 0 | CN61: 27 | CO61: Needs Assistance
A62: Pickens | B62: 1348 Griffin Mill Road | C62: Easley | D62: SC | E62: 29640 | F62: 0.5145 | G62: 0.3551 | H62: 0.9957 | I62: 0.9785 | J62: 0.9695 | K62: 1 | L62: 0.9892 | M62: 0.9489 | N62: 0.2172 | O62: 0.0952 | P62: 0.4362 | Q62: 0.1667 | R62: 0.0353 | S62: 0.237 | T62: 0.4167 | U62: 0.1429 | V62: 0.6 | W62: 0.25 | X62: 0.2857 | Y62: 0.25 | Z62: 0.4176 | AA62: 0.4559 | AB62: 0.4314 | AC62: 0.351 | AD62: 0.3314 | AE62: 0.3291 | AF62: No | AG62: No | AH62: 0.6613 | AI62: 0.1419 | AJ62: 0.0157 | AK62: 0.2982 | AL62: 0.5789 | AM62: 0 | AN62: 0.8242 | AO62: 0.3711 | AP62: 0.8925 | AQ62: 0.4227 | AR62: 0.8916 | AS62: 0.4948 | AT62: 1 | AU62: No | AV62: No | AW62: 1 | AX62: 1 | AY62: 1 | AZ62: 0.1325 | BA62: 0.7349 | BB62: 0.8434 | BC62: 2 | BD62: 2 | BE62: 2 | BF62: 2 | BG62: 2 | BH62: 2 | BI62: 2 | BJ62: 2 | BK62: 2 | BL62: 2 | BM62: 0.5145 | BN62: 0.5752 | BO62: 1 | BP62: 0.168 | BQ62: 0.2275 | BR62: 0.5 | BS62: 0.0737 | BT62: 0.0989 | BU62: 0 | BV62: 0.1878 | BW62: 0.1709 | BX62: 0.5 | BY62: 0.0368 | BZ62: 0.0543 | CA62: 2 | CB62: 0.6847 | CC62: 0.6613 | CD62: 3 | CE62: 1 | CF62: 1 | CG62: 2 | CH62: 0.1273 | CI62: 0.1277 | CJ62: 3 | CK62: 0.472 | CL62: 0.477 | CM62: 1 | CN62: 40 | CO62: Meets Requirement
A63: Richland 1 | B63: 1616 Richland Street | C63: Columbia | D63: SC | E63: 29201 | F63: 0.4249 | G63: 0.3443 | H63: 0.9826 | I63: 0.97 | J63: 0.9148 | K63: 0.9826 | L63: 0.9742 | M63: 0.9312 | N63: 0.1659 | O63: 0.1028 | P63: 0.3886 | Q63: 0.1374 | R63: 0.0372 | S63: 0.2636 | T63: 0.4 | U63: 0.5833 | V63: 0.0909 | W63: 0 | X63: 0.5 | Y63: 0.1 | Z63: 0.3017 | AA63: 0.3504 | AB63: 0.3746 | AC63: 0.1903 | AD63: 0.2093 | AE63: 0.2013 | AF63: No | AG63: No | AH63: 0.5802 | AI63: 0.1423 | AJ63: 0.0324 | AK63: 0.6 | AL63: 0.2875 | AM63: 0.0188 | AN63: 0.8537 | AO63: 0.3381 | AP63: 0.8387 | AQ63: 0.3525 | AR63: 0.839 | AS63: 0.5108 | AT63: 1 | AU63: No | AV63: No | AW63: 0.9424 | AX63: 1 | AY63: 1 | AZ63: 0.1392 | BA63: 0.557 | BB63: 0.7342 | BC63: 2 | BD63: 2 | BE63: 2 | BF63: 2 | BG63: 1 | BH63: 2 | BI63: 2 | BJ63: 2 | BK63: 2 | BL63: 1 | BM63: 0.4249 | BN63: 0.5058 | BO63: 0.5 | BP63: 0.1522 | BQ63: 0.1814 | BR63: 0.5 | BS63: 0.1099 | BT63: 0.1283 | BU63: 0.5 | BV63: 0.1096 | BW63: 0.1283 | BX63: 0.5 | BY63: 0.049 | BZ63: 0.0617 | CA63: 1 | CB63: 0.5751 | CC63: 0.5802 | CD63: 3 | CE63: 1 | CF63: 1 | CG63: 0 | CH63: 0.1514 | CI63: 0.2736 | CJ63: 1 | CK63: 0.17 | CL63: 0.183 | CM63: 0 | CN63: 40 | CO63: Needs Assistance
A64: Richland 2 | B64: 124 Risdon Way | C64: Columbia | D64: SC | E64: 29223 | F64: 0.6339 | G64: 0.2623 | H64: 0.9967 | I64: 0.9645 | J64: 0.9592 | K64: 0.9967 | L64: 0.9574 | M64: 0.9586 | N64: 0.2245 | O64: 0.1373 | P64: 0.5078 | Q64: 0.2177 | R64: 0.0237 | S64: 0.3589 | T64: 0.5833 | U64: 0.1176 | V64: 0.2917 | W64: 0.4167 | X64: 0.2941 | Y64: 0.3 | Z64: 0.377 | AA64: 0.4105 | AB64: 0.35 | AC64: 0.2721 | AD64: 0.2303 | AE64: 0.2667 | AF64: No | AG64: No | AH64: 0.6769 | AI64: 0.1489 | AJ64: 0.0106 | AK64: 0.3262 | AL64: 0.3763 | AM64: 0.0072 | AN64: 0.9452 | AO64: 0.5563 | AP64: 0.8992 | AQ64: 0.6125 | AR64: 0.918 | AS64: 0.7375 | AT64: 0.8611 | AU64: No | AV64: No | AW64: 0.9941 | AX64: 1 | AY64: 1 | AZ64: 0.3559 | BA64: 0.6271 | BB64: 0.7458 | BC64: 2 | BD64: 2 | BE64: 2 | BF64: 2 | BG64: 1 | BH64: 2 | BI64: 2 | BJ64: 2 | BK64: 2 | BL64: 2 | BM64: 0.6339 | BN64: 0.6234 | BO64: 1 | BP64: 0.2186 | BQ64: 0.2386 | BR64: 0.5 | BS64: 0.0778 | BT64: 0.136 | BU64: 1.5 | BV64: 0.2 | BW64: 0.2255 | BX64: 0 | BY64: 0.0667 | BZ64: 0.0407 | CA64: 2 | CB64: 0.6547 | CC64: 0.6769 | CD64: 3 | CE64: 1 | CF64: 1 | CG64: 0 | CH64: 0.1703 | CI64: 0.1743 | CJ64: 2 | CK64: 0.386 | CL64: 0.321 | CM64: 0 | CN64: 40 | CO64: Needs Assistance
A65: Saluda | B65: 404 North Wise Road | C65: Saluda | D65: SC | E65: 29138 | F65: 0.5238 | G65: 0.2381 | H65: 0.9565 | I65: 1 | J65: 1 | K65: 0.9565 | L65: 1 | M65: 0.9722 | N65: 0.1429 | O65: 0.0286 | P65: 0.3571 | Q65: 0.0952 | R65: 0.0286 | S65: 0.2353 | T65: 0 | U65: 0.6667 | V65: 1 | W65: 0 | X65: 0.3333 | Y65: 0 | Z65: 0.3414 | AA65: 0.3646 | AB65: 0.3397 | AC65: 0.3258 | AD65: 0.2724 | AE65: 0.213 | AF65: No | AG65: No | AH65: 0.7208 | AI65: 0.1254 | AJ65: 0.0085 | AK65: 0.2 | AL65: 0.5667 | AM65: 0.0333 | AN65: 0.6333 | AO65: 0.1875 | AP65: 0.8 | AQ65: 0.1875 | AR65: 0.7241 | AS65: 0.2813 | AT65: 1 | AU65: No | AV65: No | AW65: 1 | AX65: 1 | AY65: 1 | AZ65: 0.1429 | BA65: 0.7143 | BB65: 0.7143 | BC65: 2 | BD65: 2 | BE65: 2 | BF65: 2 | BG65: 2 | BH65: 2 | BI65: 2 | BJ65: 2 | BK65: 2 | BL65: 3 | BM65: 0.5238 | BN65: 0.7333 | BO65: 0 | BP65: 0.1579 | BQ65: 0.1364 | BR65: 0.5 | BS65: 0.0667 | BT65: 0.0789 | BU65: 0 | BV65: 0.1316 | BW65: 0.0909 | BX65: 0 | BY65: 0.0667 | BZ65: 0.0526 | CA65: 3 | CB65: 0.6912 | CC65: 0.7208 | CD65: 3 | CE65: 1 | CF65: 1 | CG65: 2 | CH65: 0.1368 | CI65: 0.1155 | CJ65: 0 | CK65: 0.19 | CL65: 0.16 | CM65: 1 | CN65: 40 | CO65: Needs Assistance
A66: SC Department of Juvenile Justice | B66: 220 Executive Center Drive | C66: Columbia | D66: SC | E66: 29210 | F66: 1 | G66: 0 | H66: NA | I66: 0.7368 | J66: 0.3846 | K66: NA | L66: 0.6667 | M66: 0.3171 | N66: NA | O66: 0.0714 | P66: 0.8 | Q66: NA | R66: 0 | S66: 0.1538 | T66: NA | U66: 0 | V66: 0 | W66: NA | X66: 0 | Y66: 0 | Z66: NA | AA66: 0.1536 | AB66: -0.15 | AC66: NA | AD66: 0 | AE66: 0.028 | AF66: No | AG66: No | AH66: 0.0179 | AI66: 0 | AJ66: 0 | AK66: NA | AL66: NA | AM66: NA | AN66: NA | AO66: NA | AP66: NA | AQ66: NA | AR66: NA | AS66: NA | AT66: NA | AU66: No | AV66: No | AW66: NA | AX66: NA | AY66: 1 | AZ66: NA | BA66: NA | BB66: NA | BC66: 2 | BD66: 2 | BE66: 2 | BF66: 2 | BG66: NA | BH66: NA | BI66: 2 | BJ66: 2 | BK66: 2 | BL66: 2 | BM66: 1 | BN66: 0.6667 | BO66: NA | BP66: NA | BQ66: NA | BR66: 0.5 | BS66: 0 | BT66: 0.0714 | BU66: NA | BV66: NA | BW66: NA | BX66: 0 | BY66: 0 | BZ66: 0 | CA66: 1 | CB66: 0.0172 | CC66: 0.0179 | CD66: NA | CE66: NA | CF66: NA | CG66: 3 | CH66: NA | CI66: 0 | CJ66: 1 | CK66: NA | CL66: 0.018 | CM66: 0 | CN66: 30 | CO66: Needs Assistance
A67: SC Governor's School for Agriculture at John de la Howe | B67: 192 Gettys Road | C67: McCormick | D67: SC | E67: 29835 | F67: NA | G67: NA | H67: 0 | I67: 0 | J67: 0 | K67: 0 | L67: 0 | M67: 0 | N67: 0 | O67: 0 | P67: 0 | Q67: 0 | R67: 0 | S67: 0 | T67: 0 | U67: 0 | V67: 0 | W67: 0 | X67: 0 | Y67: 0 | Z67: 0 | AA67: 0 | AB67: 0 | AC67: 0 | AD67: 0 | AE67: 0 | AF67: No | AG67: NA | AH67: 1 | AI67: 0 | AJ67: 0 | AK67: NA | AL67: NA | AM67: NA | AN67: NA | AO67: NA | AP67: NA | AQ67: NA | AR67: NA | AS67: NA | AT67: NA | AU67: No | AV67: NA | AW67: NA | AX67: NA | AY67: NA | AZ67: 1 | BA67: 1 | BB67: 1 | BC67: 2 | BD67: 2 | BE67: NA | BF67: 2 | BG67: NA | BH67: NA | BI67: NA | BJ67: 2 | BK67: NA | BL67: 3 | BM67: NA | BN67: 1 | BO67: NA | BP67: NA | BQ67: NA | BR67: NA | BS67: NA | BT67: NA | BU67: NA | BV67: NA | BW67: NA | BX67: NA | BY67: NA | BZ67: NA | CA67: 3 | CB67: 1 | CC67: 1 | CD67: NA | CE67: NA | CF67: NA | CG67: 3 | CH67: NA | CI67: 0 | CJ67: 3 | CK67: 1 | CL67: 1 | CM67: 1 | CN67: 21 | CO67: Meets Requirement
A68: SC Governor's School for Science and Mathematics | B68: 401 Railroad Avenue | C68: Hartsville | D68: SC | E68: 29550 | F68: NA | G68: NA | H68: 0 | I68: 0 | J68: 0 | K68: 0 | L68: 0 | M68: 0 | N68: 0 | O68: 0 | P68: 0 | Q68: 0 | R68: 0 | S68: 0 | T68: 0 | U68: 0 | V68: 0 | W68: 0 | X68: 0 | Y68: 0 | Z68: 0 | AA68: 0 | AB68: 0 | AC68: 0 | AD68: 0 | AE68: 0 | AF68: No | AG68: NA | AH68: NA | AI68: NA | AJ68: NA | AK68: NA | AL68: NA | AM68: NA | AN68: NA | AO68: NA | AP68: NA | AQ68: NA | AR68: NA | AS68: NA | AT68: NA | AU68: No | AV68: NA | AW68: NA | AX68: NA | AY68: NA | AZ68: NA | BA68: NA | BB68: NA | BC68: 2 | BD68: 2 | BE68: NA | BF68: 2 | BG68: NA | BH68: NA | BI68: NA | BJ68: 2 | BK68: NA | BL68: NA | BM68: NA | BN68: NA | BO68: NA | BP68: NA | BQ68: NA | BR68: NA | BS68: NA | BT68: NA | BU68: NA | BV68: NA | BW68: NA | BX68: NA | BY68: NA | BZ68: NA | CA68: NA | CB68: 1 | CC68: NA | CD68: NA | CE68: NA | CF68: NA | CG68: NA | CH68: NA | CI68: NA | CJ68: 0 | CK68: 1 | CL68: 0 | CM68: 0 | CN68: 12 | CO68: Needs Assistance
A69: SC Governor's School For The Arts and Humanities | B69: 15 University Street | C69: Greenville | D69: SC | E69: 29601 | F69: NA | G69: NA | H69: 0 | I69: 0 | J69: 0 | K69: 0 | L69: 0 | M69: 0 | N69: 0 | O69: 0 | P69: 0 | Q69: 0 | R69: 0 | S69: 0 | T69: 0 | U69: 0 | V69: 0 | W69: 0 | X69: 0 | Y69: 0 | Z69: 0 | AA69: 0 | AB69: 0 | AC69: 0 | AD69: 0 | AE69: 0 | AF69: No | AG69: NA | AH69: NA | AI69: NA | AJ69: NA | AK69: NA | AL69: NA | AM69: NA | AN69: NA | AO69: NA | AP69: NA | AQ69: NA | AR69: NA | AS69: NA | AT69: NA | AU69: No | AV69: NA | AW69: NA | AX69: NA | AY69: 1 | AZ69: NA | BA69: NA | BB69: NA | BC69: 2 | BD69: 2 | BE69: 2 | BF69: 2 | BG69: NA | BH69: NA | BI69: NA | BJ69: 2 | BK69: NA | BL69: NA | BM69: NA | BN69: NA | BO69: NA | BP69: NA | BQ69: NA | BR69: NA | BS69: NA | BT69: NA | BU69: NA | BV69: NA | BW69: NA | BX69: NA | BY69: NA | BZ69: NA | CA69: NA | CB69: NA | CC69: NA | CD69: NA | CE69: NA | CF69: NA | CG69: NA | CH69: NA | CI69: NA | CJ69: 3 | CK69: 0.417 | CL69: 1 | CM69: 0 | CN69: 14 | CO69: Meets Requirement
A70: SC Public Charter | B70: 1824 Barnwell Street | C70: Columbia | D70: SC | E70: 29201 | F70: 0.6311 | G70: 0.3204 | H70: 0.9945 | I70: 1 | J70: 0.9396 | K70: 1 | L70: 0.9939 | M70: 0.9107 | N70: 0.3408 | O70: 0.1801 | P70: 0.6571 | Q70: 0.2167 | R70: 0.0625 | S70: 0.4052 | T70: 1 | U70: 1 | V70: 0 | W70: 0 | X70: 1 | Y70: 0 | Z70: 0.2594 | AA70: 0.4326 | AB70: 0.2363 | AC70: 0.2461 | AD70: 0.296 | AE70: 0.2195 | AF70: No | AG70: No | AH70: 0.8438 | AI70: 0.0198 | AJ70: 0.0259 | AK70: 0.1489 | AL70: 0.8511 | AM70: 0 | AN70: 0.5217 | AO70: 0.3077 | AP70: 0.6667 | AQ70: 0.3462 | AR70: 0.5263 | AS70: 0.3077 | AT70: 0.9333 | AU70: No | AV70: No | AW70: 0.9686 | AX70: 1 | AY70: 0.7222 | AZ70: 0.4783 | BA70: 0.8696 | BB70: 0.913 | BC70: 2 | BD70: 2 | BE70: 2 | BF70: 2 | BG70: 1 | BH70: 2 | BI70: 2 | BJ70: 2 | BK70: 2 | BL70: 2 | BM70: 0.6311 | BN70: 0.6316 | BO70: 1.5 | BP70: 0.2164 | BQ70: 0.3481 | BR70: 1.5 | BS70: 0.1382 | BT70: 0.1902 | BU70: 1 | BV70: 0.1579 | BW70: 0.2143 | BX70: 1 | BY70: 0.0519 | BZ70: 0.0741 | CA70: 3 | CB70: 0.843 | CC70: 0.8438 | CD70: 3 | CE70: NA | CF70: 1 | CG70: 2 | CH70: 0.117 | CI70: 0.1252 | CJ70: 1 | CK70: 0.188 | CL70: 0.217 | CM70: 0 | CN70: 40 | CO70: Meets Requirement
A71: SC School of Deaf and Blind | B71: 355 Cedar Springs Road | C71: Spartanburg | D71: SC | E71: 29302 | F71: 0.3333 | G71: 0.0476 | H71: 1 | I71: 1 | J71: 1 | K71: 1 | L71: 1 | M71: 1 | N71: 0.1111 | O71: 0.1818 | P71: 0.1333 | Q71: 0 | R71: 0 | S71: 0.0769 | T71: 1 | U71: 0.5 | V71: 0.5 | W71: 0 | X71: 0.25 | Y71: 0.25 | Z71: 0 | AA71: 0 | AB71: 0 | AC71: 0 | AD71: 0 | AE71: 0 | AF71: No | AG71: NA | AH71: 0 | AI71: 0 | AJ71: 1 | AK71: 0 | AL71: 1 | AM71: 0 | AN71: 0.8 | AO71: 0.4 | AP71: 0.8 | AQ71: 0.4 | AR71: 1 | AS71: 0.8 | AT71: 0.875 | AU71: No | AV71: NA | AW71: NA | AX71: NA | AY71: 1 | AZ71: 0.3125 | BA71: 0.375 | BB71: 0.5 | BC71: 2 | BD71: 2 | BE71: 2 | BF71: 2 | BG71: NA | BH71: NA | BI71: NA | BJ71: 2 | BK71: NA | BL71: 1 | BM71: 0.3333 | BN71: 0.5455 | BO71: 0.5 | BP71: 0.1667 | BQ71: 0.2 | BR71: 1.5 | BS71: 0.3571 | BT71: 0.2667 | BU71: 0 | BV71: 0.1667 | BW71: 0 | BX71: 0 | BY71: 0.0714 | BZ71: 0.0667 | CA71: 0 | CB71: 0 | CC71: 0 | CD71: 3 | CE71: 1 | CF71: 1 | CG71: 3 | CH71: 0.0349 | CI71: 0.0311 | CJ71: 3 | CK71: 0.071 | CL71: 0.45 | CM71: 1 | CN71: 32 | CO71: Needs Assistance
A72: Spartanburg 1 | B72: P.O. Box 218 | C72: Campobello | D72: SC | E72: 29322 | F72: 0.4231 | G72: 0.2308 | H72: 1 | I72: 1 | J72: 1 | K72: 1 | L72: 1 | M72: 1 | N72: 0.2203 | O72: 0.1522 | P72: 0.5 | Q72: 0.2373 | R72: 0.0217 | S72: 0.5405 | T72: 0 | U72: 0.5 | V72: 0 | W72: 0 | X72: 0 | Y72: 0.4 | Z72: 0.343 | AA72: 0.3924 | AB72: 0.3578 | AC72: 0.2856 | AD72: 0.3619 | AE72: 0.0325 | AF72: No | AG72: No | AH72: 0.6531 | AI72: 0.1205 | AJ72: 0.0179 | AK72: 0.5106 | AL72: 0.0213 | AM72: 0.1064 | AN72: 0.9211 | AO72: 0.6667 | AP72: 0.8936 | AQ72: 0.7222 | AR72: 0.8913 | AS72: 0.7407 | AT72: 1 | AU72: No | AV72: No | AW72: 0.9932 | AX72: 1 | AY72: 1 | AZ72: 0.1667 | BA72: 0.8333 | BB72: 0.8333 | BC72: 2 | BD72: 2 | BE72: 2 | BF72: 2 | BG72: 1 | BH72: 2 | BI72: 2 | BJ72: 2 | BK72: 2 | BL72: 3 | BM72: 0.4231 | BN72: 0.7632 | BO72: 0 | BP72: 0.2264 | BQ72: 0.2167 | BR72: 1.5 | BS72: 0.1351 | BT72: 0.1667 | BU72: 1.5 | BV72: 0.2264 | BW72: 0.2333 | BX72: 0 | BY72: 0.1538 | BZ72: 0.0208 | CA72: 2 | CB72: 0.6448 | CC72: 0.6531 | CD72: 3 | CE72: 1 | CF72: 1 | CG72: 2 | CH72: 0.1095 | CI72: 0.1346 | CJ72: 2 | CK72: 0.275 | CL72: 0.327 | CM72: 0 | CN72: 40 | CO72: Meets Requirement
A73: Spartanburg 2 | B73: 3231 Old Furnace Road | C73: Chesnee | D73: SC | E73: 29323 | F73: 0.7368 | G73: 0.0877 | H73: 0.9947 | I73: 1 | J73: 0.9417 | K73: 0.9947 | L73: 1 | M73: 0.9434 | N73: 0.2626 | O73: 0.1983 | P73: 0.5158 | Q73: 0.2961 | R73: 0.1293 | S73: 0.5778 | T73: 0.2 | U73: 0.3 | V73: 0 | W73: 0.3 | X73: 0.3 | Y73: 0.1 | Z73: 0.3834 | AA73: 0.4108 | AB73: 0.3716 | AC73: 0.3216 | AD73: 0.2623 | AE73: 0.2305 | AF73: No | AG73: No | AH73: 0.7057 | AI73: 0.1629 | AJ73: 0.0077 | AK73: 0.5169 | AL73: 0.191 | AM73: 0.1685 | AN73: 0.8723 | AO73: 0.5 | AP73: 0.8958 | AQ73: 0.5357 | AR73: 0.9024 | AS73: 0.6071 | AT73: 0.8571 | AU73: No | AV73: No | AW73: 1 | AX73: 0.9355 | AY73: 1 | AZ73: 0.25 | BA73: 0.7 | BB73: 0.75 | BC73: 2 | BD73: 2 | BE73: 2 | BF73: 2 | BG73: 2 | BH73: 1 | BI73: 2 | BJ73: 2 | BK73: 2 | BL73: 0 | BM73: 0.7368 | BN73: 0.4457 | BO73: 1.5 | BP73: 0.1757 | BQ73: 0.2593 | BR73: 1.5 | BS73: 0.087 | BT73: 0.2063 | BU73: 1.5 | BV73: 0.1497 | BW73: 0.2963 | BX73: 1.5 | BY73: 0.0609 | BZ73: 0.1429 | CA73: 3 | CB73: 0.7153 | CC73: 0.7057 | CD73: 3 | CE73: 1 | CF73: 1 | CG73: 2 | CH73: 0.1212 | CI73: 0.1016 | CJ73: 2 | CK73: 0.372 | CL73: 0.324 | CM73: 0 | CN73: 40 | CO73: Meets Requirement
A74: Spartanburg 3 | B74: P.O. Box 267 | C74: Glendale | D74: SC | E74: 29346 | F74: 0.6087 | G74: 0.1739 | H74: 1 | I74: 1 | J74: 1 | K74: 1 | L74: 1 | M74: 1 | N74: 0.0889 | O74: 0.15 | P74: 0.5588 | Q74: 0.1111 | R74: 0.05 | S74: 0.3571 | T74: 0 | U74: 0 | V74: 0 | W74: 0 | X74: 0 | Y74: 0 | Z74: 0.4015 | AA74: 0.4225 | AB74: 0.2793 | AC74: 0.3841 | AD74: 0.2973 | AE74: 0.2899 | AF74: No | AG74: No | AH74: 0.6976 | AI74: 0.0976 | AJ74: 0.0143 | AK74: 0.2857 | AL74: 0.7143 | AM74: 0 | AN74: 0.8571 | AO74: 0.4375 | AP74: 0.7692 | AQ74: 0.4375 | AR74: 0.8889 | AS74: 0.625 | AT74: 1 | AU74: No | AV74: No | AW74: 1 | AX74: 1 | AY74: 1 | AZ74: 0 | BA74: 0.7692 | BB74: 0.7692 | BC74: 2 | BD74: 2 | BE74: 2 | BF74: 2 | BG74: 2 | BH74: 2 | BI74: 2 | BJ74: 2 | BK74: 2 | BL74: 2 | BM74: 0.6087 | BN74: 0.6429 | BO74: 0 | BP74: 0.2222 | BQ74: 0.0889 | BR74: 1.5 | BS74: 0.0909 | BT74: 0.15 | BU74: 0 | BV74: 0.1852 | BW74: 0.1111 | BX74: 0 | BY74: 0.0606 | BZ74: 0.05 | CA74: 2 | CB74: 0.693 | CC74: 0.6976 | CD74: 3 | CE74: 1 | CF74: 1 | CG74: 0 | CH74: 0.1594 | CI74: 0.1723 | CJ74: 0 | CK74: 0.313 | CL74: 0.235 | CM74: 1 | CN74: 40 | CO74: Needs Assistance
A75: Spartanburg 4 | B75: 118 McEdco Road | C75: Woodruff | D75: SC | E75: 29388 | F75: 0.3636 | G75: 0.6364 | H75: 0.9811 | I75: 1 | J75: 1 | K75: 0.9811 | L75: 1 | M75: 0.9643 | N75: 0.22 | O75: 0.0625 | P75: 0.3846 | Q75: 0.34 | R75: 0 | S75: 0.24 | T75: 0.5 | U75: 0 | V75: 0 | W75: 0.5 | X75: 0 | Y75: 0 | Z75: 0.4467 | AA75: 0.4694 | AB75: 0.4933 | AC75: 0.3943 | AD75: 0.3617 | AE75: 0.3859 | AF75: No | AG75: No | AH75: 0.5882 | AI75: 0.2328 | AJ75: 0.0196 | AK75: 0.4231 | AL75: 0.3846 | AM75: 0 | AN75: 1 | AO75: 0.0909 | AP75: 1 | AQ75: 0.2727 | AR75: 1 | AS75: 0.4545 | AT75: 1 | AU75: No | AV75: No | AW75: 1 | AX75: 1 | AY75: 1 | AZ75: 0 | BA75: 1 | BB75: 1 | BC75: 2 | BD75: 2 | BE75: 2 | BF75: 2 | BG75: 2 | BH75: 2 | BI75: 2 | BJ75: 2 | BK75: 2 | BL75: 1 | BM75: 0.3636 | BN75: 0.5263 | BO75: 1 | BP75: 0.2105 | BQ75: 0.2308 | BR75: 0.5 | BS75: 0.0303 | BT75: 0.0588 | BU75: 1.5 | BV75: 0.2807 | BW75: 0.3462 | BX75: 0 | BY75: 0.0606 | BZ75: 0 | CA75: 1 | CB75: 0.5795 | CC75: 0.5882 | CD75: 3 | CE75: 1 | CF75: 1 | CG75: 2 | CH75: 0.2145 | CI75: 0.1475 | CJ75: 3 | CK75: 0.346 | CL75: 0.417 | CM75: 0 | CN75: 40 | CO75: Meets Requirement
A76: Spartanburg 5 | B76: P.O. Box 307 | C76: Duncan | D76: SC | E76: 29334 | F76: 0.7113 | G76: 0.2062 | H76: 1 | I76: 0.9789 | J76: 0.8917 | K76: 1 | L76: 0.9789 | M76: 0.9608 | N76: 0.2138 | O76: 0.1889 | P76: 0.5096 | Q76: 0.2153 | R76: 0.1222 | S76: 0.2316 | T76: 1 | U76: 0 | V76: 0 | W76: 1 | X76: 0 | Y76: 0.3333 | Z76: 0.386 | AA76: 0.3807 | AB76: 0.333 | AC76: 0.3177 | AD76: 0.3185 | AE76: 0.4183 | AF76: No | AG76: No | AH76: 0.7526 | AI76: 0.1172 | AJ76: 0.0117 | AK76: 0.2167 | AL76: 0.125 | AM76: 0.0083 | AN76: 0.8873 | AO76: 0.5128 | AP76: 0.7692 | AQ76: 0.6154 | AR76: 0.8254 | AS76: 0.6538 | AT76: 0.75 | AU76: No | AV76: No | AW76: 1 | AX76: 1 | AY76: 0.8571 | AZ76: 0.2778 | BA76: 0.8611 | BB76: 0.8611 | BC76: 2 | BD76: 2 | BE76: 1 | BF76: 2 | BG76: 2 | BH76: 2 | BI76: 2 | BJ76: 2 | BK76: 2 | BL76: 2 | BM76: 0.7113 | BN76: 0.6602 | BO76: 0.5 | BP76: 0.2132 | BQ76: 0.2192 | BR76: 1.5 | BS76: 0.0727 | BT76: 0.1828 | BU76: 1.5 | BV76: 0.2074 | BW76: 0.2207 | BX76: 1.5 | BY76: 0.0545 | BZ76: 0.1183 | CA76: 3 | CB76: 0.7747 | CC76: 0.7526 | CD76: 3 | CE76: 1 | CF76: 1 | CG76: 2 | CH76: 0.138 | CI76: 0.14 | CJ76: 0 | CK76: 0.28 | CL76: 0.277 | CM76: 1 | CN76: 40 | CO76: Meets Requirement
A77: Spartanburg 6 | B77: 1390 Cavalier Way | C77: Roebuck | D77: SC | E77: 29376 | F77: 0.6456 | G77: 0.2658 | H77: 0.9944 | I77: 0.9259 | J77: 0.9085 | K77: 1 | L77: 0.9259 | M77: 0.905 | N77: 0.1886 | O77: 0.1168 | P77: 0.3932 | Q77: 0.1364 | R77: 0.0292 | S77: 0.2941 | T77: 0.25 | U77: 0.0769 | V77: 0.5833 | W77: 0.25 | X77: 0.3077 | Y77: 0.4444 | Z77: 0.3381 | AA77: 0.3879 | AB77: 0.4184 | AC77: 0.3254 | AD77: 0.2273 | AE77: 0.3696 | AF77: No | AG77: No | AH77: 0.7183 | AI77: 0.1698 | AJ77: 0.0206 | AK77: 0.8571 | AL77: 0.0982 | AM77: 0 | AN77: 0.9535 | AO77: 0.5417 | AP77: 0.8378 | AQ77: 0.6458 | AR77: 0.8 | AS77: 0.6458 | AT77: 1 | AU77: No | AV77: No | AW77: 1 | AX77: 1 | AY77: 1 | AZ77: 0.2 | BA77: 0.55 | BB77: 0.65 | BC77: 2 | BD77: 2 | BE77: 2 | BF77: 2 | BG77: 2 | BH77: 2 | BI77: 2 | BJ77: 2 | BK77: 2 | BL77: 0 | BM77: 0.6456 | BN77: 0.5 | BO77: 0.5 | BP77: 0.1407 | BQ77: 0.1899 | BR77: 0.5 | BS77: 0.0541 | BT77: 0.1133 | BU77: 0.5 | BV77: 0.132 | BW77: 0.1389 | BX77: 0.5 | BY77: 0.0338 | BZ77: 0.0533 | CA77: 3 | CB77: 0.6998 | CC77: 0.7183 | CD77: 3 | CE77: 1 | CF77: 1 | CG77: 0 | CH77: 0.1581 | CI77: 0.1849 | CJ77: 0 | CK77: 0.287 | CL77: 0.229 | CM77: 0 | CN77: 40 | CO77: Needs Assistance
A78: Spartanburg 7 | B78: P.O. Box 970 | C78: Spartanburg | D78: SC | E78: 29304 | F78: 0.5091 | G78: 0.2545 | H78: 1 | I78: 0.9889 | J78: 0.9859 | K78: 0.9913 | L78: 0.9778 | M78: 0.987 | N78: 0.1682 | O78: 0.1294 | P78: 0.5161 | Q78: 0.0755 | R78: 0.0238 | S78: 0.2113 | T78: 0.125 | U78: 0.5 | V78: 0.125 | W78: 0.375 | X78: 0.5 | Y78: 0.2 | Z78: 0.3609 | AA78: 0.34 | AB78: 0.2897 | AC78: 0.3121 | AD78: 0.2441 | AE78: 0.3681 | AF78: No | AG78: No | AH78: 0.6234 | AI78: 0.2347 | AJ78: 0.0102 | AK78: 0.7667 | AL78: 0.15 | AM78: 0 | AN78: 0.7174 | AO78: 0.3265 | AP78: 0.7111 | AQ78: 0.3469 | AR78: 0.6889 | AS78: 0.4286 | AT78: 0.9412 | AU78: No | AV78: No | AW78: 1 | AX78: 1 | AY78: 1 | AZ78: 0.3478 | BA78: 0.7391 | BB78: 0.8261 | BC78: 2 | BD78: 2 | BE78: 2 | BF78: 2 | BG78: 2 | BH78: 2 | BI78: 2 | BJ78: 2 | BK78: 2 | BL78: 0 | BM78: 0.5091 | BN78: 0.5 | BO78: 0.5 | BP78: 0.1277 | BQ78: 0.1652 | BR78: 1 | BS78: 0.061 | BT78: 0.1461 | BU78: 0 | BV78: 0.1474 | BW78: 0.0965 | BX78: 0 | BY78: 0.0732 | BZ78: 0.0455 | CA78: 0 | CB78: 0.6256 | CC78: 0.6234 | CD78: 3 | CE78: 1 | CF78: 1 | CG78: 0 | CH78: 0.215 | CI78: 0.2636 | CJ78: 0 | CK78: 0.167 | CL78: 0.134 | CM78: 1 | CN78: 40 | CO78: Needs Assistance
A79: Sumter | B79: P.O. Box 2039 | C79: Sumter | D79: SC | E79: 29151 | F79: 0.4286 | G79: 0.5342 | H79: 0.9692 | I79: 0.9645 | J79: 0.9255 | K79: 0.9795 | L79: 0.9822 | M79: 0.849 | N79: 0.1193 | O79: 0.0867 | P79: 0.3375 | Q79: 0.0899 | R79: 0.0065 | S79: 0.0928 | T79: 0.3077 | U79: 0.3077 | V79: 0.5714 | W79: 0.5385 | X79: 0.3846 | Y79: 0.2857 | Z79: 0.2936 | AA79: 0.3137 | AB79: 0.4024 | AC79: 0.1823 | AD79: 0.1697 | AE79: 0.1765 | AF79: No | AG79: No | AH79: 0.4581 | AI79: 0.116 | AJ79: 0.0132 | AK79: 0.0168 | AL79: 0.8403 | AM79: 0 | AN79: 0.8727 | AO79: 0.381 | AP79: 0.8966 | AQ79: 0.3968 | AR79: 0.8542 | AS79: 0.619 | AT79: 1 | AU79: No | AV79: No | AW79: 1 | AX79: 1 | AY79: 1 | AZ79: 0.1463 | BA79: 0.561 | BB79: 0.6585 | BC79: 2 | BD79: 1 | BE79: 2 | BF79: 2 | BG79: 2 | BH79: 2 | BI79: 2 | BJ79: 2 | BK79: 2 | BL79: 1 | BM79: 0.4286 | BN79: 0.4503 | BO79: 0.5 | BP79: 0.1056 | BQ79: 0.1323 | BR79: 0.5 | BS79: 0.0795 | BT79: 0.1043 | BU79: 0.5 | BV79: 0.0782 | BW79: 0.1204 | BX79: 0.5 | BY79: 0.0222 | BZ79: 0.0361 | CA79: 0 | CB79: 0.4588 | CC79: 0.4581 | CD79: 3 | CE79: 1 | CF79: 1 | CG79: 0 | CH79: 0.2158 | CI79: 0.265 | CJ79: 0 | CK79: 0.127 | CL79: 0.12 | CM79: 0 | CN79: 40 | CO79: Needs Assistance
A80: Union | B80: P.O. Box 907 | C80: Union | D80: SC | E80: 29379 | F80: 0.3667 | G80: 0.5333 | H80: 1 | I80: 1 | J80: 0.98 | K80: 1 | L80: 1 | M80: 0.9608 | N80: 0.1282 | O80: 0.0556 | P80: 0.5106 | Q80: 0.1154 | R80: 0.0556 | S80: 0.2667 | T80: 0.5 | U80: 0 | V80: 0.5 | W80: 0.5 | X80: 0.4 | Y80: 0.5 | Z80: 0.2594 | AA80: 0.3849 | AB80: 0.2606 | AC80: 0.2296 | AD80: 0.1972 | AE80: 0.1381 | AF80: Yes | AG80: No | AH80: 0.785 | AI80: 0.1451 | AJ80: 0.0066 | AK80: 0.3934 | AL80: 0.5574 | AM80: 0 | AN80: 0.9355 | AO80: 0.75 | AP80: 1 | AQ80: 0.7778 | AR80: 0.9677 | AS80: 0.8889 | AT80: 1 | AU80: No | AV80: No | AW80: 1 | AX80: 1 | AY80: 1 | AZ80: 0.0625 | BA80: 0.75 | BB80: 0.75 | BC80: 2 | BD80: 2 | BE80: 2 | BF80: 2 | BG80: 2 | BH80: 2 | BI80: 2 | BJ80: 2 | BK80: 2 | BL80: 1 | BM80: 0.3667 | BN80: 0.4651 | BO80: 0 | BP80: 0.1772 | BQ80: 0.1375 | BR80: 0 | BS80: 0.1091 | BT80: 0.0488 | BU80: 0 | BV80: 0.1392 | BW80: 0.125 | BX80: 1 | BY80: 0.0909 | BZ80: 0.0976 | CA80: 3 | CB80: 0.7972 | CC80: 0.785 | CD80: 3 | CE80: 1 | CF80: 1 | CG80: 1 | CH80: 0.2607 | CI80: 0.243 | CJ80: 0 | CK80: 0.225 | CL80: 0.143 | CM80: 0 | CN80: 40 | CO80: Needs Assistance
A81: Williamsburg | B81: 500 North Academy Street | C81: Kingstree | D81: SC | E81: 29556 | F81: 0.8667 | G81: 0.0333 | H81: 0.9697 | I81: 0.9688 | J81: 0.875 | K81: 0.9697 | L81: 0.9688 | M81: 0.8462 | N81: 0.0667 | O81: 0.1034 | P81: 0.5 | Q81: 0.0333 | R81: 0 | S81: 0.1333 | T81: 0 | U81: 0 | V81: 0.3333 | W81: 0.5 | X81: 0 | Y81: 1 | Z81: 0.2843 | AA81: 0.2685 | AB81: 0.3545 | AC81: 0.2071 | AD81: 0.1353 | AE81: 0.3239 | AF81: No | AG81: No | AH81: 0.5437 | AI81: 0.1194 | AJ81: 0.0448 | AK81: 0.7222 | AL81: 0.0556 | AM81: 0 | AN81: 0.8889 | AO81: 0.6364 | AP81: 1 | AQ81: 0.7273 | AR81: 1 | AS81: 0.7273 | AT81: 1 | AU81: No | AV81: No | AW81: 1 | AX81: 1 | AY81: 1 | AZ81: 0.2632 | BA81: 0.9211 | BB81: 0.9211 | BC81: 2 | BD81: 2 | BE81: 2 | BF81: 1 | BG81: 2 | BH81: 2 | BI81: 2 | BJ81: 2 | BK81: 2 | BL81: 2 | BM81: 0.8667 | BN81: 0.625 | BO81: 0 | BP81: 0.1176 | BQ81: 0.0625 | BR81: 0 | BS81: 0.1569 | BT81: 0.0968 | BU81: 0 | BV81: 0.0882 | BW81: 0.0625 | BX81: 0 | BY81: 0.0588 | BZ81: 0 | CA81: 0 | CB81: 0.5768 | CC81: 0.5437 | CD81: 3 | CE81: 1 | CF81: 1 | CG81: 3 | CH81: 0.1205 | CI81: 0.0678 | CJ81: 1 | CK81: 0.125 | CL81: 0.207 | CM81: 1 | CN81: 40 | CO81: Needs Assistance
A82: York 1 | B82: P.O. Box 770 | C82: York | D82: SC | E82: 29745 | F82: 0.5283 | G82: 0.3962 | H82: 1 | I82: 0.9639 | J82: 0.9552 | K82: 1 | L82: 0.9759 | M82: 0.9545 | N82: 0.1505 | O82: 0.16 | P82: 0.3333 | Q82: 0.1075 | R82: 0.0658 | S82: 0.1017 | T82: 1 | U82: 0.2 | V82: 0.25 | W82: 1 | X82: 0.4 | Y82: 0 | Z82: 0.3439 | AA82: 0.3116 | AB82: 0.4724 | AC82: 0.282 | AD82: 0.149 | AE82: 0.2644 | AF82: No | AG82: No | AH82: 0.6092 | AI82: 0.1282 | AJ82: 0.0092 | AK82: 0.2917 | AL82: 0.6042 | AM82: 0.0208 | AN82: 0.8947 | AO82: 0.5714 | AP82: 0.8947 | AQ82: 0.4286 | AR82: 0.8 | AS82: 0.6667 | AT82: 1 | AU82: No | AV82: No | AW82: 0.9954 | AX82: 1 | AY82: 1 | AZ82: 0.0588 | BA82: 0.5882 | BB82: 0.5882 | BC82: 2 | BD82: 2 | BE82: 2 | BF82: 2 | BG82: 1 | BH82: 2 | BI82: 2 | BJ82: 2 | BK82: 2 | BL82: 0 | BM82: 0.5283 | BN82: 0.4 | BO82: 0.5 | BP82: 0.068 | BQ82: 0.1684 | BR82: 1.5 | BS82: 0.1383 | BT82: 0.1625 | BU82: 0.5 | BV82: 0.1068 | BW82: 0.1263 | BX82: 1 | BY82: 0.0632 | BZ82: 0.0864 | CA82: 0 | CB82: 0.6439 | CC82: 0.6092 | CD82: 3 | CE82: 1 | CF82: 1 | CG82: 2 | CH82: 0.1607 | CI82: 0.1505 | CJ82: 0 | CK82: 0.259 | CL82: 0.245 | CM82: 0 | CN82: 40 | CO82: Needs Assistance
A83: York 2 | B83: 604 Bethel Street | C83: Clover | D83: SC | E83: 29710 | F83: 0.561 | G83: 0.2927 | H83: 0.98 | I83: 1 | J83: 0.9726 | K83: 0.99 | L83: 1 | M83: 0.95 | N83: 0.3043 | O83: 0.1692 | P83: 0.7031 | Q83: 0.2796 | R83: 0.1385 | S83: 0.54 | T83: 0.3333 | U83: 0 | V83: 0.5714 | W83: 0.5 | X83: 0 | Y83: 0.2857 | Z83: 0.4362 | AA83: 0.4701 | AB83: 0.2328 | AC83: 0.4281 | AD83: 0.3989 | AE83: 0.263 | AF83: No | AG83: No | AH83: 0.7347 | AI83: 0.1226 | AJ83: 0.002 | AK83: 0.5658 | AL83: 0.1053 | AM83: 0 | AN83: 0.92 | AO83: 0.6078 | AP83: 0.9592 | AQ83: 0.6667 | AR83: 0.9574 | AS83: 0.6667 | AT83: 0.9655 | AU83: No | AV83: Yes | AW83: 1 | AX83: 1 | AY83: 1 | AZ83: 0.2857 | BA83: 0.5 | BB83: 0.5 | BC83: 2 | BD83: 2 | BE83: 2 | BF83: 2 | BG83: 2 | BH83: 2 | BI83: 2 | BJ83: 2 | BK83: 1 | BL83: 2 | BM83: 0.561 | BN83: 0.62 | BO83: 1.5 | BP83: 0.2593 | BQ83: 0.3061 | BR83: 1.5 | BS83: 0.0147 | BT83: 0.1667 | BU83: 1.5 | BV83: 0.2617 | BW83: 0.2929 | BX83: 1.5 | BY83: 0.1176 | BZ83: 0.1364 | CA83: 3 | CB83: 0.7446 | CC83: 0.7347 | CD83: 3 | CE83: 1 | CF83: 1 | CG83: 3 | CH83: 0.0762 | CI83: 0.0896 | CJ83: 2 | CK83: 0.435 | CL83: 0.333 | CM83: 0 | CN83: 40 | CO83: Meets Requirement
... A85: York 4 | B85: 2233 Deerfield Drive | C85: Fort Mill | D85: SC | E85: 29715 | F85: 0.9281 | G85: 0.0359 | H85: 0.9947 | I85: 0.9863 | J85: 0.9932 | K85: 0.9947 | L85: 0.9863 | M85: 0.9924 | N85: 0.4438 | O85: 0.209 | P85: 0.7687 | Q85: 0.3491 | R85: 0.1791 | S85: 0.5042 | T85: 0.4444 | U85: 0.3 | V85: 0.6154 | W85: 0.5 | X85: 0.4 | Y85: 0.25 | Z85: 0.3557 | AA85: 0.5596 | AB85: 0.188 | AC85: 0.3719 | AD85: 0.4515 | AE85: 0.324 | AF85: No | AG85: No | AH85: 0.7307 | AI85: 0.1507 | AJ85: 0.0065 | AK85: 0.1667 | AL85: 0.5694 | AM85: 0 | AN85: 0.875 | AO85: 0.4875 | AP85: 0.8684 | AQ85: 0.5 | AR85: 0.9412 | AS85: 0.675 | AT85: 0.971 | AU85: No | AV85: No | AW85: 1 | AX85: 1 | AY85: 1 | AZ85: 0.5085 | BA85: 0.8983 | BB85: 0.9322 | BC85: 2 | BD85: 2 | BE85: 2 | BF85: 2 | BG85: 2 | BH85: 2 | BI85: 2 | BJ85: 2 | BK85: 2 | BL85: 3 | BM85: 0.9281 | BN85: 0.7156 | BO85: 1.5 | BP85: 0.2803 | BQ85: 0.4439 | BR85: 1.5 | BS85: 0.1626 | BT85: 0.2153 | BU85: 1.5 | BV85: 0.2675 | BW85: 0.3636 | BX85: 1.5 | BY85: 0.119 | BZ85: 0.1944 | CA85: 3 | CB85: 0.7242 | CC85: 0.7307 | CD85: 3 | CE85: 1 | CF85: 1 | CG85: 3 | CH85: 0.0852 | CI85: 0.0787 | CJ85: 3 | CK85: 0.349 | CL85: 0.355 | CM85: 1 | CN85: 40 | CO85: Meets Requirement
